BEGIN:VCALENDAR
VERSION:2.0
PRODID:-//The Ace Sports Radio - ECPv6.15.13//NONSGML v1.0//EN
CALSCALE:GREGORIAN
METHOD:PUBLISH
X-WR-CALNAME:The Ace Sports Radio
X-ORIGINAL-URL:https://theacesportsradio.com
X-WR-CALDESC:Events for The Ace Sports Radio
REFRESH-INTERVAL;VALUE=DURATION:PT1H
X-Robots-Tag:noindex
X-PUBLISHED-TTL:PT1H
BEGIN:VTIMEZONE
TZID:America/Los_Angeles
BEGIN:DAYLIGHT
TZOFFSETFROM:-0800
TZOFFSETTO:-0700
TZNAME:PDT
DTSTART:20280312T100000
END:DAYLIGHT
BEGIN:STANDARD
TZOFFSETFROM:-0700
TZOFFSETTO:-0800
TZNAME:PST
DTSTART:20281105T090000
END:STANDARD
BEGIN:DAYLIGHT
TZOFFSETFROM:-0800
TZOFFSETTO:-0700
TZNAME:PDT
DTSTART:20290311T100000
END:DAYLIGHT
BEGIN:STANDARD
TZOFFSETFROM:-0700
TZOFFSETTO:-0800
TZNAME:PST
DTSTART:20291104T090000
END:STANDARD
BEGIN:DAYLIGHT
TZOFFSETFROM:-0800
TZOFFSETTO:-0700
TZNAME:PDT
DTSTART:20300310T100000
END:DAYLIGHT
BEGIN:STANDARD
TZOFFSETFROM:-0700
TZOFFSETTO:-0800
TZNAME:PST
DTSTART:20301103T090000
END:STANDARD
END:VTIMEZONE
BEGIN:VEVENT
DTSTART;TZID=America/Los_Angeles:20290518T130000
DTEND;TZID=America/Los_Angeles:20290518T150000
DTSTAMP:20260423T054221
CREATED:20230709T190806Z
LAST-MODIFIED:20230714T185438Z
UID:10036904-1873803600-1873810800@theacesportsradio.com
SUMMARY:Tee It Up Southern Oregon
DESCRIPTION:
URL:https://theacesportsradio.com/show/tee-it-up-southern-oregon/2029-05-18/
LOCATION:The Ace Sports Radio
ATTACH;FMTTYPE=image/jpeg:https://theacesportsradio.com/wp-content/uploads/2023/07/2023-07_Tee-it-UP-SO-JoeBrett_4-scaled.jpg
END:VEVENT
BEGIN:VEVENT
DTSTART;TZID=America/Los_Angeles:20290521T130000
DTEND;TZID=America/Los_Angeles:20290521T150000
DTSTAMP:20260423T054222
CREATED:20230709T190806Z
LAST-MODIFIED:20230714T185438Z
UID:10036941-1874062800-1874070000@theacesportsradio.com
SUMMARY:Tee It Up Southern Oregon
DESCRIPTION:
URL:https://theacesportsradio.com/show/tee-it-up-southern-oregon/2029-05-21/
LOCATION:The Ace Sports Radio
ATTACH;FMTTYPE=image/jpeg:https://theacesportsradio.com/wp-content/uploads/2023/07/2023-07_Tee-it-UP-SO-JoeBrett_4-scaled.jpg
END:VEVENT
BEGIN:VEVENT
DTSTART;TZID=America/Los_Angeles:20290522T130000
DTEND;TZID=America/Los_Angeles:20290522T150000
DTSTAMP:20260423T054222
CREATED:20230709T190806Z
LAST-MODIFIED:20230714T185438Z
UID:10036942-1874149200-1874156400@theacesportsradio.com
SUMMARY:Tee It Up Southern Oregon
DESCRIPTION:
URL:https://theacesportsradio.com/show/tee-it-up-southern-oregon/2029-05-22/
LOCATION:The Ace Sports Radio
ATTACH;FMTTYPE=image/jpeg:https://theacesportsradio.com/wp-content/uploads/2023/07/2023-07_Tee-it-UP-SO-JoeBrett_4-scaled.jpg
END:VEVENT
BEGIN:VEVENT
DTSTART;TZID=America/Los_Angeles:20290523T130000
DTEND;TZID=America/Los_Angeles:20290523T150000
DTSTAMP:20260423T054222
CREATED:20230709T190806Z
LAST-MODIFIED:20230714T185438Z
UID:10036952-1874235600-1874242800@theacesportsradio.com
SUMMARY:Tee It Up Southern Oregon
DESCRIPTION:
URL:https://theacesportsradio.com/show/tee-it-up-southern-oregon/2029-05-23/
LOCATION:The Ace Sports Radio
ATTACH;FMTTYPE=image/jpeg:https://theacesportsradio.com/wp-content/uploads/2023/07/2023-07_Tee-it-UP-SO-JoeBrett_4-scaled.jpg
END:VEVENT
BEGIN:VEVENT
DTSTART;TZID=America/Los_Angeles:20290524T130000
DTEND;TZID=America/Los_Angeles:20290524T150000
DTSTAMP:20260423T054222
CREATED:20230709T190806Z
LAST-MODIFIED:20230714T185438Z
UID:10036960-1874322000-1874329200@theacesportsradio.com
SUMMARY:Tee It Up Southern Oregon
DESCRIPTION:
URL:https://theacesportsradio.com/show/tee-it-up-southern-oregon/2029-05-24/
LOCATION:The Ace Sports Radio
ATTACH;FMTTYPE=image/jpeg:https://theacesportsradio.com/wp-content/uploads/2023/07/2023-07_Tee-it-UP-SO-JoeBrett_4-scaled.jpg
END:VEVENT
BEGIN:VEVENT
DTSTART;TZID=America/Los_Angeles:20290525T130000
DTEND;TZID=America/Los_Angeles:20290525T150000
DTSTAMP:20260423T054222
CREATED:20230709T190806Z
LAST-MODIFIED:20230714T185438Z
UID:10036968-1874408400-1874415600@theacesportsradio.com
SUMMARY:Tee It Up Southern Oregon
DESCRIPTION:
URL:https://theacesportsradio.com/show/tee-it-up-southern-oregon/2029-05-25/
LOCATION:The Ace Sports Radio
ATTACH;FMTTYPE=image/jpeg:https://theacesportsradio.com/wp-content/uploads/2023/07/2023-07_Tee-it-UP-SO-JoeBrett_4-scaled.jpg
END:VEVENT
BEGIN:VEVENT
DTSTART;TZID=America/Los_Angeles:20290528T130000
DTEND;TZID=America/Los_Angeles:20290528T150000
DTSTAMP:20260423T054222
CREATED:20230709T190806Z
LAST-MODIFIED:20230714T185438Z
UID:10037004-1874667600-1874674800@theacesportsradio.com
SUMMARY:Tee It Up Southern Oregon
DESCRIPTION:
URL:https://theacesportsradio.com/show/tee-it-up-southern-oregon/2029-05-28/
LOCATION:The Ace Sports Radio
ATTACH;FMTTYPE=image/jpeg:https://theacesportsradio.com/wp-content/uploads/2023/07/2023-07_Tee-it-UP-SO-JoeBrett_4-scaled.jpg
END:VEVENT
BEGIN:VEVENT
DTSTART;TZID=America/Los_Angeles:20290529T130000
DTEND;TZID=America/Los_Angeles:20290529T150000
DTSTAMP:20260423T054222
CREATED:20230709T190806Z
LAST-MODIFIED:20230714T185438Z
UID:10037005-1874754000-1874761200@theacesportsradio.com
SUMMARY:Tee It Up Southern Oregon
DESCRIPTION:
URL:https://theacesportsradio.com/show/tee-it-up-southern-oregon/2029-05-29/
LOCATION:The Ace Sports Radio
ATTACH;FMTTYPE=image/jpeg:https://theacesportsradio.com/wp-content/uploads/2023/07/2023-07_Tee-it-UP-SO-JoeBrett_4-scaled.jpg
END:VEVENT
BEGIN:VEVENT
DTSTART;TZID=America/Los_Angeles:20290530T130000
DTEND;TZID=America/Los_Angeles:20290530T150000
DTSTAMP:20260423T054222
CREATED:20230709T190806Z
LAST-MODIFIED:20230714T185438Z
UID:10037017-1874840400-1874847600@theacesportsradio.com
SUMMARY:Tee It Up Southern Oregon
DESCRIPTION:
URL:https://theacesportsradio.com/show/tee-it-up-southern-oregon/2029-05-30/
LOCATION:The Ace Sports Radio
ATTACH;FMTTYPE=image/jpeg:https://theacesportsradio.com/wp-content/uploads/2023/07/2023-07_Tee-it-UP-SO-JoeBrett_4-scaled.jpg
END:VEVENT
BEGIN:VEVENT
DTSTART;TZID=America/Los_Angeles:20290531T130000
DTEND;TZID=America/Los_Angeles:20290531T150000
DTSTAMP:20260423T054222
CREATED:20230709T190806Z
LAST-MODIFIED:20230714T185438Z
UID:10037018-1874926800-1874934000@theacesportsradio.com
SUMMARY:Tee It Up Southern Oregon
DESCRIPTION:
URL:https://theacesportsradio.com/show/tee-it-up-southern-oregon/2029-05-31/
LOCATION:The Ace Sports Radio
ATTACH;FMTTYPE=image/jpeg:https://theacesportsradio.com/wp-content/uploads/2023/07/2023-07_Tee-it-UP-SO-JoeBrett_4-scaled.jpg
END:VEVENT
BEGIN:VEVENT
DTSTART;TZID=America/Los_Angeles:20290601T130000
DTEND;TZID=America/Los_Angeles:20290601T150000
DTSTAMP:20260423T054222
CREATED:20230709T190806Z
LAST-MODIFIED:20230714T185438Z
UID:10037031-1875013200-1875020400@theacesportsradio.com
SUMMARY:Tee It Up Southern Oregon
DESCRIPTION:
URL:https://theacesportsradio.com/show/tee-it-up-southern-oregon/2029-06-01/
LOCATION:The Ace Sports Radio
ATTACH;FMTTYPE=image/jpeg:https://theacesportsradio.com/wp-content/uploads/2023/07/2023-07_Tee-it-UP-SO-JoeBrett_4-scaled.jpg
END:VEVENT
BEGIN:VEVENT
DTSTART;TZID=America/Los_Angeles:20290604T130000
DTEND;TZID=America/Los_Angeles:20290604T150000
DTSTAMP:20260423T054222
CREATED:20230709T190806Z
LAST-MODIFIED:20230714T185438Z
UID:10037072-1875272400-1875279600@theacesportsradio.com
SUMMARY:Tee It Up Southern Oregon
DESCRIPTION:
URL:https://theacesportsradio.com/show/tee-it-up-southern-oregon/2029-06-04/
LOCATION:The Ace Sports Radio
ATTACH;FMTTYPE=image/jpeg:https://theacesportsradio.com/wp-content/uploads/2023/07/2023-07_Tee-it-UP-SO-JoeBrett_4-scaled.jpg
END:VEVENT
BEGIN:VEVENT
DTSTART;TZID=America/Los_Angeles:20290605T130000
DTEND;TZID=America/Los_Angeles:20290605T150000
DTSTAMP:20260423T054222
CREATED:20230709T190806Z
LAST-MODIFIED:20230714T185438Z
UID:10037073-1875358800-1875366000@theacesportsradio.com
SUMMARY:Tee It Up Southern Oregon
DESCRIPTION:
URL:https://theacesportsradio.com/show/tee-it-up-southern-oregon/2029-06-05/
LOCATION:The Ace Sports Radio
ATTACH;FMTTYPE=image/jpeg:https://theacesportsradio.com/wp-content/uploads/2023/07/2023-07_Tee-it-UP-SO-JoeBrett_4-scaled.jpg
END:VEVENT
BEGIN:VEVENT
DTSTART;TZID=America/Los_Angeles:20290606T130000
DTEND;TZID=America/Los_Angeles:20290606T150000
DTSTAMP:20260423T054222
CREATED:20230709T190806Z
LAST-MODIFIED:20230714T185438Z
UID:10037074-1875445200-1875452400@theacesportsradio.com
SUMMARY:Tee It Up Southern Oregon
DESCRIPTION:
URL:https://theacesportsradio.com/show/tee-it-up-southern-oregon/2029-06-06/
LOCATION:The Ace Sports Radio
ATTACH;FMTTYPE=image/jpeg:https://theacesportsradio.com/wp-content/uploads/2023/07/2023-07_Tee-it-UP-SO-JoeBrett_4-scaled.jpg
END:VEVENT
BEGIN:VEVENT
DTSTART;TZID=America/Los_Angeles:20290607T130000
DTEND;TZID=America/Los_Angeles:20290607T150000
DTSTAMP:20260423T054222
CREATED:20230709T190806Z
LAST-MODIFIED:20230714T185438Z
UID:10037086-1875531600-1875538800@theacesportsradio.com
SUMMARY:Tee It Up Southern Oregon
DESCRIPTION:
URL:https://theacesportsradio.com/show/tee-it-up-southern-oregon/2029-06-07/
LOCATION:The Ace Sports Radio
ATTACH;FMTTYPE=image/jpeg:https://theacesportsradio.com/wp-content/uploads/2023/07/2023-07_Tee-it-UP-SO-JoeBrett_4-scaled.jpg
END:VEVENT
BEGIN:VEVENT
DTSTART;TZID=America/Los_Angeles:20290608T130000
DTEND;TZID=America/Los_Angeles:20290608T150000
DTSTAMP:20260423T054222
CREATED:20230709T190806Z
LAST-MODIFIED:20230714T185438Z
UID:10037094-1875618000-1875625200@theacesportsradio.com
SUMMARY:Tee It Up Southern Oregon
DESCRIPTION:
URL:https://theacesportsradio.com/show/tee-it-up-southern-oregon/2029-06-08/
LOCATION:The Ace Sports Radio
ATTACH;FMTTYPE=image/jpeg:https://theacesportsradio.com/wp-content/uploads/2023/07/2023-07_Tee-it-UP-SO-JoeBrett_4-scaled.jpg
END:VEVENT
BEGIN:VEVENT
DTSTART;TZID=America/Los_Angeles:20290611T130000
DTEND;TZID=America/Los_Angeles:20290611T150000
DTSTAMP:20260423T054222
CREATED:20230709T190806Z
LAST-MODIFIED:20230714T185438Z
UID:10037135-1875877200-1875884400@theacesportsradio.com
SUMMARY:Tee It Up Southern Oregon
DESCRIPTION:
URL:https://theacesportsradio.com/show/tee-it-up-southern-oregon/2029-06-11/
LOCATION:The Ace Sports Radio
ATTACH;FMTTYPE=image/jpeg:https://theacesportsradio.com/wp-content/uploads/2023/07/2023-07_Tee-it-UP-SO-JoeBrett_4-scaled.jpg
END:VEVENT
BEGIN:VEVENT
DTSTART;TZID=America/Los_Angeles:20290612T130000
DTEND;TZID=America/Los_Angeles:20290612T150000
DTSTAMP:20260423T054222
CREATED:20230709T190806Z
LAST-MODIFIED:20230714T185438Z
UID:10037136-1875963600-1875970800@theacesportsradio.com
SUMMARY:Tee It Up Southern Oregon
DESCRIPTION:
URL:https://theacesportsradio.com/show/tee-it-up-southern-oregon/2029-06-12/
LOCATION:The Ace Sports Radio
ATTACH;FMTTYPE=image/jpeg:https://theacesportsradio.com/wp-content/uploads/2023/07/2023-07_Tee-it-UP-SO-JoeBrett_4-scaled.jpg
END:VEVENT
BEGIN:VEVENT
DTSTART;TZID=America/Los_Angeles:20290613T130000
DTEND;TZID=America/Los_Angeles:20290613T150000
DTSTAMP:20260423T054222
CREATED:20230709T190806Z
LAST-MODIFIED:20230714T185438Z
UID:10037137-1876050000-1876057200@theacesportsradio.com
SUMMARY:Tee It Up Southern Oregon
DESCRIPTION:
URL:https://theacesportsradio.com/show/tee-it-up-southern-oregon/2029-06-13/
LOCATION:The Ace Sports Radio
ATTACH;FMTTYPE=image/jpeg:https://theacesportsradio.com/wp-content/uploads/2023/07/2023-07_Tee-it-UP-SO-JoeBrett_4-scaled.jpg
END:VEVENT
BEGIN:VEVENT
DTSTART;TZID=America/Los_Angeles:20290614T130000
DTEND;TZID=America/Los_Angeles:20290614T150000
DTSTAMP:20260423T054222
CREATED:20230709T190806Z
LAST-MODIFIED:20230714T185438Z
UID:10037149-1876136400-1876143600@theacesportsradio.com
SUMMARY:Tee It Up Southern Oregon
DESCRIPTION:
URL:https://theacesportsradio.com/show/tee-it-up-southern-oregon/2029-06-14/
LOCATION:The Ace Sports Radio
ATTACH;FMTTYPE=image/jpeg:https://theacesportsradio.com/wp-content/uploads/2023/07/2023-07_Tee-it-UP-SO-JoeBrett_4-scaled.jpg
END:VEVENT
BEGIN:VEVENT
DTSTART;TZID=America/Los_Angeles:20290615T130000
DTEND;TZID=America/Los_Angeles:20290615T150000
DTSTAMP:20260423T054222
CREATED:20230709T190806Z
LAST-MODIFIED:20230714T185438Z
UID:10037157-1876222800-1876230000@theacesportsradio.com
SUMMARY:Tee It Up Southern Oregon
DESCRIPTION:
URL:https://theacesportsradio.com/show/tee-it-up-southern-oregon/2029-06-15/
LOCATION:The Ace Sports Radio
ATTACH;FMTTYPE=image/jpeg:https://theacesportsradio.com/wp-content/uploads/2023/07/2023-07_Tee-it-UP-SO-JoeBrett_4-scaled.jpg
END:VEVENT
BEGIN:VEVENT
DTSTART;TZID=America/Los_Angeles:20290618T130000
DTEND;TZID=America/Los_Angeles:20290618T150000
DTSTAMP:20260423T054222
CREATED:20230709T190806Z
LAST-MODIFIED:20230714T185438Z
UID:10037198-1876482000-1876489200@theacesportsradio.com
SUMMARY:Tee It Up Southern Oregon
DESCRIPTION:
URL:https://theacesportsradio.com/show/tee-it-up-southern-oregon/2029-06-18/
LOCATION:The Ace Sports Radio
ATTACH;FMTTYPE=image/jpeg:https://theacesportsradio.com/wp-content/uploads/2023/07/2023-07_Tee-it-UP-SO-JoeBrett_4-scaled.jpg
END:VEVENT
BEGIN:VEVENT
DTSTART;TZID=America/Los_Angeles:20290619T130000
DTEND;TZID=America/Los_Angeles:20290619T150000
DTSTAMP:20260423T054222
CREATED:20230709T190806Z
LAST-MODIFIED:20230714T185438Z
UID:10037199-1876568400-1876575600@theacesportsradio.com
SUMMARY:Tee It Up Southern Oregon
DESCRIPTION:
URL:https://theacesportsradio.com/show/tee-it-up-southern-oregon/2029-06-19/
LOCATION:The Ace Sports Radio
ATTACH;FMTTYPE=image/jpeg:https://theacesportsradio.com/wp-content/uploads/2023/07/2023-07_Tee-it-UP-SO-JoeBrett_4-scaled.jpg
END:VEVENT
BEGIN:VEVENT
DTSTART;TZID=America/Los_Angeles:20290620T130000
DTEND;TZID=America/Los_Angeles:20290620T150000
DTSTAMP:20260423T054222
CREATED:20230709T190806Z
LAST-MODIFIED:20230714T185438Z
UID:10037200-1876654800-1876662000@theacesportsradio.com
SUMMARY:Tee It Up Southern Oregon
DESCRIPTION:
URL:https://theacesportsradio.com/show/tee-it-up-southern-oregon/2029-06-20/
LOCATION:The Ace Sports Radio
ATTACH;FMTTYPE=image/jpeg:https://theacesportsradio.com/wp-content/uploads/2023/07/2023-07_Tee-it-UP-SO-JoeBrett_4-scaled.jpg
END:VEVENT
BEGIN:VEVENT
DTSTART;TZID=America/Los_Angeles:20290621T130000
DTEND;TZID=America/Los_Angeles:20290621T150000
DTSTAMP:20260423T054222
CREATED:20230709T190806Z
LAST-MODIFIED:20230714T185438Z
UID:10037212-1876741200-1876748400@theacesportsradio.com
SUMMARY:Tee It Up Southern Oregon
DESCRIPTION:
URL:https://theacesportsradio.com/show/tee-it-up-southern-oregon/2029-06-21/
LOCATION:The Ace Sports Radio
ATTACH;FMTTYPE=image/jpeg:https://theacesportsradio.com/wp-content/uploads/2023/07/2023-07_Tee-it-UP-SO-JoeBrett_4-scaled.jpg
END:VEVENT
BEGIN:VEVENT
DTSTART;TZID=America/Los_Angeles:20290622T130000
DTEND;TZID=America/Los_Angeles:20290622T150000
DTSTAMP:20260423T054222
CREATED:20230709T190806Z
LAST-MODIFIED:20230714T185438Z
UID:10037220-1876827600-1876834800@theacesportsradio.com
SUMMARY:Tee It Up Southern Oregon
DESCRIPTION:
URL:https://theacesportsradio.com/show/tee-it-up-southern-oregon/2029-06-22/
LOCATION:The Ace Sports Radio
ATTACH;FMTTYPE=image/jpeg:https://theacesportsradio.com/wp-content/uploads/2023/07/2023-07_Tee-it-UP-SO-JoeBrett_4-scaled.jpg
END:VEVENT
BEGIN:VEVENT
DTSTART;TZID=America/Los_Angeles:20290625T130000
DTEND;TZID=America/Los_Angeles:20290625T150000
DTSTAMP:20260423T054222
CREATED:20230709T190806Z
LAST-MODIFIED:20230714T185438Z
UID:10037261-1877086800-1877094000@theacesportsradio.com
SUMMARY:Tee It Up Southern Oregon
DESCRIPTION:
URL:https://theacesportsradio.com/show/tee-it-up-southern-oregon/2029-06-25/
LOCATION:The Ace Sports Radio
ATTACH;FMTTYPE=image/jpeg:https://theacesportsradio.com/wp-content/uploads/2023/07/2023-07_Tee-it-UP-SO-JoeBrett_4-scaled.jpg
END:VEVENT
BEGIN:VEVENT
DTSTART;TZID=America/Los_Angeles:20290626T130000
DTEND;TZID=America/Los_Angeles:20290626T150000
DTSTAMP:20260423T054222
CREATED:20230709T190806Z
LAST-MODIFIED:20230714T185438Z
UID:10037262-1877173200-1877180400@theacesportsradio.com
SUMMARY:Tee It Up Southern Oregon
DESCRIPTION:
URL:https://theacesportsradio.com/show/tee-it-up-southern-oregon/2029-06-26/
LOCATION:The Ace Sports Radio
ATTACH;FMTTYPE=image/jpeg:https://theacesportsradio.com/wp-content/uploads/2023/07/2023-07_Tee-it-UP-SO-JoeBrett_4-scaled.jpg
END:VEVENT
BEGIN:VEVENT
DTSTART;TZID=America/Los_Angeles:20290627T130000
DTEND;TZID=America/Los_Angeles:20290627T150000
DTSTAMP:20260423T054222
CREATED:20230709T190806Z
LAST-MODIFIED:20230714T185438Z
UID:10037263-1877259600-1877266800@theacesportsradio.com
SUMMARY:Tee It Up Southern Oregon
DESCRIPTION:
URL:https://theacesportsradio.com/show/tee-it-up-southern-oregon/2029-06-27/
LOCATION:The Ace Sports Radio
ATTACH;FMTTYPE=image/jpeg:https://theacesportsradio.com/wp-content/uploads/2023/07/2023-07_Tee-it-UP-SO-JoeBrett_4-scaled.jpg
END:VEVENT
BEGIN:VEVENT
DTSTART;TZID=America/Los_Angeles:20290628T130000
DTEND;TZID=America/Los_Angeles:20290628T150000
DTSTAMP:20260423T054222
CREATED:20230709T190806Z
LAST-MODIFIED:20230714T185438Z
UID:10037275-1877346000-1877353200@theacesportsradio.com
SUMMARY:Tee It Up Southern Oregon
DESCRIPTION:
URL:https://theacesportsradio.com/show/tee-it-up-southern-oregon/2029-06-28/
LOCATION:The Ace Sports Radio
ATTACH;FMTTYPE=image/jpeg:https://theacesportsradio.com/wp-content/uploads/2023/07/2023-07_Tee-it-UP-SO-JoeBrett_4-scaled.jpg
END:VEVENT
END:VCALENDAR