BEGIN:VCALENDAR
VERSION:2.0
PRODID:-//The Ace Sports Radio - ECPv6.15.13//NONSGML v1.0//EN
CALSCALE:GREGORIAN
METHOD:PUBLISH
X-ORIGINAL-URL:https://theacesportsradio.com
X-WR-CALDESC:Events for The Ace Sports Radio
REFRESH-INTERVAL;VALUE=DURATION:PT1H
X-Robots-Tag:noindex
X-PUBLISHED-TTL:PT1H
BEGIN:VTIMEZONE
TZID:America/Los_Angeles
BEGIN:DAYLIGHT
TZOFFSETFROM:-0800
TZOFFSETTO:-0700
TZNAME:PDT
DTSTART:20280312T100000
END:DAYLIGHT
BEGIN:STANDARD
TZOFFSETFROM:-0700
TZOFFSETTO:-0800
TZNAME:PST
DTSTART:20281105T090000
END:STANDARD
BEGIN:DAYLIGHT
TZOFFSETFROM:-0800
TZOFFSETTO:-0700
TZNAME:PDT
DTSTART:20290311T100000
END:DAYLIGHT
BEGIN:STANDARD
TZOFFSETFROM:-0700
TZOFFSETTO:-0800
TZNAME:PST
DTSTART:20291104T090000
END:STANDARD
BEGIN:DAYLIGHT
TZOFFSETFROM:-0800
TZOFFSETTO:-0700
TZNAME:PDT
DTSTART:20300310T100000
END:DAYLIGHT
BEGIN:STANDARD
TZOFFSETFROM:-0700
TZOFFSETTO:-0800
TZNAME:PST
DTSTART:20301103T090000
END:STANDARD
END:VTIMEZONE
BEGIN:VEVENT
DTSTART;TZID=America/Los_Angeles:20290416T130000
DTEND;TZID=America/Los_Angeles:20290416T150000
DTSTAMP:20260423T014630
CREATED:20230709T190806Z
LAST-MODIFIED:20230714T185438Z
UID:10035304-1871038800-1871046000@theacesportsradio.com
SUMMARY:Tee It Up Southern Oregon
DESCRIPTION:
URL:https://theacesportsradio.com/show/tee-it-up-southern-oregon/2029-04-16/
LOCATION:The Ace Sports Radio
ATTACH;FMTTYPE=image/jpeg:https://theacesportsradio.com/wp-content/uploads/2023/07/2023-07_Tee-it-UP-SO-JoeBrett_4-scaled.jpg
END:VEVENT
BEGIN:VEVENT
DTSTART;TZID=America/Los_Angeles:20290417T130000
DTEND;TZID=America/Los_Angeles:20290417T150000
DTSTAMP:20260423T014630
CREATED:20230709T190806Z
LAST-MODIFIED:20230714T185438Z
UID:10035305-1871125200-1871132400@theacesportsradio.com
SUMMARY:Tee It Up Southern Oregon
DESCRIPTION:
URL:https://theacesportsradio.com/show/tee-it-up-southern-oregon/2029-04-17/
LOCATION:The Ace Sports Radio
ATTACH;FMTTYPE=image/jpeg:https://theacesportsradio.com/wp-content/uploads/2023/07/2023-07_Tee-it-UP-SO-JoeBrett_4-scaled.jpg
END:VEVENT
BEGIN:VEVENT
DTSTART;TZID=America/Los_Angeles:20290418T130000
DTEND;TZID=America/Los_Angeles:20290418T150000
DTSTAMP:20260423T014630
CREATED:20230709T190806Z
LAST-MODIFIED:20230714T185438Z
UID:10035306-1871211600-1871218800@theacesportsradio.com
SUMMARY:Tee It Up Southern Oregon
DESCRIPTION:
URL:https://theacesportsradio.com/show/tee-it-up-southern-oregon/2029-04-18/
LOCATION:The Ace Sports Radio
ATTACH;FMTTYPE=image/jpeg:https://theacesportsradio.com/wp-content/uploads/2023/07/2023-07_Tee-it-UP-SO-JoeBrett_4-scaled.jpg
END:VEVENT
BEGIN:VEVENT
DTSTART;TZID=America/Los_Angeles:20290419T130000
DTEND;TZID=America/Los_Angeles:20290419T150000
DTSTAMP:20260423T014630
CREATED:20230709T190806Z
LAST-MODIFIED:20230714T185438Z
UID:10035318-1871298000-1871305200@theacesportsradio.com
SUMMARY:Tee It Up Southern Oregon
DESCRIPTION:
URL:https://theacesportsradio.com/show/tee-it-up-southern-oregon/2029-04-19/
LOCATION:The Ace Sports Radio
ATTACH;FMTTYPE=image/jpeg:https://theacesportsradio.com/wp-content/uploads/2023/07/2023-07_Tee-it-UP-SO-JoeBrett_4-scaled.jpg
END:VEVENT
BEGIN:VEVENT
DTSTART;TZID=America/Los_Angeles:20290420T130000
DTEND;TZID=America/Los_Angeles:20290420T150000
DTSTAMP:20260423T014630
CREATED:20230709T190806Z
LAST-MODIFIED:20230714T185438Z
UID:10035326-1871384400-1871391600@theacesportsradio.com
SUMMARY:Tee It Up Southern Oregon
DESCRIPTION:
URL:https://theacesportsradio.com/show/tee-it-up-southern-oregon/2029-04-20/
LOCATION:The Ace Sports Radio
ATTACH;FMTTYPE=image/jpeg:https://theacesportsradio.com/wp-content/uploads/2023/07/2023-07_Tee-it-UP-SO-JoeBrett_4-scaled.jpg
END:VEVENT
BEGIN:VEVENT
DTSTART;TZID=America/Los_Angeles:20290423T130000
DTEND;TZID=America/Los_Angeles:20290423T150000
DTSTAMP:20260423T014630
CREATED:20230709T190806Z
LAST-MODIFIED:20230714T185438Z
UID:10035367-1871643600-1871650800@theacesportsradio.com
SUMMARY:Tee It Up Southern Oregon
DESCRIPTION:
URL:https://theacesportsradio.com/show/tee-it-up-southern-oregon/2029-04-23/
LOCATION:The Ace Sports Radio
ATTACH;FMTTYPE=image/jpeg:https://theacesportsradio.com/wp-content/uploads/2023/07/2023-07_Tee-it-UP-SO-JoeBrett_4-scaled.jpg
END:VEVENT
BEGIN:VEVENT
DTSTART;TZID=America/Los_Angeles:20290424T130000
DTEND;TZID=America/Los_Angeles:20290424T150000
DTSTAMP:20260423T014630
CREATED:20230709T190806Z
LAST-MODIFIED:20230714T185438Z
UID:10035368-1871730000-1871737200@theacesportsradio.com
SUMMARY:Tee It Up Southern Oregon
DESCRIPTION:
URL:https://theacesportsradio.com/show/tee-it-up-southern-oregon/2029-04-24/
LOCATION:The Ace Sports Radio
ATTACH;FMTTYPE=image/jpeg:https://theacesportsradio.com/wp-content/uploads/2023/07/2023-07_Tee-it-UP-SO-JoeBrett_4-scaled.jpg
END:VEVENT
BEGIN:VEVENT
DTSTART;TZID=America/Los_Angeles:20290425T130000
DTEND;TZID=America/Los_Angeles:20290425T150000
DTSTAMP:20260423T014630
CREATED:20230709T190806Z
LAST-MODIFIED:20230714T185438Z
UID:10035369-1871816400-1871823600@theacesportsradio.com
SUMMARY:Tee It Up Southern Oregon
DESCRIPTION:
URL:https://theacesportsradio.com/show/tee-it-up-southern-oregon/2029-04-25/
LOCATION:The Ace Sports Radio
ATTACH;FMTTYPE=image/jpeg:https://theacesportsradio.com/wp-content/uploads/2023/07/2023-07_Tee-it-UP-SO-JoeBrett_4-scaled.jpg
END:VEVENT
BEGIN:VEVENT
DTSTART;TZID=America/Los_Angeles:20290426T130000
DTEND;TZID=America/Los_Angeles:20290426T150000
DTSTAMP:20260423T014630
CREATED:20230709T190806Z
LAST-MODIFIED:20230714T185438Z
UID:10035381-1871902800-1871910000@theacesportsradio.com
SUMMARY:Tee It Up Southern Oregon
DESCRIPTION:
URL:https://theacesportsradio.com/show/tee-it-up-southern-oregon/2029-04-26/
LOCATION:The Ace Sports Radio
ATTACH;FMTTYPE=image/jpeg:https://theacesportsradio.com/wp-content/uploads/2023/07/2023-07_Tee-it-UP-SO-JoeBrett_4-scaled.jpg
END:VEVENT
BEGIN:VEVENT
DTSTART;TZID=America/Los_Angeles:20290427T130000
DTEND;TZID=America/Los_Angeles:20290427T150000
DTSTAMP:20260423T014630
CREATED:20230709T190806Z
LAST-MODIFIED:20230714T185438Z
UID:10035389-1871989200-1871996400@theacesportsradio.com
SUMMARY:Tee It Up Southern Oregon
DESCRIPTION:
URL:https://theacesportsradio.com/show/tee-it-up-southern-oregon/2029-04-27/
LOCATION:The Ace Sports Radio
ATTACH;FMTTYPE=image/jpeg:https://theacesportsradio.com/wp-content/uploads/2023/07/2023-07_Tee-it-UP-SO-JoeBrett_4-scaled.jpg
END:VEVENT
BEGIN:VEVENT
DTSTART;TZID=America/Los_Angeles:20290430T130000
DTEND;TZID=America/Los_Angeles:20290430T150000
DTSTAMP:20260423T014630
CREATED:20230709T190806Z
LAST-MODIFIED:20230714T185438Z
UID:10035426-1872248400-1872255600@theacesportsradio.com
SUMMARY:Tee It Up Southern Oregon
DESCRIPTION:
URL:https://theacesportsradio.com/show/tee-it-up-southern-oregon/2029-04-30/
LOCATION:The Ace Sports Radio
ATTACH;FMTTYPE=image/jpeg:https://theacesportsradio.com/wp-content/uploads/2023/07/2023-07_Tee-it-UP-SO-JoeBrett_4-scaled.jpg
END:VEVENT
BEGIN:VEVENT
DTSTART;TZID=America/Los_Angeles:20290501T130000
DTEND;TZID=America/Los_Angeles:20290501T150000
DTSTAMP:20260423T014630
CREATED:20230709T190806Z
LAST-MODIFIED:20230714T185438Z
UID:10035427-1872334800-1872342000@theacesportsradio.com
SUMMARY:Tee It Up Southern Oregon
DESCRIPTION:
URL:https://theacesportsradio.com/show/tee-it-up-southern-oregon/2029-05-01/
LOCATION:The Ace Sports Radio
ATTACH;FMTTYPE=image/jpeg:https://theacesportsradio.com/wp-content/uploads/2023/07/2023-07_Tee-it-UP-SO-JoeBrett_4-scaled.jpg
END:VEVENT
BEGIN:VEVENT
DTSTART;TZID=America/Los_Angeles:20290502T130000
DTEND;TZID=America/Los_Angeles:20290502T150000
DTSTAMP:20260423T014630
CREATED:20230709T190806Z
LAST-MODIFIED:20230714T185438Z
UID:10035437-1872421200-1872428400@theacesportsradio.com
SUMMARY:Tee It Up Southern Oregon
DESCRIPTION:
URL:https://theacesportsradio.com/show/tee-it-up-southern-oregon/2029-05-02/
LOCATION:The Ace Sports Radio
ATTACH;FMTTYPE=image/jpeg:https://theacesportsradio.com/wp-content/uploads/2023/07/2023-07_Tee-it-UP-SO-JoeBrett_4-scaled.jpg
END:VEVENT
BEGIN:VEVENT
DTSTART;TZID=America/Los_Angeles:20290503T130000
DTEND;TZID=America/Los_Angeles:20290503T150000
DTSTAMP:20260423T014630
CREATED:20230709T190806Z
LAST-MODIFIED:20230714T185438Z
UID:10035445-1872507600-1872514800@theacesportsradio.com
SUMMARY:Tee It Up Southern Oregon
DESCRIPTION:
URL:https://theacesportsradio.com/show/tee-it-up-southern-oregon/2029-05-03/
LOCATION:The Ace Sports Radio
ATTACH;FMTTYPE=image/jpeg:https://theacesportsradio.com/wp-content/uploads/2023/07/2023-07_Tee-it-UP-SO-JoeBrett_4-scaled.jpg
END:VEVENT
BEGIN:VEVENT
DTSTART;TZID=America/Los_Angeles:20290504T130000
DTEND;TZID=America/Los_Angeles:20290504T150000
DTSTAMP:20260423T014630
CREATED:20230709T190806Z
LAST-MODIFIED:20230714T185438Z
UID:10035453-1872594000-1872601200@theacesportsradio.com
SUMMARY:Tee It Up Southern Oregon
DESCRIPTION:
URL:https://theacesportsradio.com/show/tee-it-up-southern-oregon/2029-05-04/
LOCATION:The Ace Sports Radio
ATTACH;FMTTYPE=image/jpeg:https://theacesportsradio.com/wp-content/uploads/2023/07/2023-07_Tee-it-UP-SO-JoeBrett_4-scaled.jpg
END:VEVENT
BEGIN:VEVENT
DTSTART;TZID=America/Los_Angeles:20290507T130000
DTEND;TZID=America/Los_Angeles:20290507T150000
DTSTAMP:20260423T014630
CREATED:20230709T190806Z
LAST-MODIFIED:20230714T185438Z
UID:10035488-1872853200-1872860400@theacesportsradio.com
SUMMARY:Tee It Up Southern Oregon
DESCRIPTION:
URL:https://theacesportsradio.com/show/tee-it-up-southern-oregon/2029-05-07/
LOCATION:The Ace Sports Radio
ATTACH;FMTTYPE=image/jpeg:https://theacesportsradio.com/wp-content/uploads/2023/07/2023-07_Tee-it-UP-SO-JoeBrett_4-scaled.jpg
END:VEVENT
BEGIN:VEVENT
DTSTART;TZID=America/Los_Angeles:20290508T130000
DTEND;TZID=America/Los_Angeles:20290508T150000
DTSTAMP:20260423T014630
CREATED:20230709T190806Z
LAST-MODIFIED:20230714T185438Z
UID:10035489-1872939600-1872946800@theacesportsradio.com
SUMMARY:Tee It Up Southern Oregon
DESCRIPTION:
URL:https://theacesportsradio.com/show/tee-it-up-southern-oregon/2029-05-08/
LOCATION:The Ace Sports Radio
ATTACH;FMTTYPE=image/jpeg:https://theacesportsradio.com/wp-content/uploads/2023/07/2023-07_Tee-it-UP-SO-JoeBrett_4-scaled.jpg
END:VEVENT
BEGIN:VEVENT
DTSTART;TZID=America/Los_Angeles:20290509T130000
DTEND;TZID=America/Los_Angeles:20290509T150000
DTSTAMP:20260423T014630
CREATED:20230709T190806Z
LAST-MODIFIED:20230714T185438Z
UID:10035499-1873026000-1873033200@theacesportsradio.com
SUMMARY:Tee It Up Southern Oregon
DESCRIPTION:
URL:https://theacesportsradio.com/show/tee-it-up-southern-oregon/2029-05-09/
LOCATION:The Ace Sports Radio
ATTACH;FMTTYPE=image/jpeg:https://theacesportsradio.com/wp-content/uploads/2023/07/2023-07_Tee-it-UP-SO-JoeBrett_4-scaled.jpg
END:VEVENT
BEGIN:VEVENT
DTSTART;TZID=America/Los_Angeles:20290510T130000
DTEND;TZID=America/Los_Angeles:20290510T150000
DTSTAMP:20260423T014630
CREATED:20230709T190806Z
LAST-MODIFIED:20230714T185438Z
UID:10035507-1873112400-1873119600@theacesportsradio.com
SUMMARY:Tee It Up Southern Oregon
DESCRIPTION:
URL:https://theacesportsradio.com/show/tee-it-up-southern-oregon/2029-05-10/
LOCATION:The Ace Sports Radio
ATTACH;FMTTYPE=image/jpeg:https://theacesportsradio.com/wp-content/uploads/2023/07/2023-07_Tee-it-UP-SO-JoeBrett_4-scaled.jpg
END:VEVENT
BEGIN:VEVENT
DTSTART;TZID=America/Los_Angeles:20290511T130000
DTEND;TZID=America/Los_Angeles:20290511T150000
DTSTAMP:20260423T014630
CREATED:20230709T190806Z
LAST-MODIFIED:20230714T185438Z
UID:10035515-1873198800-1873206000@theacesportsradio.com
SUMMARY:Tee It Up Southern Oregon
DESCRIPTION:
URL:https://theacesportsradio.com/show/tee-it-up-southern-oregon/2029-05-11/
LOCATION:The Ace Sports Radio
ATTACH;FMTTYPE=image/jpeg:https://theacesportsradio.com/wp-content/uploads/2023/07/2023-07_Tee-it-UP-SO-JoeBrett_4-scaled.jpg
END:VEVENT
BEGIN:VEVENT
DTSTART;TZID=America/Los_Angeles:20290514T130000
DTEND;TZID=America/Los_Angeles:20290514T150000
DTSTAMP:20260423T014630
CREATED:20230709T190806Z
LAST-MODIFIED:20230714T185438Z
UID:10035552-1873458000-1873465200@theacesportsradio.com
SUMMARY:Tee It Up Southern Oregon
DESCRIPTION:
URL:https://theacesportsradio.com/show/tee-it-up-southern-oregon/2029-05-14/
LOCATION:The Ace Sports Radio
ATTACH;FMTTYPE=image/jpeg:https://theacesportsradio.com/wp-content/uploads/2023/07/2023-07_Tee-it-UP-SO-JoeBrett_4-scaled.jpg
END:VEVENT
BEGIN:VEVENT
DTSTART;TZID=America/Los_Angeles:20290515T130000
DTEND;TZID=America/Los_Angeles:20290515T150000
DTSTAMP:20260423T014630
CREATED:20230709T190806Z
LAST-MODIFIED:20230714T185438Z
UID:10035553-1873544400-1873551600@theacesportsradio.com
SUMMARY:Tee It Up Southern Oregon
DESCRIPTION:
URL:https://theacesportsradio.com/show/tee-it-up-southern-oregon/2029-05-15/
LOCATION:The Ace Sports Radio
ATTACH;FMTTYPE=image/jpeg:https://theacesportsradio.com/wp-content/uploads/2023/07/2023-07_Tee-it-UP-SO-JoeBrett_4-scaled.jpg
END:VEVENT
BEGIN:VEVENT
DTSTART;TZID=America/Los_Angeles:20290516T130000
DTEND;TZID=America/Los_Angeles:20290516T150000
DTSTAMP:20260423T014630
CREATED:20230709T190806Z
LAST-MODIFIED:20230714T185438Z
UID:10035563-1873630800-1873638000@theacesportsradio.com
SUMMARY:Tee It Up Southern Oregon
DESCRIPTION:
URL:https://theacesportsradio.com/show/tee-it-up-southern-oregon/2029-05-16/
LOCATION:The Ace Sports Radio
ATTACH;FMTTYPE=image/jpeg:https://theacesportsradio.com/wp-content/uploads/2023/07/2023-07_Tee-it-UP-SO-JoeBrett_4-scaled.jpg
END:VEVENT
BEGIN:VEVENT
DTSTART;TZID=America/Los_Angeles:20290517T130000
DTEND;TZID=America/Los_Angeles:20290517T150000
DTSTAMP:20260423T014630
CREATED:20230709T190806Z
LAST-MODIFIED:20230714T185438Z
UID:10036897-1873717200-1873724400@theacesportsradio.com
SUMMARY:Tee It Up Southern Oregon
DESCRIPTION:
URL:https://theacesportsradio.com/show/tee-it-up-southern-oregon/2029-05-17/
LOCATION:The Ace Sports Radio
ATTACH;FMTTYPE=image/jpeg:https://theacesportsradio.com/wp-content/uploads/2023/07/2023-07_Tee-it-UP-SO-JoeBrett_4-scaled.jpg
END:VEVENT
BEGIN:VEVENT
DTSTART;TZID=America/Los_Angeles:20290518T130000
DTEND;TZID=America/Los_Angeles:20290518T150000
DTSTAMP:20260423T014630
CREATED:20230709T190806Z
LAST-MODIFIED:20230714T185438Z
UID:10036904-1873803600-1873810800@theacesportsradio.com
SUMMARY:Tee It Up Southern Oregon
DESCRIPTION:
URL:https://theacesportsradio.com/show/tee-it-up-southern-oregon/2029-05-18/
LOCATION:The Ace Sports Radio
ATTACH;FMTTYPE=image/jpeg:https://theacesportsradio.com/wp-content/uploads/2023/07/2023-07_Tee-it-UP-SO-JoeBrett_4-scaled.jpg
END:VEVENT
BEGIN:VEVENT
DTSTART;TZID=America/Los_Angeles:20290521T130000
DTEND;TZID=America/Los_Angeles:20290521T150000
DTSTAMP:20260423T014630
CREATED:20230709T190806Z
LAST-MODIFIED:20230714T185438Z
UID:10036941-1874062800-1874070000@theacesportsradio.com
SUMMARY:Tee It Up Southern Oregon
DESCRIPTION:
URL:https://theacesportsradio.com/show/tee-it-up-southern-oregon/2029-05-21/
LOCATION:The Ace Sports Radio
ATTACH;FMTTYPE=image/jpeg:https://theacesportsradio.com/wp-content/uploads/2023/07/2023-07_Tee-it-UP-SO-JoeBrett_4-scaled.jpg
END:VEVENT
BEGIN:VEVENT
DTSTART;TZID=America/Los_Angeles:20290522T130000
DTEND;TZID=America/Los_Angeles:20290522T150000
DTSTAMP:20260423T014630
CREATED:20230709T190806Z
LAST-MODIFIED:20230714T185438Z
UID:10036942-1874149200-1874156400@theacesportsradio.com
SUMMARY:Tee It Up Southern Oregon
DESCRIPTION:
URL:https://theacesportsradio.com/show/tee-it-up-southern-oregon/2029-05-22/
LOCATION:The Ace Sports Radio
ATTACH;FMTTYPE=image/jpeg:https://theacesportsradio.com/wp-content/uploads/2023/07/2023-07_Tee-it-UP-SO-JoeBrett_4-scaled.jpg
END:VEVENT
BEGIN:VEVENT
DTSTART;TZID=America/Los_Angeles:20290523T130000
DTEND;TZID=America/Los_Angeles:20290523T150000
DTSTAMP:20260423T014630
CREATED:20230709T190806Z
LAST-MODIFIED:20230714T185438Z
UID:10036952-1874235600-1874242800@theacesportsradio.com
SUMMARY:Tee It Up Southern Oregon
DESCRIPTION:
URL:https://theacesportsradio.com/show/tee-it-up-southern-oregon/2029-05-23/
LOCATION:The Ace Sports Radio
ATTACH;FMTTYPE=image/jpeg:https://theacesportsradio.com/wp-content/uploads/2023/07/2023-07_Tee-it-UP-SO-JoeBrett_4-scaled.jpg
END:VEVENT
BEGIN:VEVENT
DTSTART;TZID=America/Los_Angeles:20290524T130000
DTEND;TZID=America/Los_Angeles:20290524T150000
DTSTAMP:20260423T014631
CREATED:20230709T190806Z
LAST-MODIFIED:20230714T185438Z
UID:10036960-1874322000-1874329200@theacesportsradio.com
SUMMARY:Tee It Up Southern Oregon
DESCRIPTION:
URL:https://theacesportsradio.com/show/tee-it-up-southern-oregon/2029-05-24/
LOCATION:The Ace Sports Radio
ATTACH;FMTTYPE=image/jpeg:https://theacesportsradio.com/wp-content/uploads/2023/07/2023-07_Tee-it-UP-SO-JoeBrett_4-scaled.jpg
END:VEVENT
BEGIN:VEVENT
DTSTART;TZID=America/Los_Angeles:20290525T130000
DTEND;TZID=America/Los_Angeles:20290525T150000
DTSTAMP:20260423T014631
CREATED:20230709T190806Z
LAST-MODIFIED:20230714T185438Z
UID:10036968-1874408400-1874415600@theacesportsradio.com
SUMMARY:Tee It Up Southern Oregon
DESCRIPTION:
URL:https://theacesportsradio.com/show/tee-it-up-southern-oregon/2029-05-25/
LOCATION:The Ace Sports Radio
ATTACH;FMTTYPE=image/jpeg:https://theacesportsradio.com/wp-content/uploads/2023/07/2023-07_Tee-it-UP-SO-JoeBrett_4-scaled.jpg
END:VEVENT
END:VCALENDAR