BEGIN:VCALENDAR
VERSION:2.0
PRODID:-//The Ace Sports Radio - ECPv6.15.13//NONSGML v1.0//EN
CALSCALE:GREGORIAN
METHOD:PUBLISH
X-WR-CALNAME:The Ace Sports Radio
X-ORIGINAL-URL:https://theacesportsradio.com
X-WR-CALDESC:Events for The Ace Sports Radio
REFRESH-INTERVAL;VALUE=DURATION:PT1H
X-Robots-Tag:noindex
X-PUBLISHED-TTL:PT1H
BEGIN:VTIMEZONE
TZID:America/Los_Angeles
BEGIN:DAYLIGHT
TZOFFSETFROM:-0800
TZOFFSETTO:-0700
TZNAME:PDT
DTSTART:20260308T100000
END:DAYLIGHT
BEGIN:STANDARD
TZOFFSETFROM:-0700
TZOFFSETTO:-0800
TZNAME:PST
DTSTART:20261101T090000
END:STANDARD
BEGIN:DAYLIGHT
TZOFFSETFROM:-0800
TZOFFSETTO:-0700
TZNAME:PDT
DTSTART:20270314T100000
END:DAYLIGHT
BEGIN:STANDARD
TZOFFSETFROM:-0700
TZOFFSETTO:-0800
TZNAME:PST
DTSTART:20271107T090000
END:STANDARD
BEGIN:DAYLIGHT
TZOFFSETFROM:-0800
TZOFFSETTO:-0700
TZNAME:PDT
DTSTART:20280312T100000
END:DAYLIGHT
BEGIN:STANDARD
TZOFFSETFROM:-0700
TZOFFSETTO:-0800
TZNAME:PST
DTSTART:20281105T090000
END:STANDARD
BEGIN:DAYLIGHT
TZOFFSETFROM:-0800
TZOFFSETTO:-0700
TZNAME:PDT
DTSTART:20290311T100000
END:DAYLIGHT
BEGIN:STANDARD
TZOFFSETFROM:-0700
TZOFFSETTO:-0800
TZNAME:PST
DTSTART:20291104T090000
END:STANDARD
END:VTIMEZONE
BEGIN:VEVENT
DTSTART;TZID=America/Los_Angeles:20271204T110000
DTEND;TZID=America/Los_Angeles:20271204T120000
DTSTAMP:20260420T082652
CREATED:20230710T000437Z
LAST-MODIFIED:20230711T211952Z
UID:10024252-1827918000-1827921600@theacesportsradio.com
SUMMARY:Amazing Americans
DESCRIPTION:NO POLITICAL RHETORIC. NO ANGRY TALK SHOW HOSTS.\n​JUST REAL SPORTS STORIES OF INSPIRATION. \nJerry Schemmel is a longtime Denver based broadcaster. He did radio play by play for the Colorado Rockies from 2010 to 2019.  Prior to that he spent 18 years as the Radio Voice of the Denver Nuggets and two with the Minnesota Timberwolves. He is a plane crash survivor\, author of two books\, an attorney and a record setting cyclist.
URL:https://theacesportsradio.com/show/amazing-americans/2027-12-04/
LOCATION:Amazing Americans Radio Network
ATTACH;FMTTYPE=image/jpeg:https://theacesportsradio.com/wp-content/uploads/2023/07/Amazing-Americans.jpg
END:VEVENT
BEGIN:VEVENT
DTSTART;TZID=America/Los_Angeles:20271211T110000
DTEND;TZID=America/Los_Angeles:20271211T120000
DTSTAMP:20260420T082652
CREATED:20230710T000437Z
LAST-MODIFIED:20230711T211952Z
UID:10024253-1828522800-1828526400@theacesportsradio.com
SUMMARY:Amazing Americans
DESCRIPTION:NO POLITICAL RHETORIC. NO ANGRY TALK SHOW HOSTS.\n​JUST REAL SPORTS STORIES OF INSPIRATION. \nJerry Schemmel is a longtime Denver based broadcaster. He did radio play by play for the Colorado Rockies from 2010 to 2019.  Prior to that he spent 18 years as the Radio Voice of the Denver Nuggets and two with the Minnesota Timberwolves. He is a plane crash survivor\, author of two books\, an attorney and a record setting cyclist.
URL:https://theacesportsradio.com/show/amazing-americans/2027-12-11/
LOCATION:Amazing Americans Radio Network
ATTACH;FMTTYPE=image/jpeg:https://theacesportsradio.com/wp-content/uploads/2023/07/Amazing-Americans.jpg
END:VEVENT
BEGIN:VEVENT
DTSTART;TZID=America/Los_Angeles:20271218T110000
DTEND;TZID=America/Los_Angeles:20271218T120000
DTSTAMP:20260420T082652
CREATED:20230710T000437Z
LAST-MODIFIED:20230711T211952Z
UID:10024254-1829127600-1829131200@theacesportsradio.com
SUMMARY:Amazing Americans
DESCRIPTION:NO POLITICAL RHETORIC. NO ANGRY TALK SHOW HOSTS.\n​JUST REAL SPORTS STORIES OF INSPIRATION. \nJerry Schemmel is a longtime Denver based broadcaster. He did radio play by play for the Colorado Rockies from 2010 to 2019.  Prior to that he spent 18 years as the Radio Voice of the Denver Nuggets and two with the Minnesota Timberwolves. He is a plane crash survivor\, author of two books\, an attorney and a record setting cyclist.
URL:https://theacesportsradio.com/show/amazing-americans/2027-12-18/
LOCATION:Amazing Americans Radio Network
ATTACH;FMTTYPE=image/jpeg:https://theacesportsradio.com/wp-content/uploads/2023/07/Amazing-Americans.jpg
END:VEVENT
BEGIN:VEVENT
DTSTART;TZID=America/Los_Angeles:20271225T110000
DTEND;TZID=America/Los_Angeles:20271225T120000
DTSTAMP:20260420T082652
CREATED:20230710T000437Z
LAST-MODIFIED:20230711T211952Z
UID:10024255-1829732400-1829736000@theacesportsradio.com
SUMMARY:Amazing Americans
DESCRIPTION:NO POLITICAL RHETORIC. NO ANGRY TALK SHOW HOSTS.\n​JUST REAL SPORTS STORIES OF INSPIRATION. \nJerry Schemmel is a longtime Denver based broadcaster. He did radio play by play for the Colorado Rockies from 2010 to 2019.  Prior to that he spent 18 years as the Radio Voice of the Denver Nuggets and two with the Minnesota Timberwolves. He is a plane crash survivor\, author of two books\, an attorney and a record setting cyclist.
URL:https://theacesportsradio.com/show/amazing-americans/2027-12-25/
LOCATION:Amazing Americans Radio Network
ATTACH;FMTTYPE=image/jpeg:https://theacesportsradio.com/wp-content/uploads/2023/07/Amazing-Americans.jpg
END:VEVENT
BEGIN:VEVENT
DTSTART;TZID=America/Los_Angeles:20280101T110000
DTEND;TZID=America/Los_Angeles:20280101T120000
DTSTAMP:20260420T082652
CREATED:20230710T000437Z
LAST-MODIFIED:20230711T211952Z
UID:10024256-1830337200-1830340800@theacesportsradio.com
SUMMARY:Amazing Americans
DESCRIPTION:NO POLITICAL RHETORIC. NO ANGRY TALK SHOW HOSTS.\n​JUST REAL SPORTS STORIES OF INSPIRATION. \nJerry Schemmel is a longtime Denver based broadcaster. He did radio play by play for the Colorado Rockies from 2010 to 2019.  Prior to that he spent 18 years as the Radio Voice of the Denver Nuggets and two with the Minnesota Timberwolves. He is a plane crash survivor\, author of two books\, an attorney and a record setting cyclist.
URL:https://theacesportsradio.com/show/amazing-americans/2028-01-01/
LOCATION:Amazing Americans Radio Network
ATTACH;FMTTYPE=image/jpeg:https://theacesportsradio.com/wp-content/uploads/2023/07/Amazing-Americans.jpg
END:VEVENT
BEGIN:VEVENT
DTSTART;TZID=America/Los_Angeles:20280108T110000
DTEND;TZID=America/Los_Angeles:20280108T120000
DTSTAMP:20260420T082652
CREATED:20230710T000437Z
LAST-MODIFIED:20230711T211952Z
UID:10024257-1830942000-1830945600@theacesportsradio.com
SUMMARY:Amazing Americans
DESCRIPTION:NO POLITICAL RHETORIC. NO ANGRY TALK SHOW HOSTS.\n​JUST REAL SPORTS STORIES OF INSPIRATION. \nJerry Schemmel is a longtime Denver based broadcaster. He did radio play by play for the Colorado Rockies from 2010 to 2019.  Prior to that he spent 18 years as the Radio Voice of the Denver Nuggets and two with the Minnesota Timberwolves. He is a plane crash survivor\, author of two books\, an attorney and a record setting cyclist.
URL:https://theacesportsradio.com/show/amazing-americans/2028-01-08/
LOCATION:Amazing Americans Radio Network
ATTACH;FMTTYPE=image/jpeg:https://theacesportsradio.com/wp-content/uploads/2023/07/Amazing-Americans.jpg
END:VEVENT
BEGIN:VEVENT
DTSTART;TZID=America/Los_Angeles:20280115T110000
DTEND;TZID=America/Los_Angeles:20280115T120000
DTSTAMP:20260420T082652
CREATED:20230710T000437Z
LAST-MODIFIED:20230711T211952Z
UID:10024258-1831546800-1831550400@theacesportsradio.com
SUMMARY:Amazing Americans
DESCRIPTION:NO POLITICAL RHETORIC. NO ANGRY TALK SHOW HOSTS.\n​JUST REAL SPORTS STORIES OF INSPIRATION. \nJerry Schemmel is a longtime Denver based broadcaster. He did radio play by play for the Colorado Rockies from 2010 to 2019.  Prior to that he spent 18 years as the Radio Voice of the Denver Nuggets and two with the Minnesota Timberwolves. He is a plane crash survivor\, author of two books\, an attorney and a record setting cyclist.
URL:https://theacesportsradio.com/show/amazing-americans/2028-01-15/
LOCATION:Amazing Americans Radio Network
ATTACH;FMTTYPE=image/jpeg:https://theacesportsradio.com/wp-content/uploads/2023/07/Amazing-Americans.jpg
END:VEVENT
BEGIN:VEVENT
DTSTART;TZID=America/Los_Angeles:20280122T110000
DTEND;TZID=America/Los_Angeles:20280122T120000
DTSTAMP:20260420T082652
CREATED:20230710T000437Z
LAST-MODIFIED:20230711T211952Z
UID:10024259-1832151600-1832155200@theacesportsradio.com
SUMMARY:Amazing Americans
DESCRIPTION:NO POLITICAL RHETORIC. NO ANGRY TALK SHOW HOSTS.\n​JUST REAL SPORTS STORIES OF INSPIRATION. \nJerry Schemmel is a longtime Denver based broadcaster. He did radio play by play for the Colorado Rockies from 2010 to 2019.  Prior to that he spent 18 years as the Radio Voice of the Denver Nuggets and two with the Minnesota Timberwolves. He is a plane crash survivor\, author of two books\, an attorney and a record setting cyclist.
URL:https://theacesportsradio.com/show/amazing-americans/2028-01-22/
LOCATION:Amazing Americans Radio Network
ATTACH;FMTTYPE=image/jpeg:https://theacesportsradio.com/wp-content/uploads/2023/07/Amazing-Americans.jpg
END:VEVENT
BEGIN:VEVENT
DTSTART;TZID=America/Los_Angeles:20280129T110000
DTEND;TZID=America/Los_Angeles:20280129T120000
DTSTAMP:20260420T082652
CREATED:20230710T000437Z
LAST-MODIFIED:20230711T211952Z
UID:10024260-1832756400-1832760000@theacesportsradio.com
SUMMARY:Amazing Americans
DESCRIPTION:NO POLITICAL RHETORIC. NO ANGRY TALK SHOW HOSTS.\n​JUST REAL SPORTS STORIES OF INSPIRATION. \nJerry Schemmel is a longtime Denver based broadcaster. He did radio play by play for the Colorado Rockies from 2010 to 2019.  Prior to that he spent 18 years as the Radio Voice of the Denver Nuggets and two with the Minnesota Timberwolves. He is a plane crash survivor\, author of two books\, an attorney and a record setting cyclist.
URL:https://theacesportsradio.com/show/amazing-americans/2028-01-29/
LOCATION:Amazing Americans Radio Network
ATTACH;FMTTYPE=image/jpeg:https://theacesportsradio.com/wp-content/uploads/2023/07/Amazing-Americans.jpg
END:VEVENT
BEGIN:VEVENT
DTSTART;TZID=America/Los_Angeles:20280205T110000
DTEND;TZID=America/Los_Angeles:20280205T120000
DTSTAMP:20260420T082652
CREATED:20230710T000437Z
LAST-MODIFIED:20230711T211952Z
UID:10024261-1833361200-1833364800@theacesportsradio.com
SUMMARY:Amazing Americans
DESCRIPTION:NO POLITICAL RHETORIC. NO ANGRY TALK SHOW HOSTS.\n​JUST REAL SPORTS STORIES OF INSPIRATION. \nJerry Schemmel is a longtime Denver based broadcaster. He did radio play by play for the Colorado Rockies from 2010 to 2019.  Prior to that he spent 18 years as the Radio Voice of the Denver Nuggets and two with the Minnesota Timberwolves. He is a plane crash survivor\, author of two books\, an attorney and a record setting cyclist.
URL:https://theacesportsradio.com/show/amazing-americans/2028-02-05/
LOCATION:Amazing Americans Radio Network
ATTACH;FMTTYPE=image/jpeg:https://theacesportsradio.com/wp-content/uploads/2023/07/Amazing-Americans.jpg
END:VEVENT
BEGIN:VEVENT
DTSTART;TZID=America/Los_Angeles:20280212T110000
DTEND;TZID=America/Los_Angeles:20280212T120000
DTSTAMP:20260420T082652
CREATED:20230710T000437Z
LAST-MODIFIED:20230711T211952Z
UID:10024262-1833966000-1833969600@theacesportsradio.com
SUMMARY:Amazing Americans
DESCRIPTION:NO POLITICAL RHETORIC. NO ANGRY TALK SHOW HOSTS.\n​JUST REAL SPORTS STORIES OF INSPIRATION. \nJerry Schemmel is a longtime Denver based broadcaster. He did radio play by play for the Colorado Rockies from 2010 to 2019.  Prior to that he spent 18 years as the Radio Voice of the Denver Nuggets and two with the Minnesota Timberwolves. He is a plane crash survivor\, author of two books\, an attorney and a record setting cyclist.
URL:https://theacesportsradio.com/show/amazing-americans/2028-02-12/
LOCATION:Amazing Americans Radio Network
ATTACH;FMTTYPE=image/jpeg:https://theacesportsradio.com/wp-content/uploads/2023/07/Amazing-Americans.jpg
END:VEVENT
BEGIN:VEVENT
DTSTART;TZID=America/Los_Angeles:20280219T110000
DTEND;TZID=America/Los_Angeles:20280219T120000
DTSTAMP:20260420T082652
CREATED:20230710T000437Z
LAST-MODIFIED:20230711T211952Z
UID:10024263-1834570800-1834574400@theacesportsradio.com
SUMMARY:Amazing Americans
DESCRIPTION:NO POLITICAL RHETORIC. NO ANGRY TALK SHOW HOSTS.\n​JUST REAL SPORTS STORIES OF INSPIRATION. \nJerry Schemmel is a longtime Denver based broadcaster. He did radio play by play for the Colorado Rockies from 2010 to 2019.  Prior to that he spent 18 years as the Radio Voice of the Denver Nuggets and two with the Minnesota Timberwolves. He is a plane crash survivor\, author of two books\, an attorney and a record setting cyclist.
URL:https://theacesportsradio.com/show/amazing-americans/2028-02-19/
LOCATION:Amazing Americans Radio Network
ATTACH;FMTTYPE=image/jpeg:https://theacesportsradio.com/wp-content/uploads/2023/07/Amazing-Americans.jpg
END:VEVENT
BEGIN:VEVENT
DTSTART;TZID=America/Los_Angeles:20280226T110000
DTEND;TZID=America/Los_Angeles:20280226T120000
DTSTAMP:20260420T082652
CREATED:20230710T000437Z
LAST-MODIFIED:20230711T211952Z
UID:10024264-1835175600-1835179200@theacesportsradio.com
SUMMARY:Amazing Americans
DESCRIPTION:NO POLITICAL RHETORIC. NO ANGRY TALK SHOW HOSTS.\n​JUST REAL SPORTS STORIES OF INSPIRATION. \nJerry Schemmel is a longtime Denver based broadcaster. He did radio play by play for the Colorado Rockies from 2010 to 2019.  Prior to that he spent 18 years as the Radio Voice of the Denver Nuggets and two with the Minnesota Timberwolves. He is a plane crash survivor\, author of two books\, an attorney and a record setting cyclist.
URL:https://theacesportsradio.com/show/amazing-americans/2028-02-26/
LOCATION:Amazing Americans Radio Network
ATTACH;FMTTYPE=image/jpeg:https://theacesportsradio.com/wp-content/uploads/2023/07/Amazing-Americans.jpg
END:VEVENT
BEGIN:VEVENT
DTSTART;TZID=America/Los_Angeles:20280304T110000
DTEND;TZID=America/Los_Angeles:20280304T120000
DTSTAMP:20260420T082652
CREATED:20230710T000437Z
LAST-MODIFIED:20230711T211952Z
UID:10024265-1835780400-1835784000@theacesportsradio.com
SUMMARY:Amazing Americans
DESCRIPTION:NO POLITICAL RHETORIC. NO ANGRY TALK SHOW HOSTS.\n​JUST REAL SPORTS STORIES OF INSPIRATION. \nJerry Schemmel is a longtime Denver based broadcaster. He did radio play by play for the Colorado Rockies from 2010 to 2019.  Prior to that he spent 18 years as the Radio Voice of the Denver Nuggets and two with the Minnesota Timberwolves. He is a plane crash survivor\, author of two books\, an attorney and a record setting cyclist.
URL:https://theacesportsradio.com/show/amazing-americans/2028-03-04/
LOCATION:Amazing Americans Radio Network
ATTACH;FMTTYPE=image/jpeg:https://theacesportsradio.com/wp-content/uploads/2023/07/Amazing-Americans.jpg
END:VEVENT
BEGIN:VEVENT
DTSTART;TZID=America/Los_Angeles:20280311T110000
DTEND;TZID=America/Los_Angeles:20280311T120000
DTSTAMP:20260420T082652
CREATED:20230710T000437Z
LAST-MODIFIED:20230711T211952Z
UID:10024266-1836385200-1836388800@theacesportsradio.com
SUMMARY:Amazing Americans
DESCRIPTION:NO POLITICAL RHETORIC. NO ANGRY TALK SHOW HOSTS.\n​JUST REAL SPORTS STORIES OF INSPIRATION. \nJerry Schemmel is a longtime Denver based broadcaster. He did radio play by play for the Colorado Rockies from 2010 to 2019.  Prior to that he spent 18 years as the Radio Voice of the Denver Nuggets and two with the Minnesota Timberwolves. He is a plane crash survivor\, author of two books\, an attorney and a record setting cyclist.
URL:https://theacesportsradio.com/show/amazing-americans/2028-03-11/
LOCATION:Amazing Americans Radio Network
ATTACH;FMTTYPE=image/jpeg:https://theacesportsradio.com/wp-content/uploads/2023/07/Amazing-Americans.jpg
END:VEVENT
BEGIN:VEVENT
DTSTART;TZID=America/Los_Angeles:20280318T110000
DTEND;TZID=America/Los_Angeles:20280318T120000
DTSTAMP:20260420T082653
CREATED:20230710T000437Z
LAST-MODIFIED:20230711T211952Z
UID:10024267-1836990000-1836993600@theacesportsradio.com
SUMMARY:Amazing Americans
DESCRIPTION:NO POLITICAL RHETORIC. NO ANGRY TALK SHOW HOSTS.\n​JUST REAL SPORTS STORIES OF INSPIRATION. \nJerry Schemmel is a longtime Denver based broadcaster. He did radio play by play for the Colorado Rockies from 2010 to 2019.  Prior to that he spent 18 years as the Radio Voice of the Denver Nuggets and two with the Minnesota Timberwolves. He is a plane crash survivor\, author of two books\, an attorney and a record setting cyclist.
URL:https://theacesportsradio.com/show/amazing-americans/2028-03-18/
LOCATION:Amazing Americans Radio Network
ATTACH;FMTTYPE=image/jpeg:https://theacesportsradio.com/wp-content/uploads/2023/07/Amazing-Americans.jpg
END:VEVENT
BEGIN:VEVENT
DTSTART;TZID=America/Los_Angeles:20280325T110000
DTEND;TZID=America/Los_Angeles:20280325T120000
DTSTAMP:20260420T082653
CREATED:20230710T000437Z
LAST-MODIFIED:20230711T211952Z
UID:10024268-1837594800-1837598400@theacesportsradio.com
SUMMARY:Amazing Americans
DESCRIPTION:NO POLITICAL RHETORIC. NO ANGRY TALK SHOW HOSTS.\n​JUST REAL SPORTS STORIES OF INSPIRATION. \nJerry Schemmel is a longtime Denver based broadcaster. He did radio play by play for the Colorado Rockies from 2010 to 2019.  Prior to that he spent 18 years as the Radio Voice of the Denver Nuggets and two with the Minnesota Timberwolves. He is a plane crash survivor\, author of two books\, an attorney and a record setting cyclist.
URL:https://theacesportsradio.com/show/amazing-americans/2028-03-25/
LOCATION:Amazing Americans Radio Network
ATTACH;FMTTYPE=image/jpeg:https://theacesportsradio.com/wp-content/uploads/2023/07/Amazing-Americans.jpg
END:VEVENT
BEGIN:VEVENT
DTSTART;TZID=America/Los_Angeles:20280401T110000
DTEND;TZID=America/Los_Angeles:20280401T120000
DTSTAMP:20260420T082653
CREATED:20230710T000437Z
LAST-MODIFIED:20230711T211952Z
UID:10024269-1838199600-1838203200@theacesportsradio.com
SUMMARY:Amazing Americans
DESCRIPTION:NO POLITICAL RHETORIC. NO ANGRY TALK SHOW HOSTS.\n​JUST REAL SPORTS STORIES OF INSPIRATION. \nJerry Schemmel is a longtime Denver based broadcaster. He did radio play by play for the Colorado Rockies from 2010 to 2019.  Prior to that he spent 18 years as the Radio Voice of the Denver Nuggets and two with the Minnesota Timberwolves. He is a plane crash survivor\, author of two books\, an attorney and a record setting cyclist.
URL:https://theacesportsradio.com/show/amazing-americans/2028-04-01/
LOCATION:Amazing Americans Radio Network
ATTACH;FMTTYPE=image/jpeg:https://theacesportsradio.com/wp-content/uploads/2023/07/Amazing-Americans.jpg
END:VEVENT
BEGIN:VEVENT
DTSTART;TZID=America/Los_Angeles:20280408T110000
DTEND;TZID=America/Los_Angeles:20280408T120000
DTSTAMP:20260420T082653
CREATED:20230710T000437Z
LAST-MODIFIED:20230711T211952Z
UID:10024270-1838804400-1838808000@theacesportsradio.com
SUMMARY:Amazing Americans
DESCRIPTION:NO POLITICAL RHETORIC. NO ANGRY TALK SHOW HOSTS.\n​JUST REAL SPORTS STORIES OF INSPIRATION. \nJerry Schemmel is a longtime Denver based broadcaster. He did radio play by play for the Colorado Rockies from 2010 to 2019.  Prior to that he spent 18 years as the Radio Voice of the Denver Nuggets and two with the Minnesota Timberwolves. He is a plane crash survivor\, author of two books\, an attorney and a record setting cyclist.
URL:https://theacesportsradio.com/show/amazing-americans/2028-04-08/
LOCATION:Amazing Americans Radio Network
ATTACH;FMTTYPE=image/jpeg:https://theacesportsradio.com/wp-content/uploads/2023/07/Amazing-Americans.jpg
END:VEVENT
BEGIN:VEVENT
DTSTART;TZID=America/Los_Angeles:20280415T110000
DTEND;TZID=America/Los_Angeles:20280415T120000
DTSTAMP:20260420T082653
CREATED:20230710T000437Z
LAST-MODIFIED:20230711T211952Z
UID:10024271-1839409200-1839412800@theacesportsradio.com
SUMMARY:Amazing Americans
DESCRIPTION:NO POLITICAL RHETORIC. NO ANGRY TALK SHOW HOSTS.\n​JUST REAL SPORTS STORIES OF INSPIRATION. \nJerry Schemmel is a longtime Denver based broadcaster. He did radio play by play for the Colorado Rockies from 2010 to 2019.  Prior to that he spent 18 years as the Radio Voice of the Denver Nuggets and two with the Minnesota Timberwolves. He is a plane crash survivor\, author of two books\, an attorney and a record setting cyclist.
URL:https://theacesportsradio.com/show/amazing-americans/2028-04-15/
LOCATION:Amazing Americans Radio Network
ATTACH;FMTTYPE=image/jpeg:https://theacesportsradio.com/wp-content/uploads/2023/07/Amazing-Americans.jpg
END:VEVENT
BEGIN:VEVENT
DTSTART;TZID=America/Los_Angeles:20280422T110000
DTEND;TZID=America/Los_Angeles:20280422T120000
DTSTAMP:20260420T082653
CREATED:20230710T000437Z
LAST-MODIFIED:20230711T211952Z
UID:10024272-1840014000-1840017600@theacesportsradio.com
SUMMARY:Amazing Americans
DESCRIPTION:NO POLITICAL RHETORIC. NO ANGRY TALK SHOW HOSTS.\n​JUST REAL SPORTS STORIES OF INSPIRATION. \nJerry Schemmel is a longtime Denver based broadcaster. He did radio play by play for the Colorado Rockies from 2010 to 2019.  Prior to that he spent 18 years as the Radio Voice of the Denver Nuggets and two with the Minnesota Timberwolves. He is a plane crash survivor\, author of two books\, an attorney and a record setting cyclist.
URL:https://theacesportsradio.com/show/amazing-americans/2028-04-22/
LOCATION:Amazing Americans Radio Network
ATTACH;FMTTYPE=image/jpeg:https://theacesportsradio.com/wp-content/uploads/2023/07/Amazing-Americans.jpg
END:VEVENT
BEGIN:VEVENT
DTSTART;TZID=America/Los_Angeles:20280429T110000
DTEND;TZID=America/Los_Angeles:20280429T120000
DTSTAMP:20260420T082653
CREATED:20230710T000437Z
LAST-MODIFIED:20230711T211952Z
UID:10024273-1840618800-1840622400@theacesportsradio.com
SUMMARY:Amazing Americans
DESCRIPTION:NO POLITICAL RHETORIC. NO ANGRY TALK SHOW HOSTS.\n​JUST REAL SPORTS STORIES OF INSPIRATION. \nJerry Schemmel is a longtime Denver based broadcaster. He did radio play by play for the Colorado Rockies from 2010 to 2019.  Prior to that he spent 18 years as the Radio Voice of the Denver Nuggets and two with the Minnesota Timberwolves. He is a plane crash survivor\, author of two books\, an attorney and a record setting cyclist.
URL:https://theacesportsradio.com/show/amazing-americans/2028-04-29/
LOCATION:Amazing Americans Radio Network
ATTACH;FMTTYPE=image/jpeg:https://theacesportsradio.com/wp-content/uploads/2023/07/Amazing-Americans.jpg
END:VEVENT
BEGIN:VEVENT
DTSTART;TZID=America/Los_Angeles:20280506T110000
DTEND;TZID=America/Los_Angeles:20280506T120000
DTSTAMP:20260420T082653
CREATED:20230710T000437Z
LAST-MODIFIED:20230711T211952Z
UID:10024274-1841223600-1841227200@theacesportsradio.com
SUMMARY:Amazing Americans
DESCRIPTION:NO POLITICAL RHETORIC. NO ANGRY TALK SHOW HOSTS.\n​JUST REAL SPORTS STORIES OF INSPIRATION. \nJerry Schemmel is a longtime Denver based broadcaster. He did radio play by play for the Colorado Rockies from 2010 to 2019.  Prior to that he spent 18 years as the Radio Voice of the Denver Nuggets and two with the Minnesota Timberwolves. He is a plane crash survivor\, author of two books\, an attorney and a record setting cyclist.
URL:https://theacesportsradio.com/show/amazing-americans/2028-05-06/
LOCATION:Amazing Americans Radio Network
ATTACH;FMTTYPE=image/jpeg:https://theacesportsradio.com/wp-content/uploads/2023/07/Amazing-Americans.jpg
END:VEVENT
BEGIN:VEVENT
DTSTART;TZID=America/Los_Angeles:20280513T110000
DTEND;TZID=America/Los_Angeles:20280513T120000
DTSTAMP:20260420T082653
CREATED:20230710T000437Z
LAST-MODIFIED:20230711T211952Z
UID:10024275-1841828400-1841832000@theacesportsradio.com
SUMMARY:Amazing Americans
DESCRIPTION:NO POLITICAL RHETORIC. NO ANGRY TALK SHOW HOSTS.\n​JUST REAL SPORTS STORIES OF INSPIRATION. \nJerry Schemmel is a longtime Denver based broadcaster. He did radio play by play for the Colorado Rockies from 2010 to 2019.  Prior to that he spent 18 years as the Radio Voice of the Denver Nuggets and two with the Minnesota Timberwolves. He is a plane crash survivor\, author of two books\, an attorney and a record setting cyclist.
URL:https://theacesportsradio.com/show/amazing-americans/2028-05-13/
LOCATION:Amazing Americans Radio Network
ATTACH;FMTTYPE=image/jpeg:https://theacesportsradio.com/wp-content/uploads/2023/07/Amazing-Americans.jpg
END:VEVENT
BEGIN:VEVENT
DTSTART;TZID=America/Los_Angeles:20280520T110000
DTEND;TZID=America/Los_Angeles:20280520T120000
DTSTAMP:20260420T082653
CREATED:20230710T000437Z
LAST-MODIFIED:20230711T211952Z
UID:10024276-1842433200-1842436800@theacesportsradio.com
SUMMARY:Amazing Americans
DESCRIPTION:NO POLITICAL RHETORIC. NO ANGRY TALK SHOW HOSTS.\n​JUST REAL SPORTS STORIES OF INSPIRATION. \nJerry Schemmel is a longtime Denver based broadcaster. He did radio play by play for the Colorado Rockies from 2010 to 2019.  Prior to that he spent 18 years as the Radio Voice of the Denver Nuggets and two with the Minnesota Timberwolves. He is a plane crash survivor\, author of two books\, an attorney and a record setting cyclist.
URL:https://theacesportsradio.com/show/amazing-americans/2028-05-20/
LOCATION:Amazing Americans Radio Network
ATTACH;FMTTYPE=image/jpeg:https://theacesportsradio.com/wp-content/uploads/2023/07/Amazing-Americans.jpg
END:VEVENT
BEGIN:VEVENT
DTSTART;TZID=America/Los_Angeles:20280527T110000
DTEND;TZID=America/Los_Angeles:20280527T120000
DTSTAMP:20260420T082653
CREATED:20230710T000437Z
LAST-MODIFIED:20230711T211952Z
UID:10024277-1843038000-1843041600@theacesportsradio.com
SUMMARY:Amazing Americans
DESCRIPTION:NO POLITICAL RHETORIC. NO ANGRY TALK SHOW HOSTS.\n​JUST REAL SPORTS STORIES OF INSPIRATION. \nJerry Schemmel is a longtime Denver based broadcaster. He did radio play by play for the Colorado Rockies from 2010 to 2019.  Prior to that he spent 18 years as the Radio Voice of the Denver Nuggets and two with the Minnesota Timberwolves. He is a plane crash survivor\, author of two books\, an attorney and a record setting cyclist.
URL:https://theacesportsradio.com/show/amazing-americans/2028-05-27/
LOCATION:Amazing Americans Radio Network
ATTACH;FMTTYPE=image/jpeg:https://theacesportsradio.com/wp-content/uploads/2023/07/Amazing-Americans.jpg
END:VEVENT
BEGIN:VEVENT
DTSTART;TZID=America/Los_Angeles:20280603T110000
DTEND;TZID=America/Los_Angeles:20280603T120000
DTSTAMP:20260420T082653
CREATED:20230710T000437Z
LAST-MODIFIED:20230711T211952Z
UID:10024278-1843642800-1843646400@theacesportsradio.com
SUMMARY:Amazing Americans
DESCRIPTION:NO POLITICAL RHETORIC. NO ANGRY TALK SHOW HOSTS.\n​JUST REAL SPORTS STORIES OF INSPIRATION. \nJerry Schemmel is a longtime Denver based broadcaster. He did radio play by play for the Colorado Rockies from 2010 to 2019.  Prior to that he spent 18 years as the Radio Voice of the Denver Nuggets and two with the Minnesota Timberwolves. He is a plane crash survivor\, author of two books\, an attorney and a record setting cyclist.
URL:https://theacesportsradio.com/show/amazing-americans/2028-06-03/
LOCATION:Amazing Americans Radio Network
ATTACH;FMTTYPE=image/jpeg:https://theacesportsradio.com/wp-content/uploads/2023/07/Amazing-Americans.jpg
END:VEVENT
BEGIN:VEVENT
DTSTART;TZID=America/Los_Angeles:20280610T110000
DTEND;TZID=America/Los_Angeles:20280610T120000
DTSTAMP:20260420T082653
CREATED:20230710T000437Z
LAST-MODIFIED:20230711T211952Z
UID:10024279-1844247600-1844251200@theacesportsradio.com
SUMMARY:Amazing Americans
DESCRIPTION:NO POLITICAL RHETORIC. NO ANGRY TALK SHOW HOSTS.\n​JUST REAL SPORTS STORIES OF INSPIRATION. \nJerry Schemmel is a longtime Denver based broadcaster. He did radio play by play for the Colorado Rockies from 2010 to 2019.  Prior to that he spent 18 years as the Radio Voice of the Denver Nuggets and two with the Minnesota Timberwolves. He is a plane crash survivor\, author of two books\, an attorney and a record setting cyclist.
URL:https://theacesportsradio.com/show/amazing-americans/2028-06-10/
LOCATION:Amazing Americans Radio Network
ATTACH;FMTTYPE=image/jpeg:https://theacesportsradio.com/wp-content/uploads/2023/07/Amazing-Americans.jpg
END:VEVENT
BEGIN:VEVENT
DTSTART;TZID=America/Los_Angeles:20280617T110000
DTEND;TZID=America/Los_Angeles:20280617T120000
DTSTAMP:20260420T082653
CREATED:20230710T000437Z
LAST-MODIFIED:20230711T211952Z
UID:10024280-1844852400-1844856000@theacesportsradio.com
SUMMARY:Amazing Americans
DESCRIPTION:NO POLITICAL RHETORIC. NO ANGRY TALK SHOW HOSTS.\n​JUST REAL SPORTS STORIES OF INSPIRATION. \nJerry Schemmel is a longtime Denver based broadcaster. He did radio play by play for the Colorado Rockies from 2010 to 2019.  Prior to that he spent 18 years as the Radio Voice of the Denver Nuggets and two with the Minnesota Timberwolves. He is a plane crash survivor\, author of two books\, an attorney and a record setting cyclist.
URL:https://theacesportsradio.com/show/amazing-americans/2028-06-17/
LOCATION:Amazing Americans Radio Network
ATTACH;FMTTYPE=image/jpeg:https://theacesportsradio.com/wp-content/uploads/2023/07/Amazing-Americans.jpg
END:VEVENT
BEGIN:VEVENT
DTSTART;TZID=America/Los_Angeles:20280624T110000
DTEND;TZID=America/Los_Angeles:20280624T120000
DTSTAMP:20260420T082653
CREATED:20230710T000437Z
LAST-MODIFIED:20230711T211952Z
UID:10024281-1845457200-1845460800@theacesportsradio.com
SUMMARY:Amazing Americans
DESCRIPTION:NO POLITICAL RHETORIC. NO ANGRY TALK SHOW HOSTS.\n​JUST REAL SPORTS STORIES OF INSPIRATION. \nJerry Schemmel is a longtime Denver based broadcaster. He did radio play by play for the Colorado Rockies from 2010 to 2019.  Prior to that he spent 18 years as the Radio Voice of the Denver Nuggets and two with the Minnesota Timberwolves. He is a plane crash survivor\, author of two books\, an attorney and a record setting cyclist.
URL:https://theacesportsradio.com/show/amazing-americans/2028-06-24/
LOCATION:Amazing Americans Radio Network
ATTACH;FMTTYPE=image/jpeg:https://theacesportsradio.com/wp-content/uploads/2023/07/Amazing-Americans.jpg
END:VEVENT
END:VCALENDAR