BEGIN:VCALENDAR
VERSION:2.0
PRODID:-//The Ace Sports Radio - ECPv6.15.13//NONSGML v1.0//EN
CALSCALE:GREGORIAN
METHOD:PUBLISH
X-WR-CALNAME:The Ace Sports Radio
X-ORIGINAL-URL:https://theacesportsradio.com
X-WR-CALDESC:Events for The Ace Sports Radio
REFRESH-INTERVAL;VALUE=DURATION:PT1H
X-Robots-Tag:noindex
X-PUBLISHED-TTL:PT1H
BEGIN:VTIMEZONE
TZID:America/Los_Angeles
BEGIN:DAYLIGHT
TZOFFSETFROM:-0800
TZOFFSETTO:-0700
TZNAME:PDT
DTSTART:20250309T100000
END:DAYLIGHT
BEGIN:STANDARD
TZOFFSETFROM:-0700
TZOFFSETTO:-0800
TZNAME:PST
DTSTART:20251102T090000
END:STANDARD
BEGIN:DAYLIGHT
TZOFFSETFROM:-0800
TZOFFSETTO:-0700
TZNAME:PDT
DTSTART:20260308T100000
END:DAYLIGHT
BEGIN:STANDARD
TZOFFSETFROM:-0700
TZOFFSETTO:-0800
TZNAME:PST
DTSTART:20261101T090000
END:STANDARD
BEGIN:DAYLIGHT
TZOFFSETFROM:-0800
TZOFFSETTO:-0700
TZNAME:PDT
DTSTART:20270314T100000
END:DAYLIGHT
BEGIN:STANDARD
TZOFFSETFROM:-0700
TZOFFSETTO:-0800
TZNAME:PST
DTSTART:20271107T090000
END:STANDARD
BEGIN:DAYLIGHT
TZOFFSETFROM:-0800
TZOFFSETTO:-0700
TZNAME:PDT
DTSTART:20280312T100000
END:DAYLIGHT
BEGIN:STANDARD
TZOFFSETFROM:-0700
TZOFFSETTO:-0800
TZNAME:PST
DTSTART:20281105T090000
END:STANDARD
END:VTIMEZONE
BEGIN:VEVENT
DTSTART;TZID=America/Los_Angeles:20261010T110000
DTEND;TZID=America/Los_Angeles:20261010T120000
DTSTAMP:20260419T103344
CREATED:20230710T000437Z
LAST-MODIFIED:20230711T211952Z
UID:10024192-1791630000-1791633600@theacesportsradio.com
SUMMARY:Amazing Americans
DESCRIPTION:NO POLITICAL RHETORIC. NO ANGRY TALK SHOW HOSTS.\n​JUST REAL SPORTS STORIES OF INSPIRATION. \nJerry Schemmel is a longtime Denver based broadcaster. He did radio play by play for the Colorado Rockies from 2010 to 2019.  Prior to that he spent 18 years as the Radio Voice of the Denver Nuggets and two with the Minnesota Timberwolves. He is a plane crash survivor\, author of two books\, an attorney and a record setting cyclist.
URL:https://theacesportsradio.com/show/amazing-americans/2026-10-10/
LOCATION:Amazing Americans Radio Network
ATTACH;FMTTYPE=image/jpeg:https://theacesportsradio.com/wp-content/uploads/2023/07/Amazing-Americans.jpg
END:VEVENT
BEGIN:VEVENT
DTSTART;TZID=America/Los_Angeles:20261017T110000
DTEND;TZID=America/Los_Angeles:20261017T120000
DTSTAMP:20260419T103344
CREATED:20230710T000437Z
LAST-MODIFIED:20230711T211952Z
UID:10024193-1792234800-1792238400@theacesportsradio.com
SUMMARY:Amazing Americans
DESCRIPTION:NO POLITICAL RHETORIC. NO ANGRY TALK SHOW HOSTS.\n​JUST REAL SPORTS STORIES OF INSPIRATION. \nJerry Schemmel is a longtime Denver based broadcaster. He did radio play by play for the Colorado Rockies from 2010 to 2019.  Prior to that he spent 18 years as the Radio Voice of the Denver Nuggets and two with the Minnesota Timberwolves. He is a plane crash survivor\, author of two books\, an attorney and a record setting cyclist.
URL:https://theacesportsradio.com/show/amazing-americans/2026-10-17/
LOCATION:Amazing Americans Radio Network
ATTACH;FMTTYPE=image/jpeg:https://theacesportsradio.com/wp-content/uploads/2023/07/Amazing-Americans.jpg
END:VEVENT
BEGIN:VEVENT
DTSTART;TZID=America/Los_Angeles:20261024T110000
DTEND;TZID=America/Los_Angeles:20261024T120000
DTSTAMP:20260419T103344
CREATED:20230710T000437Z
LAST-MODIFIED:20230711T211952Z
UID:10024194-1792839600-1792843200@theacesportsradio.com
SUMMARY:Amazing Americans
DESCRIPTION:NO POLITICAL RHETORIC. NO ANGRY TALK SHOW HOSTS.\n​JUST REAL SPORTS STORIES OF INSPIRATION. \nJerry Schemmel is a longtime Denver based broadcaster. He did radio play by play for the Colorado Rockies from 2010 to 2019.  Prior to that he spent 18 years as the Radio Voice of the Denver Nuggets and two with the Minnesota Timberwolves. He is a plane crash survivor\, author of two books\, an attorney and a record setting cyclist.
URL:https://theacesportsradio.com/show/amazing-americans/2026-10-24/
LOCATION:Amazing Americans Radio Network
ATTACH;FMTTYPE=image/jpeg:https://theacesportsradio.com/wp-content/uploads/2023/07/Amazing-Americans.jpg
END:VEVENT
BEGIN:VEVENT
DTSTART;TZID=America/Los_Angeles:20261031T110000
DTEND;TZID=America/Los_Angeles:20261031T120000
DTSTAMP:20260419T103344
CREATED:20230710T000437Z
LAST-MODIFIED:20230711T211952Z
UID:10024195-1793444400-1793448000@theacesportsradio.com
SUMMARY:Amazing Americans
DESCRIPTION:NO POLITICAL RHETORIC. NO ANGRY TALK SHOW HOSTS.\n​JUST REAL SPORTS STORIES OF INSPIRATION. \nJerry Schemmel is a longtime Denver based broadcaster. He did radio play by play for the Colorado Rockies from 2010 to 2019.  Prior to that he spent 18 years as the Radio Voice of the Denver Nuggets and two with the Minnesota Timberwolves. He is a plane crash survivor\, author of two books\, an attorney and a record setting cyclist.
URL:https://theacesportsradio.com/show/amazing-americans/2026-10-31/
LOCATION:Amazing Americans Radio Network
ATTACH;FMTTYPE=image/jpeg:https://theacesportsradio.com/wp-content/uploads/2023/07/Amazing-Americans.jpg
END:VEVENT
BEGIN:VEVENT
DTSTART;TZID=America/Los_Angeles:20261107T110000
DTEND;TZID=America/Los_Angeles:20261107T120000
DTSTAMP:20260419T103344
CREATED:20230710T000437Z
LAST-MODIFIED:20230711T211952Z
UID:10024196-1794049200-1794052800@theacesportsradio.com
SUMMARY:Amazing Americans
DESCRIPTION:NO POLITICAL RHETORIC. NO ANGRY TALK SHOW HOSTS.\n​JUST REAL SPORTS STORIES OF INSPIRATION. \nJerry Schemmel is a longtime Denver based broadcaster. He did radio play by play for the Colorado Rockies from 2010 to 2019.  Prior to that he spent 18 years as the Radio Voice of the Denver Nuggets and two with the Minnesota Timberwolves. He is a plane crash survivor\, author of two books\, an attorney and a record setting cyclist.
URL:https://theacesportsradio.com/show/amazing-americans/2026-11-07/
LOCATION:Amazing Americans Radio Network
ATTACH;FMTTYPE=image/jpeg:https://theacesportsradio.com/wp-content/uploads/2023/07/Amazing-Americans.jpg
END:VEVENT
BEGIN:VEVENT
DTSTART;TZID=America/Los_Angeles:20261114T110000
DTEND;TZID=America/Los_Angeles:20261114T120000
DTSTAMP:20260419T103344
CREATED:20230710T000437Z
LAST-MODIFIED:20230711T211952Z
UID:10024197-1794654000-1794657600@theacesportsradio.com
SUMMARY:Amazing Americans
DESCRIPTION:NO POLITICAL RHETORIC. NO ANGRY TALK SHOW HOSTS.\n​JUST REAL SPORTS STORIES OF INSPIRATION. \nJerry Schemmel is a longtime Denver based broadcaster. He did radio play by play for the Colorado Rockies from 2010 to 2019.  Prior to that he spent 18 years as the Radio Voice of the Denver Nuggets and two with the Minnesota Timberwolves. He is a plane crash survivor\, author of two books\, an attorney and a record setting cyclist.
URL:https://theacesportsradio.com/show/amazing-americans/2026-11-14/
LOCATION:Amazing Americans Radio Network
ATTACH;FMTTYPE=image/jpeg:https://theacesportsradio.com/wp-content/uploads/2023/07/Amazing-Americans.jpg
END:VEVENT
BEGIN:VEVENT
DTSTART;TZID=America/Los_Angeles:20261121T110000
DTEND;TZID=America/Los_Angeles:20261121T120000
DTSTAMP:20260419T103344
CREATED:20230710T000437Z
LAST-MODIFIED:20230711T211952Z
UID:10024198-1795258800-1795262400@theacesportsradio.com
SUMMARY:Amazing Americans
DESCRIPTION:NO POLITICAL RHETORIC. NO ANGRY TALK SHOW HOSTS.\n​JUST REAL SPORTS STORIES OF INSPIRATION. \nJerry Schemmel is a longtime Denver based broadcaster. He did radio play by play for the Colorado Rockies from 2010 to 2019.  Prior to that he spent 18 years as the Radio Voice of the Denver Nuggets and two with the Minnesota Timberwolves. He is a plane crash survivor\, author of two books\, an attorney and a record setting cyclist.
URL:https://theacesportsradio.com/show/amazing-americans/2026-11-21/
LOCATION:Amazing Americans Radio Network
ATTACH;FMTTYPE=image/jpeg:https://theacesportsradio.com/wp-content/uploads/2023/07/Amazing-Americans.jpg
END:VEVENT
BEGIN:VEVENT
DTSTART;TZID=America/Los_Angeles:20261128T110000
DTEND;TZID=America/Los_Angeles:20261128T120000
DTSTAMP:20260419T103344
CREATED:20230710T000437Z
LAST-MODIFIED:20230711T211952Z
UID:10024199-1795863600-1795867200@theacesportsradio.com
SUMMARY:Amazing Americans
DESCRIPTION:NO POLITICAL RHETORIC. NO ANGRY TALK SHOW HOSTS.\n​JUST REAL SPORTS STORIES OF INSPIRATION. \nJerry Schemmel is a longtime Denver based broadcaster. He did radio play by play for the Colorado Rockies from 2010 to 2019.  Prior to that he spent 18 years as the Radio Voice of the Denver Nuggets and two with the Minnesota Timberwolves. He is a plane crash survivor\, author of two books\, an attorney and a record setting cyclist.
URL:https://theacesportsradio.com/show/amazing-americans/2026-11-28/
LOCATION:Amazing Americans Radio Network
ATTACH;FMTTYPE=image/jpeg:https://theacesportsradio.com/wp-content/uploads/2023/07/Amazing-Americans.jpg
END:VEVENT
BEGIN:VEVENT
DTSTART;TZID=America/Los_Angeles:20261205T110000
DTEND;TZID=America/Los_Angeles:20261205T120000
DTSTAMP:20260419T103344
CREATED:20230710T000437Z
LAST-MODIFIED:20230711T211952Z
UID:10024200-1796468400-1796472000@theacesportsradio.com
SUMMARY:Amazing Americans
DESCRIPTION:NO POLITICAL RHETORIC. NO ANGRY TALK SHOW HOSTS.\n​JUST REAL SPORTS STORIES OF INSPIRATION. \nJerry Schemmel is a longtime Denver based broadcaster. He did radio play by play for the Colorado Rockies from 2010 to 2019.  Prior to that he spent 18 years as the Radio Voice of the Denver Nuggets and two with the Minnesota Timberwolves. He is a plane crash survivor\, author of two books\, an attorney and a record setting cyclist.
URL:https://theacesportsradio.com/show/amazing-americans/2026-12-05/
LOCATION:Amazing Americans Radio Network
ATTACH;FMTTYPE=image/jpeg:https://theacesportsradio.com/wp-content/uploads/2023/07/Amazing-Americans.jpg
END:VEVENT
BEGIN:VEVENT
DTSTART;TZID=America/Los_Angeles:20261212T110000
DTEND;TZID=America/Los_Angeles:20261212T120000
DTSTAMP:20260419T103344
CREATED:20230710T000437Z
LAST-MODIFIED:20230711T211952Z
UID:10024201-1797073200-1797076800@theacesportsradio.com
SUMMARY:Amazing Americans
DESCRIPTION:NO POLITICAL RHETORIC. NO ANGRY TALK SHOW HOSTS.\n​JUST REAL SPORTS STORIES OF INSPIRATION. \nJerry Schemmel is a longtime Denver based broadcaster. He did radio play by play for the Colorado Rockies from 2010 to 2019.  Prior to that he spent 18 years as the Radio Voice of the Denver Nuggets and two with the Minnesota Timberwolves. He is a plane crash survivor\, author of two books\, an attorney and a record setting cyclist.
URL:https://theacesportsradio.com/show/amazing-americans/2026-12-12/
LOCATION:Amazing Americans Radio Network
ATTACH;FMTTYPE=image/jpeg:https://theacesportsradio.com/wp-content/uploads/2023/07/Amazing-Americans.jpg
END:VEVENT
BEGIN:VEVENT
DTSTART;TZID=America/Los_Angeles:20261219T110000
DTEND;TZID=America/Los_Angeles:20261219T120000
DTSTAMP:20260419T103344
CREATED:20230710T000437Z
LAST-MODIFIED:20230711T211952Z
UID:10024202-1797678000-1797681600@theacesportsradio.com
SUMMARY:Amazing Americans
DESCRIPTION:NO POLITICAL RHETORIC. NO ANGRY TALK SHOW HOSTS.\n​JUST REAL SPORTS STORIES OF INSPIRATION. \nJerry Schemmel is a longtime Denver based broadcaster. He did radio play by play for the Colorado Rockies from 2010 to 2019.  Prior to that he spent 18 years as the Radio Voice of the Denver Nuggets and two with the Minnesota Timberwolves. He is a plane crash survivor\, author of two books\, an attorney and a record setting cyclist.
URL:https://theacesportsradio.com/show/amazing-americans/2026-12-19/
LOCATION:Amazing Americans Radio Network
ATTACH;FMTTYPE=image/jpeg:https://theacesportsradio.com/wp-content/uploads/2023/07/Amazing-Americans.jpg
END:VEVENT
BEGIN:VEVENT
DTSTART;TZID=America/Los_Angeles:20261226T110000
DTEND;TZID=America/Los_Angeles:20261226T120000
DTSTAMP:20260419T103344
CREATED:20230710T000437Z
LAST-MODIFIED:20230711T211952Z
UID:10024203-1798282800-1798286400@theacesportsradio.com
SUMMARY:Amazing Americans
DESCRIPTION:NO POLITICAL RHETORIC. NO ANGRY TALK SHOW HOSTS.\n​JUST REAL SPORTS STORIES OF INSPIRATION. \nJerry Schemmel is a longtime Denver based broadcaster. He did radio play by play for the Colorado Rockies from 2010 to 2019.  Prior to that he spent 18 years as the Radio Voice of the Denver Nuggets and two with the Minnesota Timberwolves. He is a plane crash survivor\, author of two books\, an attorney and a record setting cyclist.
URL:https://theacesportsradio.com/show/amazing-americans/2026-12-26/
LOCATION:Amazing Americans Radio Network
ATTACH;FMTTYPE=image/jpeg:https://theacesportsradio.com/wp-content/uploads/2023/07/Amazing-Americans.jpg
END:VEVENT
BEGIN:VEVENT
DTSTART;TZID=America/Los_Angeles:20270102T110000
DTEND;TZID=America/Los_Angeles:20270102T120000
DTSTAMP:20260419T103344
CREATED:20230710T000437Z
LAST-MODIFIED:20230711T211952Z
UID:10024204-1798887600-1798891200@theacesportsradio.com
SUMMARY:Amazing Americans
DESCRIPTION:NO POLITICAL RHETORIC. NO ANGRY TALK SHOW HOSTS.\n​JUST REAL SPORTS STORIES OF INSPIRATION. \nJerry Schemmel is a longtime Denver based broadcaster. He did radio play by play for the Colorado Rockies from 2010 to 2019.  Prior to that he spent 18 years as the Radio Voice of the Denver Nuggets and two with the Minnesota Timberwolves. He is a plane crash survivor\, author of two books\, an attorney and a record setting cyclist.
URL:https://theacesportsradio.com/show/amazing-americans/2027-01-02/
LOCATION:Amazing Americans Radio Network
ATTACH;FMTTYPE=image/jpeg:https://theacesportsradio.com/wp-content/uploads/2023/07/Amazing-Americans.jpg
END:VEVENT
BEGIN:VEVENT
DTSTART;TZID=America/Los_Angeles:20270109T110000
DTEND;TZID=America/Los_Angeles:20270109T120000
DTSTAMP:20260419T103344
CREATED:20230710T000437Z
LAST-MODIFIED:20230711T211952Z
UID:10024205-1799492400-1799496000@theacesportsradio.com
SUMMARY:Amazing Americans
DESCRIPTION:NO POLITICAL RHETORIC. NO ANGRY TALK SHOW HOSTS.\n​JUST REAL SPORTS STORIES OF INSPIRATION. \nJerry Schemmel is a longtime Denver based broadcaster. He did radio play by play for the Colorado Rockies from 2010 to 2019.  Prior to that he spent 18 years as the Radio Voice of the Denver Nuggets and two with the Minnesota Timberwolves. He is a plane crash survivor\, author of two books\, an attorney and a record setting cyclist.
URL:https://theacesportsradio.com/show/amazing-americans/2027-01-09/
LOCATION:Amazing Americans Radio Network
ATTACH;FMTTYPE=image/jpeg:https://theacesportsradio.com/wp-content/uploads/2023/07/Amazing-Americans.jpg
END:VEVENT
BEGIN:VEVENT
DTSTART;TZID=America/Los_Angeles:20270116T110000
DTEND;TZID=America/Los_Angeles:20270116T120000
DTSTAMP:20260419T103344
CREATED:20230710T000437Z
LAST-MODIFIED:20230711T211952Z
UID:10024206-1800097200-1800100800@theacesportsradio.com
SUMMARY:Amazing Americans
DESCRIPTION:NO POLITICAL RHETORIC. NO ANGRY TALK SHOW HOSTS.\n​JUST REAL SPORTS STORIES OF INSPIRATION. \nJerry Schemmel is a longtime Denver based broadcaster. He did radio play by play for the Colorado Rockies from 2010 to 2019.  Prior to that he spent 18 years as the Radio Voice of the Denver Nuggets and two with the Minnesota Timberwolves. He is a plane crash survivor\, author of two books\, an attorney and a record setting cyclist.
URL:https://theacesportsradio.com/show/amazing-americans/2027-01-16/
LOCATION:Amazing Americans Radio Network
ATTACH;FMTTYPE=image/jpeg:https://theacesportsradio.com/wp-content/uploads/2023/07/Amazing-Americans.jpg
END:VEVENT
BEGIN:VEVENT
DTSTART;TZID=America/Los_Angeles:20270123T110000
DTEND;TZID=America/Los_Angeles:20270123T120000
DTSTAMP:20260419T103344
CREATED:20230710T000437Z
LAST-MODIFIED:20230711T211952Z
UID:10024207-1800702000-1800705600@theacesportsradio.com
SUMMARY:Amazing Americans
DESCRIPTION:NO POLITICAL RHETORIC. NO ANGRY TALK SHOW HOSTS.\n​JUST REAL SPORTS STORIES OF INSPIRATION. \nJerry Schemmel is a longtime Denver based broadcaster. He did radio play by play for the Colorado Rockies from 2010 to 2019.  Prior to that he spent 18 years as the Radio Voice of the Denver Nuggets and two with the Minnesota Timberwolves. He is a plane crash survivor\, author of two books\, an attorney and a record setting cyclist.
URL:https://theacesportsradio.com/show/amazing-americans/2027-01-23/
LOCATION:Amazing Americans Radio Network
ATTACH;FMTTYPE=image/jpeg:https://theacesportsradio.com/wp-content/uploads/2023/07/Amazing-Americans.jpg
END:VEVENT
BEGIN:VEVENT
DTSTART;TZID=America/Los_Angeles:20270130T110000
DTEND;TZID=America/Los_Angeles:20270130T120000
DTSTAMP:20260419T103344
CREATED:20230710T000437Z
LAST-MODIFIED:20230711T211952Z
UID:10024208-1801306800-1801310400@theacesportsradio.com
SUMMARY:Amazing Americans
DESCRIPTION:NO POLITICAL RHETORIC. NO ANGRY TALK SHOW HOSTS.\n​JUST REAL SPORTS STORIES OF INSPIRATION. \nJerry Schemmel is a longtime Denver based broadcaster. He did radio play by play for the Colorado Rockies from 2010 to 2019.  Prior to that he spent 18 years as the Radio Voice of the Denver Nuggets and two with the Minnesota Timberwolves. He is a plane crash survivor\, author of two books\, an attorney and a record setting cyclist.
URL:https://theacesportsradio.com/show/amazing-americans/2027-01-30/
LOCATION:Amazing Americans Radio Network
ATTACH;FMTTYPE=image/jpeg:https://theacesportsradio.com/wp-content/uploads/2023/07/Amazing-Americans.jpg
END:VEVENT
BEGIN:VEVENT
DTSTART;TZID=America/Los_Angeles:20270206T110000
DTEND;TZID=America/Los_Angeles:20270206T120000
DTSTAMP:20260419T103344
CREATED:20230710T000437Z
LAST-MODIFIED:20230711T211952Z
UID:10024209-1801911600-1801915200@theacesportsradio.com
SUMMARY:Amazing Americans
DESCRIPTION:NO POLITICAL RHETORIC. NO ANGRY TALK SHOW HOSTS.\n​JUST REAL SPORTS STORIES OF INSPIRATION. \nJerry Schemmel is a longtime Denver based broadcaster. He did radio play by play for the Colorado Rockies from 2010 to 2019.  Prior to that he spent 18 years as the Radio Voice of the Denver Nuggets and two with the Minnesota Timberwolves. He is a plane crash survivor\, author of two books\, an attorney and a record setting cyclist.
URL:https://theacesportsradio.com/show/amazing-americans/2027-02-06/
LOCATION:Amazing Americans Radio Network
ATTACH;FMTTYPE=image/jpeg:https://theacesportsradio.com/wp-content/uploads/2023/07/Amazing-Americans.jpg
END:VEVENT
BEGIN:VEVENT
DTSTART;TZID=America/Los_Angeles:20270213T110000
DTEND;TZID=America/Los_Angeles:20270213T120000
DTSTAMP:20260419T103344
CREATED:20230710T000437Z
LAST-MODIFIED:20230711T211952Z
UID:10024210-1802516400-1802520000@theacesportsradio.com
SUMMARY:Amazing Americans
DESCRIPTION:NO POLITICAL RHETORIC. NO ANGRY TALK SHOW HOSTS.\n​JUST REAL SPORTS STORIES OF INSPIRATION. \nJerry Schemmel is a longtime Denver based broadcaster. He did radio play by play for the Colorado Rockies from 2010 to 2019.  Prior to that he spent 18 years as the Radio Voice of the Denver Nuggets and two with the Minnesota Timberwolves. He is a plane crash survivor\, author of two books\, an attorney and a record setting cyclist.
URL:https://theacesportsradio.com/show/amazing-americans/2027-02-13/
LOCATION:Amazing Americans Radio Network
ATTACH;FMTTYPE=image/jpeg:https://theacesportsradio.com/wp-content/uploads/2023/07/Amazing-Americans.jpg
END:VEVENT
BEGIN:VEVENT
DTSTART;TZID=America/Los_Angeles:20270220T110000
DTEND;TZID=America/Los_Angeles:20270220T120000
DTSTAMP:20260419T103344
CREATED:20230710T000437Z
LAST-MODIFIED:20230711T211952Z
UID:10024211-1803121200-1803124800@theacesportsradio.com
SUMMARY:Amazing Americans
DESCRIPTION:NO POLITICAL RHETORIC. NO ANGRY TALK SHOW HOSTS.\n​JUST REAL SPORTS STORIES OF INSPIRATION. \nJerry Schemmel is a longtime Denver based broadcaster. He did radio play by play for the Colorado Rockies from 2010 to 2019.  Prior to that he spent 18 years as the Radio Voice of the Denver Nuggets and two with the Minnesota Timberwolves. He is a plane crash survivor\, author of two books\, an attorney and a record setting cyclist.
URL:https://theacesportsradio.com/show/amazing-americans/2027-02-20/
LOCATION:Amazing Americans Radio Network
ATTACH;FMTTYPE=image/jpeg:https://theacesportsradio.com/wp-content/uploads/2023/07/Amazing-Americans.jpg
END:VEVENT
BEGIN:VEVENT
DTSTART;TZID=America/Los_Angeles:20270227T110000
DTEND;TZID=America/Los_Angeles:20270227T120000
DTSTAMP:20260419T103344
CREATED:20230710T000437Z
LAST-MODIFIED:20230711T211952Z
UID:10024212-1803726000-1803729600@theacesportsradio.com
SUMMARY:Amazing Americans
DESCRIPTION:NO POLITICAL RHETORIC. NO ANGRY TALK SHOW HOSTS.\n​JUST REAL SPORTS STORIES OF INSPIRATION. \nJerry Schemmel is a longtime Denver based broadcaster. He did radio play by play for the Colorado Rockies from 2010 to 2019.  Prior to that he spent 18 years as the Radio Voice of the Denver Nuggets and two with the Minnesota Timberwolves. He is a plane crash survivor\, author of two books\, an attorney and a record setting cyclist.
URL:https://theacesportsradio.com/show/amazing-americans/2027-02-27/
LOCATION:Amazing Americans Radio Network
ATTACH;FMTTYPE=image/jpeg:https://theacesportsradio.com/wp-content/uploads/2023/07/Amazing-Americans.jpg
END:VEVENT
BEGIN:VEVENT
DTSTART;TZID=America/Los_Angeles:20270306T110000
DTEND;TZID=America/Los_Angeles:20270306T120000
DTSTAMP:20260419T103344
CREATED:20230710T000437Z
LAST-MODIFIED:20230711T211952Z
UID:10024213-1804330800-1804334400@theacesportsradio.com
SUMMARY:Amazing Americans
DESCRIPTION:NO POLITICAL RHETORIC. NO ANGRY TALK SHOW HOSTS.\n​JUST REAL SPORTS STORIES OF INSPIRATION. \nJerry Schemmel is a longtime Denver based broadcaster. He did radio play by play for the Colorado Rockies from 2010 to 2019.  Prior to that he spent 18 years as the Radio Voice of the Denver Nuggets and two with the Minnesota Timberwolves. He is a plane crash survivor\, author of two books\, an attorney and a record setting cyclist.
URL:https://theacesportsradio.com/show/amazing-americans/2027-03-06/
LOCATION:Amazing Americans Radio Network
ATTACH;FMTTYPE=image/jpeg:https://theacesportsradio.com/wp-content/uploads/2023/07/Amazing-Americans.jpg
END:VEVENT
BEGIN:VEVENT
DTSTART;TZID=America/Los_Angeles:20270313T110000
DTEND;TZID=America/Los_Angeles:20270313T120000
DTSTAMP:20260419T103344
CREATED:20230710T000437Z
LAST-MODIFIED:20230711T211952Z
UID:10024214-1804935600-1804939200@theacesportsradio.com
SUMMARY:Amazing Americans
DESCRIPTION:NO POLITICAL RHETORIC. NO ANGRY TALK SHOW HOSTS.\n​JUST REAL SPORTS STORIES OF INSPIRATION. \nJerry Schemmel is a longtime Denver based broadcaster. He did radio play by play for the Colorado Rockies from 2010 to 2019.  Prior to that he spent 18 years as the Radio Voice of the Denver Nuggets and two with the Minnesota Timberwolves. He is a plane crash survivor\, author of two books\, an attorney and a record setting cyclist.
URL:https://theacesportsradio.com/show/amazing-americans/2027-03-13/
LOCATION:Amazing Americans Radio Network
ATTACH;FMTTYPE=image/jpeg:https://theacesportsradio.com/wp-content/uploads/2023/07/Amazing-Americans.jpg
END:VEVENT
BEGIN:VEVENT
DTSTART;TZID=America/Los_Angeles:20270320T110000
DTEND;TZID=America/Los_Angeles:20270320T120000
DTSTAMP:20260419T103344
CREATED:20230710T000437Z
LAST-MODIFIED:20230711T211952Z
UID:10024215-1805540400-1805544000@theacesportsradio.com
SUMMARY:Amazing Americans
DESCRIPTION:NO POLITICAL RHETORIC. NO ANGRY TALK SHOW HOSTS.\n​JUST REAL SPORTS STORIES OF INSPIRATION. \nJerry Schemmel is a longtime Denver based broadcaster. He did radio play by play for the Colorado Rockies from 2010 to 2019.  Prior to that he spent 18 years as the Radio Voice of the Denver Nuggets and two with the Minnesota Timberwolves. He is a plane crash survivor\, author of two books\, an attorney and a record setting cyclist.
URL:https://theacesportsradio.com/show/amazing-americans/2027-03-20/
LOCATION:Amazing Americans Radio Network
ATTACH;FMTTYPE=image/jpeg:https://theacesportsradio.com/wp-content/uploads/2023/07/Amazing-Americans.jpg
END:VEVENT
BEGIN:VEVENT
DTSTART;TZID=America/Los_Angeles:20270327T110000
DTEND;TZID=America/Los_Angeles:20270327T120000
DTSTAMP:20260419T103344
CREATED:20230710T000437Z
LAST-MODIFIED:20230711T211952Z
UID:10024216-1806145200-1806148800@theacesportsradio.com
SUMMARY:Amazing Americans
DESCRIPTION:NO POLITICAL RHETORIC. NO ANGRY TALK SHOW HOSTS.\n​JUST REAL SPORTS STORIES OF INSPIRATION. \nJerry Schemmel is a longtime Denver based broadcaster. He did radio play by play for the Colorado Rockies from 2010 to 2019.  Prior to that he spent 18 years as the Radio Voice of the Denver Nuggets and two with the Minnesota Timberwolves. He is a plane crash survivor\, author of two books\, an attorney and a record setting cyclist.
URL:https://theacesportsradio.com/show/amazing-americans/2027-03-27/
LOCATION:Amazing Americans Radio Network
ATTACH;FMTTYPE=image/jpeg:https://theacesportsradio.com/wp-content/uploads/2023/07/Amazing-Americans.jpg
END:VEVENT
BEGIN:VEVENT
DTSTART;TZID=America/Los_Angeles:20270403T110000
DTEND;TZID=America/Los_Angeles:20270403T120000
DTSTAMP:20260419T103344
CREATED:20230710T000437Z
LAST-MODIFIED:20230711T211952Z
UID:10024217-1806750000-1806753600@theacesportsradio.com
SUMMARY:Amazing Americans
DESCRIPTION:NO POLITICAL RHETORIC. NO ANGRY TALK SHOW HOSTS.\n​JUST REAL SPORTS STORIES OF INSPIRATION. \nJerry Schemmel is a longtime Denver based broadcaster. He did radio play by play for the Colorado Rockies from 2010 to 2019.  Prior to that he spent 18 years as the Radio Voice of the Denver Nuggets and two with the Minnesota Timberwolves. He is a plane crash survivor\, author of two books\, an attorney and a record setting cyclist.
URL:https://theacesportsradio.com/show/amazing-americans/2027-04-03/
LOCATION:Amazing Americans Radio Network
ATTACH;FMTTYPE=image/jpeg:https://theacesportsradio.com/wp-content/uploads/2023/07/Amazing-Americans.jpg
END:VEVENT
BEGIN:VEVENT
DTSTART;TZID=America/Los_Angeles:20270410T110000
DTEND;TZID=America/Los_Angeles:20270410T120000
DTSTAMP:20260419T103344
CREATED:20230710T000437Z
LAST-MODIFIED:20230711T211952Z
UID:10024218-1807354800-1807358400@theacesportsradio.com
SUMMARY:Amazing Americans
DESCRIPTION:NO POLITICAL RHETORIC. NO ANGRY TALK SHOW HOSTS.\n​JUST REAL SPORTS STORIES OF INSPIRATION. \nJerry Schemmel is a longtime Denver based broadcaster. He did radio play by play for the Colorado Rockies from 2010 to 2019.  Prior to that he spent 18 years as the Radio Voice of the Denver Nuggets and two with the Minnesota Timberwolves. He is a plane crash survivor\, author of two books\, an attorney and a record setting cyclist.
URL:https://theacesportsradio.com/show/amazing-americans/2027-04-10/
LOCATION:Amazing Americans Radio Network
ATTACH;FMTTYPE=image/jpeg:https://theacesportsradio.com/wp-content/uploads/2023/07/Amazing-Americans.jpg
END:VEVENT
BEGIN:VEVENT
DTSTART;TZID=America/Los_Angeles:20270417T110000
DTEND;TZID=America/Los_Angeles:20270417T120000
DTSTAMP:20260419T103344
CREATED:20230710T000437Z
LAST-MODIFIED:20230711T211952Z
UID:10024219-1807959600-1807963200@theacesportsradio.com
SUMMARY:Amazing Americans
DESCRIPTION:NO POLITICAL RHETORIC. NO ANGRY TALK SHOW HOSTS.\n​JUST REAL SPORTS STORIES OF INSPIRATION. \nJerry Schemmel is a longtime Denver based broadcaster. He did radio play by play for the Colorado Rockies from 2010 to 2019.  Prior to that he spent 18 years as the Radio Voice of the Denver Nuggets and two with the Minnesota Timberwolves. He is a plane crash survivor\, author of two books\, an attorney and a record setting cyclist.
URL:https://theacesportsradio.com/show/amazing-americans/2027-04-17/
LOCATION:Amazing Americans Radio Network
ATTACH;FMTTYPE=image/jpeg:https://theacesportsradio.com/wp-content/uploads/2023/07/Amazing-Americans.jpg
END:VEVENT
BEGIN:VEVENT
DTSTART;TZID=America/Los_Angeles:20270424T110000
DTEND;TZID=America/Los_Angeles:20270424T120000
DTSTAMP:20260419T103344
CREATED:20230710T000437Z
LAST-MODIFIED:20230711T211952Z
UID:10024220-1808564400-1808568000@theacesportsradio.com
SUMMARY:Amazing Americans
DESCRIPTION:NO POLITICAL RHETORIC. NO ANGRY TALK SHOW HOSTS.\n​JUST REAL SPORTS STORIES OF INSPIRATION. \nJerry Schemmel is a longtime Denver based broadcaster. He did radio play by play for the Colorado Rockies from 2010 to 2019.  Prior to that he spent 18 years as the Radio Voice of the Denver Nuggets and two with the Minnesota Timberwolves. He is a plane crash survivor\, author of two books\, an attorney and a record setting cyclist.
URL:https://theacesportsradio.com/show/amazing-americans/2027-04-24/
LOCATION:Amazing Americans Radio Network
ATTACH;FMTTYPE=image/jpeg:https://theacesportsradio.com/wp-content/uploads/2023/07/Amazing-Americans.jpg
END:VEVENT
BEGIN:VEVENT
DTSTART;TZID=America/Los_Angeles:20270501T110000
DTEND;TZID=America/Los_Angeles:20270501T120000
DTSTAMP:20260419T103344
CREATED:20230710T000437Z
LAST-MODIFIED:20230711T211952Z
UID:10024221-1809169200-1809172800@theacesportsradio.com
SUMMARY:Amazing Americans
DESCRIPTION:NO POLITICAL RHETORIC. NO ANGRY TALK SHOW HOSTS.\n​JUST REAL SPORTS STORIES OF INSPIRATION. \nJerry Schemmel is a longtime Denver based broadcaster. He did radio play by play for the Colorado Rockies from 2010 to 2019.  Prior to that he spent 18 years as the Radio Voice of the Denver Nuggets and two with the Minnesota Timberwolves. He is a plane crash survivor\, author of two books\, an attorney and a record setting cyclist.
URL:https://theacesportsradio.com/show/amazing-americans/2027-05-01/
LOCATION:Amazing Americans Radio Network
ATTACH;FMTTYPE=image/jpeg:https://theacesportsradio.com/wp-content/uploads/2023/07/Amazing-Americans.jpg
END:VEVENT
END:VCALENDAR