BEGIN:VCALENDAR
VERSION:2.0
PRODID:-//The Ace Sports Radio - ECPv6.15.13//NONSGML v1.0//EN
CALSCALE:GREGORIAN
METHOD:PUBLISH
X-ORIGINAL-URL:https://theacesportsradio.com
X-WR-CALDESC:Events for The Ace Sports Radio
REFRESH-INTERVAL;VALUE=DURATION:PT1H
X-Robots-Tag:noindex
X-PUBLISHED-TTL:PT1H
BEGIN:VTIMEZONE
TZID:America/Los_Angeles
BEGIN:DAYLIGHT
TZOFFSETFROM:-0800
TZOFFSETTO:-0700
TZNAME:PDT
DTSTART:20290311T100000
END:DAYLIGHT
BEGIN:STANDARD
TZOFFSETFROM:-0700
TZOFFSETTO:-0800
TZNAME:PST
DTSTART:20291104T090000
END:STANDARD
BEGIN:DAYLIGHT
TZOFFSETFROM:-0800
TZOFFSETTO:-0700
TZNAME:PDT
DTSTART:20300310T100000
END:DAYLIGHT
BEGIN:STANDARD
TZOFFSETFROM:-0700
TZOFFSETTO:-0800
TZNAME:PST
DTSTART:20301103T090000
END:STANDARD
BEGIN:DAYLIGHT
TZOFFSETFROM:-0800
TZOFFSETTO:-0700
TZNAME:PDT
DTSTART:20310309T100000
END:DAYLIGHT
BEGIN:STANDARD
TZOFFSETFROM:-0700
TZOFFSETTO:-0800
TZNAME:PST
DTSTART:20311102T090000
END:STANDARD
BEGIN:DAYLIGHT
TZOFFSETFROM:-0800
TZOFFSETTO:-0700
TZNAME:PDT
DTSTART:20320314T100000
END:DAYLIGHT
BEGIN:STANDARD
TZOFFSETFROM:-0700
TZOFFSETTO:-0800
TZNAME:PST
DTSTART:20321107T090000
END:STANDARD
END:VTIMEZONE
BEGIN:VEVENT
DTSTART;TZID=America/Los_Angeles:20301130T110000
DTEND;TZID=America/Los_Angeles:20301130T120000
DTSTAMP:20260421T201423
CREATED:20230710T000437Z
LAST-MODIFIED:20230711T211952Z
UID:10047357-1922266800-1922270400@theacesportsradio.com
SUMMARY:Amazing Americans
DESCRIPTION:NO POLITICAL RHETORIC. NO ANGRY TALK SHOW HOSTS.\n​JUST REAL SPORTS STORIES OF INSPIRATION. \nJerry Schemmel is a longtime Denver based broadcaster. He did radio play by play for the Colorado Rockies from 2010 to 2019.  Prior to that he spent 18 years as the Radio Voice of the Denver Nuggets and two with the Minnesota Timberwolves. He is a plane crash survivor\, author of two books\, an attorney and a record setting cyclist.
URL:https://theacesportsradio.com/show/amazing-americans/2030-11-30/
LOCATION:Amazing Americans Radio Network
ATTACH;FMTTYPE=image/jpeg:https://theacesportsradio.com/wp-content/uploads/2023/07/Amazing-Americans.jpg
END:VEVENT
BEGIN:VEVENT
DTSTART;TZID=America/Los_Angeles:20301207T110000
DTEND;TZID=America/Los_Angeles:20301207T120000
DTSTAMP:20260421T201424
CREATED:20230710T000437Z
LAST-MODIFIED:20230711T211952Z
UID:10047376-1922871600-1922875200@theacesportsradio.com
SUMMARY:Amazing Americans
DESCRIPTION:NO POLITICAL RHETORIC. NO ANGRY TALK SHOW HOSTS.\n​JUST REAL SPORTS STORIES OF INSPIRATION. \nJerry Schemmel is a longtime Denver based broadcaster. He did radio play by play for the Colorado Rockies from 2010 to 2019.  Prior to that he spent 18 years as the Radio Voice of the Denver Nuggets and two with the Minnesota Timberwolves. He is a plane crash survivor\, author of two books\, an attorney and a record setting cyclist.
URL:https://theacesportsradio.com/show/amazing-americans/2030-12-07/
LOCATION:Amazing Americans Radio Network
ATTACH;FMTTYPE=image/jpeg:https://theacesportsradio.com/wp-content/uploads/2023/07/Amazing-Americans.jpg
END:VEVENT
BEGIN:VEVENT
DTSTART;TZID=America/Los_Angeles:20301214T110000
DTEND;TZID=America/Los_Angeles:20301214T120000
DTSTAMP:20260421T201424
CREATED:20230710T000437Z
LAST-MODIFIED:20230711T211952Z
UID:10047394-1923476400-1923480000@theacesportsradio.com
SUMMARY:Amazing Americans
DESCRIPTION:NO POLITICAL RHETORIC. NO ANGRY TALK SHOW HOSTS.\n​JUST REAL SPORTS STORIES OF INSPIRATION. \nJerry Schemmel is a longtime Denver based broadcaster. He did radio play by play for the Colorado Rockies from 2010 to 2019.  Prior to that he spent 18 years as the Radio Voice of the Denver Nuggets and two with the Minnesota Timberwolves. He is a plane crash survivor\, author of two books\, an attorney and a record setting cyclist.
URL:https://theacesportsradio.com/show/amazing-americans/2030-12-14/
LOCATION:Amazing Americans Radio Network
ATTACH;FMTTYPE=image/jpeg:https://theacesportsradio.com/wp-content/uploads/2023/07/Amazing-Americans.jpg
END:VEVENT
BEGIN:VEVENT
DTSTART;TZID=America/Los_Angeles:20301221T110000
DTEND;TZID=America/Los_Angeles:20301221T120000
DTSTAMP:20260421T201424
CREATED:20230710T000437Z
LAST-MODIFIED:20230711T211952Z
UID:10047412-1924081200-1924084800@theacesportsradio.com
SUMMARY:Amazing Americans
DESCRIPTION:NO POLITICAL RHETORIC. NO ANGRY TALK SHOW HOSTS.\n​JUST REAL SPORTS STORIES OF INSPIRATION. \nJerry Schemmel is a longtime Denver based broadcaster. He did radio play by play for the Colorado Rockies from 2010 to 2019.  Prior to that he spent 18 years as the Radio Voice of the Denver Nuggets and two with the Minnesota Timberwolves. He is a plane crash survivor\, author of two books\, an attorney and a record setting cyclist.
URL:https://theacesportsradio.com/show/amazing-americans/2030-12-21/
LOCATION:Amazing Americans Radio Network
ATTACH;FMTTYPE=image/jpeg:https://theacesportsradio.com/wp-content/uploads/2023/07/Amazing-Americans.jpg
END:VEVENT
BEGIN:VEVENT
DTSTART;TZID=America/Los_Angeles:20301228T110000
DTEND;TZID=America/Los_Angeles:20301228T120000
DTSTAMP:20260421T201424
CREATED:20230710T000437Z
LAST-MODIFIED:20230711T211952Z
UID:10047430-1924686000-1924689600@theacesportsradio.com
SUMMARY:Amazing Americans
DESCRIPTION:NO POLITICAL RHETORIC. NO ANGRY TALK SHOW HOSTS.\n​JUST REAL SPORTS STORIES OF INSPIRATION. \nJerry Schemmel is a longtime Denver based broadcaster. He did radio play by play for the Colorado Rockies from 2010 to 2019.  Prior to that he spent 18 years as the Radio Voice of the Denver Nuggets and two with the Minnesota Timberwolves. He is a plane crash survivor\, author of two books\, an attorney and a record setting cyclist.
URL:https://theacesportsradio.com/show/amazing-americans/2030-12-28/
LOCATION:Amazing Americans Radio Network
ATTACH;FMTTYPE=image/jpeg:https://theacesportsradio.com/wp-content/uploads/2023/07/Amazing-Americans.jpg
END:VEVENT
BEGIN:VEVENT
DTSTART;TZID=America/Los_Angeles:20310104T110000
DTEND;TZID=America/Los_Angeles:20310104T120000
DTSTAMP:20260421T201424
CREATED:20230710T000437Z
LAST-MODIFIED:20230711T211952Z
UID:10047448-1925290800-1925294400@theacesportsradio.com
SUMMARY:Amazing Americans
DESCRIPTION:NO POLITICAL RHETORIC. NO ANGRY TALK SHOW HOSTS.\n​JUST REAL SPORTS STORIES OF INSPIRATION. \nJerry Schemmel is a longtime Denver based broadcaster. He did radio play by play for the Colorado Rockies from 2010 to 2019.  Prior to that he spent 18 years as the Radio Voice of the Denver Nuggets and two with the Minnesota Timberwolves. He is a plane crash survivor\, author of two books\, an attorney and a record setting cyclist.
URL:https://theacesportsradio.com/show/amazing-americans/2031-01-04/
LOCATION:Amazing Americans Radio Network
ATTACH;FMTTYPE=image/jpeg:https://theacesportsradio.com/wp-content/uploads/2023/07/Amazing-Americans.jpg
END:VEVENT
BEGIN:VEVENT
DTSTART;TZID=America/Los_Angeles:20310111T110000
DTEND;TZID=America/Los_Angeles:20310111T120000
DTSTAMP:20260421T201424
CREATED:20230710T000437Z
LAST-MODIFIED:20230711T211952Z
UID:10047466-1925895600-1925899200@theacesportsradio.com
SUMMARY:Amazing Americans
DESCRIPTION:NO POLITICAL RHETORIC. NO ANGRY TALK SHOW HOSTS.\n​JUST REAL SPORTS STORIES OF INSPIRATION. \nJerry Schemmel is a longtime Denver based broadcaster. He did radio play by play for the Colorado Rockies from 2010 to 2019.  Prior to that he spent 18 years as the Radio Voice of the Denver Nuggets and two with the Minnesota Timberwolves. He is a plane crash survivor\, author of two books\, an attorney and a record setting cyclist.
URL:https://theacesportsradio.com/show/amazing-americans/2031-01-11/
LOCATION:Amazing Americans Radio Network
ATTACH;FMTTYPE=image/jpeg:https://theacesportsradio.com/wp-content/uploads/2023/07/Amazing-Americans.jpg
END:VEVENT
BEGIN:VEVENT
DTSTART;TZID=America/Los_Angeles:20310118T110000
DTEND;TZID=America/Los_Angeles:20310118T120000
DTSTAMP:20260421T201424
CREATED:20230710T000437Z
LAST-MODIFIED:20230711T211952Z
UID:10047484-1926500400-1926504000@theacesportsradio.com
SUMMARY:Amazing Americans
DESCRIPTION:NO POLITICAL RHETORIC. NO ANGRY TALK SHOW HOSTS.\n​JUST REAL SPORTS STORIES OF INSPIRATION. \nJerry Schemmel is a longtime Denver based broadcaster. He did radio play by play for the Colorado Rockies from 2010 to 2019.  Prior to that he spent 18 years as the Radio Voice of the Denver Nuggets and two with the Minnesota Timberwolves. He is a plane crash survivor\, author of two books\, an attorney and a record setting cyclist.
URL:https://theacesportsradio.com/show/amazing-americans/2031-01-18/
LOCATION:Amazing Americans Radio Network
ATTACH;FMTTYPE=image/jpeg:https://theacesportsradio.com/wp-content/uploads/2023/07/Amazing-Americans.jpg
END:VEVENT
BEGIN:VEVENT
DTSTART;TZID=America/Los_Angeles:20310125T110000
DTEND;TZID=America/Los_Angeles:20310125T120000
DTSTAMP:20260421T201424
CREATED:20230710T000437Z
LAST-MODIFIED:20230711T211952Z
UID:10047502-1927105200-1927108800@theacesportsradio.com
SUMMARY:Amazing Americans
DESCRIPTION:NO POLITICAL RHETORIC. NO ANGRY TALK SHOW HOSTS.\n​JUST REAL SPORTS STORIES OF INSPIRATION. \nJerry Schemmel is a longtime Denver based broadcaster. He did radio play by play for the Colorado Rockies from 2010 to 2019.  Prior to that he spent 18 years as the Radio Voice of the Denver Nuggets and two with the Minnesota Timberwolves. He is a plane crash survivor\, author of two books\, an attorney and a record setting cyclist.
URL:https://theacesportsradio.com/show/amazing-americans/2031-01-25/
LOCATION:Amazing Americans Radio Network
ATTACH;FMTTYPE=image/jpeg:https://theacesportsradio.com/wp-content/uploads/2023/07/Amazing-Americans.jpg
END:VEVENT
BEGIN:VEVENT
DTSTART;TZID=America/Los_Angeles:20310201T110000
DTEND;TZID=America/Los_Angeles:20310201T120000
DTSTAMP:20260421T201424
CREATED:20230710T000437Z
LAST-MODIFIED:20230711T211952Z
UID:10047520-1927710000-1927713600@theacesportsradio.com
SUMMARY:Amazing Americans
DESCRIPTION:NO POLITICAL RHETORIC. NO ANGRY TALK SHOW HOSTS.\n​JUST REAL SPORTS STORIES OF INSPIRATION. \nJerry Schemmel is a longtime Denver based broadcaster. He did radio play by play for the Colorado Rockies from 2010 to 2019.  Prior to that he spent 18 years as the Radio Voice of the Denver Nuggets and two with the Minnesota Timberwolves. He is a plane crash survivor\, author of two books\, an attorney and a record setting cyclist.
URL:https://theacesportsradio.com/show/amazing-americans/2031-02-01/
LOCATION:Amazing Americans Radio Network
ATTACH;FMTTYPE=image/jpeg:https://theacesportsradio.com/wp-content/uploads/2023/07/Amazing-Americans.jpg
END:VEVENT
BEGIN:VEVENT
DTSTART;TZID=America/Los_Angeles:20310208T110000
DTEND;TZID=America/Los_Angeles:20310208T120000
DTSTAMP:20260421T201424
CREATED:20230710T000437Z
LAST-MODIFIED:20230711T211952Z
UID:10047538-1928314800-1928318400@theacesportsradio.com
SUMMARY:Amazing Americans
DESCRIPTION:NO POLITICAL RHETORIC. NO ANGRY TALK SHOW HOSTS.\n​JUST REAL SPORTS STORIES OF INSPIRATION. \nJerry Schemmel is a longtime Denver based broadcaster. He did radio play by play for the Colorado Rockies from 2010 to 2019.  Prior to that he spent 18 years as the Radio Voice of the Denver Nuggets and two with the Minnesota Timberwolves. He is a plane crash survivor\, author of two books\, an attorney and a record setting cyclist.
URL:https://theacesportsradio.com/show/amazing-americans/2031-02-08/
LOCATION:Amazing Americans Radio Network
ATTACH;FMTTYPE=image/jpeg:https://theacesportsradio.com/wp-content/uploads/2023/07/Amazing-Americans.jpg
END:VEVENT
BEGIN:VEVENT
DTSTART;TZID=America/Los_Angeles:20310215T110000
DTEND;TZID=America/Los_Angeles:20310215T120000
DTSTAMP:20260421T201424
CREATED:20230710T000437Z
LAST-MODIFIED:20230711T211952Z
UID:10047556-1928919600-1928923200@theacesportsradio.com
SUMMARY:Amazing Americans
DESCRIPTION:NO POLITICAL RHETORIC. NO ANGRY TALK SHOW HOSTS.\n​JUST REAL SPORTS STORIES OF INSPIRATION. \nJerry Schemmel is a longtime Denver based broadcaster. He did radio play by play for the Colorado Rockies from 2010 to 2019.  Prior to that he spent 18 years as the Radio Voice of the Denver Nuggets and two with the Minnesota Timberwolves. He is a plane crash survivor\, author of two books\, an attorney and a record setting cyclist.
URL:https://theacesportsradio.com/show/amazing-americans/2031-02-15/
LOCATION:Amazing Americans Radio Network
ATTACH;FMTTYPE=image/jpeg:https://theacesportsradio.com/wp-content/uploads/2023/07/Amazing-Americans.jpg
END:VEVENT
BEGIN:VEVENT
DTSTART;TZID=America/Los_Angeles:20310222T110000
DTEND;TZID=America/Los_Angeles:20310222T120000
DTSTAMP:20260421T201424
CREATED:20230710T000437Z
LAST-MODIFIED:20230711T211952Z
UID:10047574-1929524400-1929528000@theacesportsradio.com
SUMMARY:Amazing Americans
DESCRIPTION:NO POLITICAL RHETORIC. NO ANGRY TALK SHOW HOSTS.\n​JUST REAL SPORTS STORIES OF INSPIRATION. \nJerry Schemmel is a longtime Denver based broadcaster. He did radio play by play for the Colorado Rockies from 2010 to 2019.  Prior to that he spent 18 years as the Radio Voice of the Denver Nuggets and two with the Minnesota Timberwolves. He is a plane crash survivor\, author of two books\, an attorney and a record setting cyclist.
URL:https://theacesportsradio.com/show/amazing-americans/2031-02-22/
LOCATION:Amazing Americans Radio Network
ATTACH;FMTTYPE=image/jpeg:https://theacesportsradio.com/wp-content/uploads/2023/07/Amazing-Americans.jpg
END:VEVENT
BEGIN:VEVENT
DTSTART;TZID=America/Los_Angeles:20310301T110000
DTEND;TZID=America/Los_Angeles:20310301T120000
DTSTAMP:20260421T201424
CREATED:20230710T000437Z
LAST-MODIFIED:20230711T211952Z
UID:10047592-1930129200-1930132800@theacesportsradio.com
SUMMARY:Amazing Americans
DESCRIPTION:NO POLITICAL RHETORIC. NO ANGRY TALK SHOW HOSTS.\n​JUST REAL SPORTS STORIES OF INSPIRATION. \nJerry Schemmel is a longtime Denver based broadcaster. He did radio play by play for the Colorado Rockies from 2010 to 2019.  Prior to that he spent 18 years as the Radio Voice of the Denver Nuggets and two with the Minnesota Timberwolves. He is a plane crash survivor\, author of two books\, an attorney and a record setting cyclist.
URL:https://theacesportsradio.com/show/amazing-americans/2031-03-01/
LOCATION:Amazing Americans Radio Network
ATTACH;FMTTYPE=image/jpeg:https://theacesportsradio.com/wp-content/uploads/2023/07/Amazing-Americans.jpg
END:VEVENT
BEGIN:VEVENT
DTSTART;TZID=America/Los_Angeles:20310308T110000
DTEND;TZID=America/Los_Angeles:20310308T120000
DTSTAMP:20260421T201424
CREATED:20230710T000437Z
LAST-MODIFIED:20230711T211952Z
UID:10047617-1930734000-1930737600@theacesportsradio.com
SUMMARY:Amazing Americans
DESCRIPTION:NO POLITICAL RHETORIC. NO ANGRY TALK SHOW HOSTS.\n​JUST REAL SPORTS STORIES OF INSPIRATION. \nJerry Schemmel is a longtime Denver based broadcaster. He did radio play by play for the Colorado Rockies from 2010 to 2019.  Prior to that he spent 18 years as the Radio Voice of the Denver Nuggets and two with the Minnesota Timberwolves. He is a plane crash survivor\, author of two books\, an attorney and a record setting cyclist.
URL:https://theacesportsradio.com/show/amazing-americans/2031-03-08/
LOCATION:Amazing Americans Radio Network
ATTACH;FMTTYPE=image/jpeg:https://theacesportsradio.com/wp-content/uploads/2023/07/Amazing-Americans.jpg
END:VEVENT
BEGIN:VEVENT
DTSTART;TZID=America/Los_Angeles:20310315T110000
DTEND;TZID=America/Los_Angeles:20310315T120000
DTSTAMP:20260421T201424
CREATED:20230710T000437Z
LAST-MODIFIED:20230711T211952Z
UID:10047635-1931338800-1931342400@theacesportsradio.com
SUMMARY:Amazing Americans
DESCRIPTION:NO POLITICAL RHETORIC. NO ANGRY TALK SHOW HOSTS.\n​JUST REAL SPORTS STORIES OF INSPIRATION. \nJerry Schemmel is a longtime Denver based broadcaster. He did radio play by play for the Colorado Rockies from 2010 to 2019.  Prior to that he spent 18 years as the Radio Voice of the Denver Nuggets and two with the Minnesota Timberwolves. He is a plane crash survivor\, author of two books\, an attorney and a record setting cyclist.
URL:https://theacesportsradio.com/show/amazing-americans/2031-03-15/
LOCATION:Amazing Americans Radio Network
ATTACH;FMTTYPE=image/jpeg:https://theacesportsradio.com/wp-content/uploads/2023/07/Amazing-Americans.jpg
END:VEVENT
BEGIN:VEVENT
DTSTART;TZID=America/Los_Angeles:20310322T110000
DTEND;TZID=America/Los_Angeles:20310322T120000
DTSTAMP:20260421T201424
CREATED:20230710T000437Z
LAST-MODIFIED:20230711T211952Z
UID:10047653-1931943600-1931947200@theacesportsradio.com
SUMMARY:Amazing Americans
DESCRIPTION:NO POLITICAL RHETORIC. NO ANGRY TALK SHOW HOSTS.\n​JUST REAL SPORTS STORIES OF INSPIRATION. \nJerry Schemmel is a longtime Denver based broadcaster. He did radio play by play for the Colorado Rockies from 2010 to 2019.  Prior to that he spent 18 years as the Radio Voice of the Denver Nuggets and two with the Minnesota Timberwolves. He is a plane crash survivor\, author of two books\, an attorney and a record setting cyclist.
URL:https://theacesportsradio.com/show/amazing-americans/2031-03-22/
LOCATION:Amazing Americans Radio Network
ATTACH;FMTTYPE=image/jpeg:https://theacesportsradio.com/wp-content/uploads/2023/07/Amazing-Americans.jpg
END:VEVENT
BEGIN:VEVENT
DTSTART;TZID=America/Los_Angeles:20310329T110000
DTEND;TZID=America/Los_Angeles:20310329T120000
DTSTAMP:20260421T201424
CREATED:20230710T000437Z
LAST-MODIFIED:20230711T211952Z
UID:10047681-1932548400-1932552000@theacesportsradio.com
SUMMARY:Amazing Americans
DESCRIPTION:NO POLITICAL RHETORIC. NO ANGRY TALK SHOW HOSTS.\n​JUST REAL SPORTS STORIES OF INSPIRATION. \nJerry Schemmel is a longtime Denver based broadcaster. He did radio play by play for the Colorado Rockies from 2010 to 2019.  Prior to that he spent 18 years as the Radio Voice of the Denver Nuggets and two with the Minnesota Timberwolves. He is a plane crash survivor\, author of two books\, an attorney and a record setting cyclist.
URL:https://theacesportsradio.com/show/amazing-americans/2031-03-29/
LOCATION:Amazing Americans Radio Network
ATTACH;FMTTYPE=image/jpeg:https://theacesportsradio.com/wp-content/uploads/2023/07/Amazing-Americans.jpg
END:VEVENT
BEGIN:VEVENT
DTSTART;TZID=America/Los_Angeles:20310405T110000
DTEND;TZID=America/Los_Angeles:20310405T120000
DTSTAMP:20260421T201424
CREATED:20230710T000437Z
LAST-MODIFIED:20230711T211952Z
UID:10047682-1933153200-1933156800@theacesportsradio.com
SUMMARY:Amazing Americans
DESCRIPTION:NO POLITICAL RHETORIC. NO ANGRY TALK SHOW HOSTS.\n​JUST REAL SPORTS STORIES OF INSPIRATION. \nJerry Schemmel is a longtime Denver based broadcaster. He did radio play by play for the Colorado Rockies from 2010 to 2019.  Prior to that he spent 18 years as the Radio Voice of the Denver Nuggets and two with the Minnesota Timberwolves. He is a plane crash survivor\, author of two books\, an attorney and a record setting cyclist.
URL:https://theacesportsradio.com/show/amazing-americans/2031-04-05/
LOCATION:Amazing Americans Radio Network
ATTACH;FMTTYPE=image/jpeg:https://theacesportsradio.com/wp-content/uploads/2023/07/Amazing-Americans.jpg
END:VEVENT
BEGIN:VEVENT
DTSTART;TZID=America/Los_Angeles:20310412T110000
DTEND;TZID=America/Los_Angeles:20310412T120000
DTSTAMP:20260421T201424
CREATED:20230710T000437Z
LAST-MODIFIED:20230711T211952Z
UID:10047700-1933758000-1933761600@theacesportsradio.com
SUMMARY:Amazing Americans
DESCRIPTION:NO POLITICAL RHETORIC. NO ANGRY TALK SHOW HOSTS.\n​JUST REAL SPORTS STORIES OF INSPIRATION. \nJerry Schemmel is a longtime Denver based broadcaster. He did radio play by play for the Colorado Rockies from 2010 to 2019.  Prior to that he spent 18 years as the Radio Voice of the Denver Nuggets and two with the Minnesota Timberwolves. He is a plane crash survivor\, author of two books\, an attorney and a record setting cyclist.
URL:https://theacesportsradio.com/show/amazing-americans/2031-04-12/
LOCATION:Amazing Americans Radio Network
ATTACH;FMTTYPE=image/jpeg:https://theacesportsradio.com/wp-content/uploads/2023/07/Amazing-Americans.jpg
END:VEVENT
BEGIN:VEVENT
DTSTART;TZID=America/Los_Angeles:20310419T110000
DTEND;TZID=America/Los_Angeles:20310419T120000
DTSTAMP:20260421T201424
CREATED:20230710T000437Z
LAST-MODIFIED:20230711T211952Z
UID:10047718-1934362800-1934366400@theacesportsradio.com
SUMMARY:Amazing Americans
DESCRIPTION:NO POLITICAL RHETORIC. NO ANGRY TALK SHOW HOSTS.\n​JUST REAL SPORTS STORIES OF INSPIRATION. \nJerry Schemmel is a longtime Denver based broadcaster. He did radio play by play for the Colorado Rockies from 2010 to 2019.  Prior to that he spent 18 years as the Radio Voice of the Denver Nuggets and two with the Minnesota Timberwolves. He is a plane crash survivor\, author of two books\, an attorney and a record setting cyclist.
URL:https://theacesportsradio.com/show/amazing-americans/2031-04-19/
LOCATION:Amazing Americans Radio Network
ATTACH;FMTTYPE=image/jpeg:https://theacesportsradio.com/wp-content/uploads/2023/07/Amazing-Americans.jpg
END:VEVENT
END:VCALENDAR