BEGIN:VCALENDAR
VERSION:2.0
PRODID:-//The Ace Sports Radio - ECPv6.15.13//NONSGML v1.0//EN
CALSCALE:GREGORIAN
METHOD:PUBLISH
X-ORIGINAL-URL:https://theacesportsradio.com
X-WR-CALDESC:Events for The Ace Sports Radio
REFRESH-INTERVAL;VALUE=DURATION:PT1H
X-Robots-Tag:noindex
X-PUBLISHED-TTL:PT1H
BEGIN:VTIMEZONE
TZID:America/Los_Angeles
BEGIN:DAYLIGHT
TZOFFSETFROM:-0800
TZOFFSETTO:-0700
TZNAME:PDT
DTSTART:20280312T100000
END:DAYLIGHT
BEGIN:STANDARD
TZOFFSETFROM:-0700
TZOFFSETTO:-0800
TZNAME:PST
DTSTART:20281105T090000
END:STANDARD
BEGIN:DAYLIGHT
TZOFFSETFROM:-0800
TZOFFSETTO:-0700
TZNAME:PDT
DTSTART:20290311T100000
END:DAYLIGHT
BEGIN:STANDARD
TZOFFSETFROM:-0700
TZOFFSETTO:-0800
TZNAME:PST
DTSTART:20291104T090000
END:STANDARD
BEGIN:DAYLIGHT
TZOFFSETFROM:-0800
TZOFFSETTO:-0700
TZNAME:PDT
DTSTART:20300310T100000
END:DAYLIGHT
BEGIN:STANDARD
TZOFFSETFROM:-0700
TZOFFSETTO:-0800
TZNAME:PST
DTSTART:20301103T090000
END:STANDARD
BEGIN:DAYLIGHT
TZOFFSETFROM:-0800
TZOFFSETTO:-0700
TZNAME:PDT
DTSTART:20310309T100000
END:DAYLIGHT
BEGIN:STANDARD
TZOFFSETFROM:-0700
TZOFFSETTO:-0800
TZNAME:PST
DTSTART:20311102T090000
END:STANDARD
END:VTIMEZONE
BEGIN:VEVENT
DTSTART;TZID=America/Los_Angeles:20291229T110000
DTEND;TZID=America/Los_Angeles:20291229T120000
DTSTAMP:20260421T140303
CREATED:20230710T000437Z
LAST-MODIFIED:20230711T211952Z
UID:10043471-1893236400-1893240000@theacesportsradio.com
SUMMARY:Amazing Americans
DESCRIPTION:NO POLITICAL RHETORIC. NO ANGRY TALK SHOW HOSTS.\n​JUST REAL SPORTS STORIES OF INSPIRATION. \nJerry Schemmel is a longtime Denver based broadcaster. He did radio play by play for the Colorado Rockies from 2010 to 2019.  Prior to that he spent 18 years as the Radio Voice of the Denver Nuggets and two with the Minnesota Timberwolves. He is a plane crash survivor\, author of two books\, an attorney and a record setting cyclist.
URL:https://theacesportsradio.com/show/amazing-americans/2029-12-29/
LOCATION:Amazing Americans Radio Network
ATTACH;FMTTYPE=image/jpeg:https://theacesportsradio.com/wp-content/uploads/2023/07/Amazing-Americans.jpg
END:VEVENT
BEGIN:VEVENT
DTSTART;TZID=America/Los_Angeles:20300105T110000
DTEND;TZID=America/Los_Angeles:20300105T120000
DTSTAMP:20260421T140303
CREATED:20230710T000437Z
LAST-MODIFIED:20230711T211952Z
UID:10043532-1893841200-1893844800@theacesportsradio.com
SUMMARY:Amazing Americans
DESCRIPTION:NO POLITICAL RHETORIC. NO ANGRY TALK SHOW HOSTS.\n​JUST REAL SPORTS STORIES OF INSPIRATION. \nJerry Schemmel is a longtime Denver based broadcaster. He did radio play by play for the Colorado Rockies from 2010 to 2019.  Prior to that he spent 18 years as the Radio Voice of the Denver Nuggets and two with the Minnesota Timberwolves. He is a plane crash survivor\, author of two books\, an attorney and a record setting cyclist.
URL:https://theacesportsradio.com/show/amazing-americans/2030-01-05/
LOCATION:Amazing Americans Radio Network
ATTACH;FMTTYPE=image/jpeg:https://theacesportsradio.com/wp-content/uploads/2023/07/Amazing-Americans.jpg
END:VEVENT
BEGIN:VEVENT
DTSTART;TZID=America/Los_Angeles:20300112T110000
DTEND;TZID=America/Los_Angeles:20300112T120000
DTSTAMP:20260421T140303
CREATED:20230710T000437Z
LAST-MODIFIED:20230711T211952Z
UID:10043595-1894446000-1894449600@theacesportsradio.com
SUMMARY:Amazing Americans
DESCRIPTION:NO POLITICAL RHETORIC. NO ANGRY TALK SHOW HOSTS.\n​JUST REAL SPORTS STORIES OF INSPIRATION. \nJerry Schemmel is a longtime Denver based broadcaster. He did radio play by play for the Colorado Rockies from 2010 to 2019.  Prior to that he spent 18 years as the Radio Voice of the Denver Nuggets and two with the Minnesota Timberwolves. He is a plane crash survivor\, author of two books\, an attorney and a record setting cyclist.
URL:https://theacesportsradio.com/show/amazing-americans/2030-01-12/
LOCATION:Amazing Americans Radio Network
ATTACH;FMTTYPE=image/jpeg:https://theacesportsradio.com/wp-content/uploads/2023/07/Amazing-Americans.jpg
END:VEVENT
BEGIN:VEVENT
DTSTART;TZID=America/Los_Angeles:20300119T110000
DTEND;TZID=America/Los_Angeles:20300119T120000
DTSTAMP:20260421T140303
CREATED:20230710T000437Z
LAST-MODIFIED:20230711T211952Z
UID:10043637-1895050800-1895054400@theacesportsradio.com
SUMMARY:Amazing Americans
DESCRIPTION:NO POLITICAL RHETORIC. NO ANGRY TALK SHOW HOSTS.\n​JUST REAL SPORTS STORIES OF INSPIRATION. \nJerry Schemmel is a longtime Denver based broadcaster. He did radio play by play for the Colorado Rockies from 2010 to 2019.  Prior to that he spent 18 years as the Radio Voice of the Denver Nuggets and two with the Minnesota Timberwolves. He is a plane crash survivor\, author of two books\, an attorney and a record setting cyclist.
URL:https://theacesportsradio.com/show/amazing-americans/2030-01-19/
LOCATION:Amazing Americans Radio Network
ATTACH;FMTTYPE=image/jpeg:https://theacesportsradio.com/wp-content/uploads/2023/07/Amazing-Americans.jpg
END:VEVENT
BEGIN:VEVENT
DTSTART;TZID=America/Los_Angeles:20300126T110000
DTEND;TZID=America/Los_Angeles:20300126T120000
DTSTAMP:20260421T140303
CREATED:20230710T000437Z
LAST-MODIFIED:20230711T211952Z
UID:10044402-1895655600-1895659200@theacesportsradio.com
SUMMARY:Amazing Americans
DESCRIPTION:NO POLITICAL RHETORIC. NO ANGRY TALK SHOW HOSTS.\n​JUST REAL SPORTS STORIES OF INSPIRATION. \nJerry Schemmel is a longtime Denver based broadcaster. He did radio play by play for the Colorado Rockies from 2010 to 2019.  Prior to that he spent 18 years as the Radio Voice of the Denver Nuggets and two with the Minnesota Timberwolves. He is a plane crash survivor\, author of two books\, an attorney and a record setting cyclist.
URL:https://theacesportsradio.com/show/amazing-americans/2030-01-26/
LOCATION:Amazing Americans Radio Network
ATTACH;FMTTYPE=image/jpeg:https://theacesportsradio.com/wp-content/uploads/2023/07/Amazing-Americans.jpg
END:VEVENT
BEGIN:VEVENT
DTSTART;TZID=America/Los_Angeles:20300202T110000
DTEND;TZID=America/Los_Angeles:20300202T120000
DTSTAMP:20260421T140303
CREATED:20230710T000437Z
LAST-MODIFIED:20230711T211952Z
UID:10044403-1896260400-1896264000@theacesportsradio.com
SUMMARY:Amazing Americans
DESCRIPTION:NO POLITICAL RHETORIC. NO ANGRY TALK SHOW HOSTS.\n​JUST REAL SPORTS STORIES OF INSPIRATION. \nJerry Schemmel is a longtime Denver based broadcaster. He did radio play by play for the Colorado Rockies from 2010 to 2019.  Prior to that he spent 18 years as the Radio Voice of the Denver Nuggets and two with the Minnesota Timberwolves. He is a plane crash survivor\, author of two books\, an attorney and a record setting cyclist.
URL:https://theacesportsradio.com/show/amazing-americans/2030-02-02/
LOCATION:Amazing Americans Radio Network
ATTACH;FMTTYPE=image/jpeg:https://theacesportsradio.com/wp-content/uploads/2023/07/Amazing-Americans.jpg
END:VEVENT
BEGIN:VEVENT
DTSTART;TZID=America/Los_Angeles:20300209T110000
DTEND;TZID=America/Los_Angeles:20300209T120000
DTSTAMP:20260421T140303
CREATED:20230710T000437Z
LAST-MODIFIED:20230711T211952Z
UID:10044504-1896865200-1896868800@theacesportsradio.com
SUMMARY:Amazing Americans
DESCRIPTION:NO POLITICAL RHETORIC. NO ANGRY TALK SHOW HOSTS.\n​JUST REAL SPORTS STORIES OF INSPIRATION. \nJerry Schemmel is a longtime Denver based broadcaster. He did radio play by play for the Colorado Rockies from 2010 to 2019.  Prior to that he spent 18 years as the Radio Voice of the Denver Nuggets and two with the Minnesota Timberwolves. He is a plane crash survivor\, author of two books\, an attorney and a record setting cyclist.
URL:https://theacesportsradio.com/show/amazing-americans/2030-02-09/
LOCATION:Amazing Americans Radio Network
ATTACH;FMTTYPE=image/jpeg:https://theacesportsradio.com/wp-content/uploads/2023/07/Amazing-Americans.jpg
END:VEVENT
BEGIN:VEVENT
DTSTART;TZID=America/Los_Angeles:20300216T110000
DTEND;TZID=America/Los_Angeles:20300216T120000
DTSTAMP:20260421T140303
CREATED:20230710T000437Z
LAST-MODIFIED:20230711T211952Z
UID:10044505-1897470000-1897473600@theacesportsradio.com
SUMMARY:Amazing Americans
DESCRIPTION:NO POLITICAL RHETORIC. NO ANGRY TALK SHOW HOSTS.\n​JUST REAL SPORTS STORIES OF INSPIRATION. \nJerry Schemmel is a longtime Denver based broadcaster. He did radio play by play for the Colorado Rockies from 2010 to 2019.  Prior to that he spent 18 years as the Radio Voice of the Denver Nuggets and two with the Minnesota Timberwolves. He is a plane crash survivor\, author of two books\, an attorney and a record setting cyclist.
URL:https://theacesportsradio.com/show/amazing-americans/2030-02-16/
LOCATION:Amazing Americans Radio Network
ATTACH;FMTTYPE=image/jpeg:https://theacesportsradio.com/wp-content/uploads/2023/07/Amazing-Americans.jpg
END:VEVENT
BEGIN:VEVENT
DTSTART;TZID=America/Los_Angeles:20300223T110000
DTEND;TZID=America/Los_Angeles:20300223T120000
DTSTAMP:20260421T140303
CREATED:20230710T000437Z
LAST-MODIFIED:20230711T211952Z
UID:10044552-1898074800-1898078400@theacesportsradio.com
SUMMARY:Amazing Americans
DESCRIPTION:NO POLITICAL RHETORIC. NO ANGRY TALK SHOW HOSTS.\n​JUST REAL SPORTS STORIES OF INSPIRATION. \nJerry Schemmel is a longtime Denver based broadcaster. He did radio play by play for the Colorado Rockies from 2010 to 2019.  Prior to that he spent 18 years as the Radio Voice of the Denver Nuggets and two with the Minnesota Timberwolves. He is a plane crash survivor\, author of two books\, an attorney and a record setting cyclist.
URL:https://theacesportsradio.com/show/amazing-americans/2030-02-23/
LOCATION:Amazing Americans Radio Network
ATTACH;FMTTYPE=image/jpeg:https://theacesportsradio.com/wp-content/uploads/2023/07/Amazing-Americans.jpg
END:VEVENT
BEGIN:VEVENT
DTSTART;TZID=America/Los_Angeles:20300302T110000
DTEND;TZID=America/Los_Angeles:20300302T120000
DTSTAMP:20260421T140303
CREATED:20230710T000437Z
LAST-MODIFIED:20230711T211952Z
UID:10044633-1898679600-1898683200@theacesportsradio.com
SUMMARY:Amazing Americans
DESCRIPTION:NO POLITICAL RHETORIC. NO ANGRY TALK SHOW HOSTS.\n​JUST REAL SPORTS STORIES OF INSPIRATION. \nJerry Schemmel is a longtime Denver based broadcaster. He did radio play by play for the Colorado Rockies from 2010 to 2019.  Prior to that he spent 18 years as the Radio Voice of the Denver Nuggets and two with the Minnesota Timberwolves. He is a plane crash survivor\, author of two books\, an attorney and a record setting cyclist.
URL:https://theacesportsradio.com/show/amazing-americans/2030-03-02/
LOCATION:Amazing Americans Radio Network
ATTACH;FMTTYPE=image/jpeg:https://theacesportsradio.com/wp-content/uploads/2023/07/Amazing-Americans.jpg
END:VEVENT
BEGIN:VEVENT
DTSTART;TZID=America/Los_Angeles:20300309T110000
DTEND;TZID=America/Los_Angeles:20300309T120000
DTSTAMP:20260421T140303
CREATED:20230710T000437Z
LAST-MODIFIED:20230711T211952Z
UID:10045999-1899284400-1899288000@theacesportsradio.com
SUMMARY:Amazing Americans
DESCRIPTION:NO POLITICAL RHETORIC. NO ANGRY TALK SHOW HOSTS.\n​JUST REAL SPORTS STORIES OF INSPIRATION. \nJerry Schemmel is a longtime Denver based broadcaster. He did radio play by play for the Colorado Rockies from 2010 to 2019.  Prior to that he spent 18 years as the Radio Voice of the Denver Nuggets and two with the Minnesota Timberwolves. He is a plane crash survivor\, author of two books\, an attorney and a record setting cyclist.
URL:https://theacesportsradio.com/show/amazing-americans/2030-03-09/
LOCATION:Amazing Americans Radio Network
ATTACH;FMTTYPE=image/jpeg:https://theacesportsradio.com/wp-content/uploads/2023/07/Amazing-Americans.jpg
END:VEVENT
BEGIN:VEVENT
DTSTART;TZID=America/Los_Angeles:20300316T110000
DTEND;TZID=America/Los_Angeles:20300316T120000
DTSTAMP:20260421T140303
CREATED:20230710T000437Z
LAST-MODIFIED:20230711T211952Z
UID:10046048-1899889200-1899892800@theacesportsradio.com
SUMMARY:Amazing Americans
DESCRIPTION:NO POLITICAL RHETORIC. NO ANGRY TALK SHOW HOSTS.\n​JUST REAL SPORTS STORIES OF INSPIRATION. \nJerry Schemmel is a longtime Denver based broadcaster. He did radio play by play for the Colorado Rockies from 2010 to 2019.  Prior to that he spent 18 years as the Radio Voice of the Denver Nuggets and two with the Minnesota Timberwolves. He is a plane crash survivor\, author of two books\, an attorney and a record setting cyclist.
URL:https://theacesportsradio.com/show/amazing-americans/2030-03-16/
LOCATION:Amazing Americans Radio Network
ATTACH;FMTTYPE=image/jpeg:https://theacesportsradio.com/wp-content/uploads/2023/07/Amazing-Americans.jpg
END:VEVENT
BEGIN:VEVENT
DTSTART;TZID=America/Los_Angeles:20300323T110000
DTEND;TZID=America/Los_Angeles:20300323T120000
DTSTAMP:20260421T140303
CREATED:20230710T000437Z
LAST-MODIFIED:20230711T211952Z
UID:10046096-1900494000-1900497600@theacesportsradio.com
SUMMARY:Amazing Americans
DESCRIPTION:NO POLITICAL RHETORIC. NO ANGRY TALK SHOW HOSTS.\n​JUST REAL SPORTS STORIES OF INSPIRATION. \nJerry Schemmel is a longtime Denver based broadcaster. He did radio play by play for the Colorado Rockies from 2010 to 2019.  Prior to that he spent 18 years as the Radio Voice of the Denver Nuggets and two with the Minnesota Timberwolves. He is a plane crash survivor\, author of two books\, an attorney and a record setting cyclist.
URL:https://theacesportsradio.com/show/amazing-americans/2030-03-23/
LOCATION:Amazing Americans Radio Network
ATTACH;FMTTYPE=image/jpeg:https://theacesportsradio.com/wp-content/uploads/2023/07/Amazing-Americans.jpg
END:VEVENT
BEGIN:VEVENT
DTSTART;TZID=America/Los_Angeles:20300330T110000
DTEND;TZID=America/Los_Angeles:20300330T120000
DTSTAMP:20260421T140303
CREATED:20230710T000437Z
LAST-MODIFIED:20230711T211952Z
UID:10046097-1901098800-1901102400@theacesportsradio.com
SUMMARY:Amazing Americans
DESCRIPTION:NO POLITICAL RHETORIC. NO ANGRY TALK SHOW HOSTS.\n​JUST REAL SPORTS STORIES OF INSPIRATION. \nJerry Schemmel is a longtime Denver based broadcaster. He did radio play by play for the Colorado Rockies from 2010 to 2019.  Prior to that he spent 18 years as the Radio Voice of the Denver Nuggets and two with the Minnesota Timberwolves. He is a plane crash survivor\, author of two books\, an attorney and a record setting cyclist.
URL:https://theacesportsradio.com/show/amazing-americans/2030-03-30/
LOCATION:Amazing Americans Radio Network
ATTACH;FMTTYPE=image/jpeg:https://theacesportsradio.com/wp-content/uploads/2023/07/Amazing-Americans.jpg
END:VEVENT
BEGIN:VEVENT
DTSTART;TZID=America/Los_Angeles:20300406T110000
DTEND;TZID=America/Los_Angeles:20300406T120000
DTSTAMP:20260421T140303
CREATED:20230710T000437Z
LAST-MODIFIED:20230711T211952Z
UID:10046150-1901703600-1901707200@theacesportsradio.com
SUMMARY:Amazing Americans
DESCRIPTION:NO POLITICAL RHETORIC. NO ANGRY TALK SHOW HOSTS.\n​JUST REAL SPORTS STORIES OF INSPIRATION. \nJerry Schemmel is a longtime Denver based broadcaster. He did radio play by play for the Colorado Rockies from 2010 to 2019.  Prior to that he spent 18 years as the Radio Voice of the Denver Nuggets and two with the Minnesota Timberwolves. He is a plane crash survivor\, author of two books\, an attorney and a record setting cyclist.
URL:https://theacesportsradio.com/show/amazing-americans/2030-04-06/
LOCATION:Amazing Americans Radio Network
ATTACH;FMTTYPE=image/jpeg:https://theacesportsradio.com/wp-content/uploads/2023/07/Amazing-Americans.jpg
END:VEVENT
BEGIN:VEVENT
DTSTART;TZID=America/Los_Angeles:20300413T110000
DTEND;TZID=America/Los_Angeles:20300413T120000
DTSTAMP:20260421T140303
CREATED:20230710T000437Z
LAST-MODIFIED:20230711T211952Z
UID:10046194-1902308400-1902312000@theacesportsradio.com
SUMMARY:Amazing Americans
DESCRIPTION:NO POLITICAL RHETORIC. NO ANGRY TALK SHOW HOSTS.\n​JUST REAL SPORTS STORIES OF INSPIRATION. \nJerry Schemmel is a longtime Denver based broadcaster. He did radio play by play for the Colorado Rockies from 2010 to 2019.  Prior to that he spent 18 years as the Radio Voice of the Denver Nuggets and two with the Minnesota Timberwolves. He is a plane crash survivor\, author of two books\, an attorney and a record setting cyclist.
URL:https://theacesportsradio.com/show/amazing-americans/2030-04-13/
LOCATION:Amazing Americans Radio Network
ATTACH;FMTTYPE=image/jpeg:https://theacesportsradio.com/wp-content/uploads/2023/07/Amazing-Americans.jpg
END:VEVENT
BEGIN:VEVENT
DTSTART;TZID=America/Los_Angeles:20300420T110000
DTEND;TZID=America/Los_Angeles:20300420T120000
DTSTAMP:20260421T140303
CREATED:20230710T000437Z
LAST-MODIFIED:20230711T211952Z
UID:10046238-1902913200-1902916800@theacesportsradio.com
SUMMARY:Amazing Americans
DESCRIPTION:NO POLITICAL RHETORIC. NO ANGRY TALK SHOW HOSTS.\n​JUST REAL SPORTS STORIES OF INSPIRATION. \nJerry Schemmel is a longtime Denver based broadcaster. He did radio play by play for the Colorado Rockies from 2010 to 2019.  Prior to that he spent 18 years as the Radio Voice of the Denver Nuggets and two with the Minnesota Timberwolves. He is a plane crash survivor\, author of two books\, an attorney and a record setting cyclist.
URL:https://theacesportsradio.com/show/amazing-americans/2030-04-20/
LOCATION:Amazing Americans Radio Network
ATTACH;FMTTYPE=image/jpeg:https://theacesportsradio.com/wp-content/uploads/2023/07/Amazing-Americans.jpg
END:VEVENT
BEGIN:VEVENT
DTSTART;TZID=America/Los_Angeles:20300427T110000
DTEND;TZID=America/Los_Angeles:20300427T120000
DTSTAMP:20260421T140303
CREATED:20230710T000437Z
LAST-MODIFIED:20230711T211952Z
UID:10046280-1903518000-1903521600@theacesportsradio.com
SUMMARY:Amazing Americans
DESCRIPTION:NO POLITICAL RHETORIC. NO ANGRY TALK SHOW HOSTS.\n​JUST REAL SPORTS STORIES OF INSPIRATION. \nJerry Schemmel is a longtime Denver based broadcaster. He did radio play by play for the Colorado Rockies from 2010 to 2019.  Prior to that he spent 18 years as the Radio Voice of the Denver Nuggets and two with the Minnesota Timberwolves. He is a plane crash survivor\, author of two books\, an attorney and a record setting cyclist.
URL:https://theacesportsradio.com/show/amazing-americans/2030-04-27/
LOCATION:Amazing Americans Radio Network
ATTACH;FMTTYPE=image/jpeg:https://theacesportsradio.com/wp-content/uploads/2023/07/Amazing-Americans.jpg
END:VEVENT
BEGIN:VEVENT
DTSTART;TZID=America/Los_Angeles:20300504T110000
DTEND;TZID=America/Los_Angeles:20300504T120000
DTSTAMP:20260421T140303
CREATED:20230710T000437Z
LAST-MODIFIED:20230711T211952Z
UID:10046323-1904122800-1904126400@theacesportsradio.com
SUMMARY:Amazing Americans
DESCRIPTION:NO POLITICAL RHETORIC. NO ANGRY TALK SHOW HOSTS.\n​JUST REAL SPORTS STORIES OF INSPIRATION. \nJerry Schemmel is a longtime Denver based broadcaster. He did radio play by play for the Colorado Rockies from 2010 to 2019.  Prior to that he spent 18 years as the Radio Voice of the Denver Nuggets and two with the Minnesota Timberwolves. He is a plane crash survivor\, author of two books\, an attorney and a record setting cyclist.
URL:https://theacesportsradio.com/show/amazing-americans/2030-05-04/
LOCATION:Amazing Americans Radio Network
ATTACH;FMTTYPE=image/jpeg:https://theacesportsradio.com/wp-content/uploads/2023/07/Amazing-Americans.jpg
END:VEVENT
BEGIN:VEVENT
DTSTART;TZID=America/Los_Angeles:20300511T110000
DTEND;TZID=America/Los_Angeles:20300511T120000
DTSTAMP:20260421T140303
CREATED:20230710T000437Z
LAST-MODIFIED:20230711T211952Z
UID:10046366-1904727600-1904731200@theacesportsradio.com
SUMMARY:Amazing Americans
DESCRIPTION:NO POLITICAL RHETORIC. NO ANGRY TALK SHOW HOSTS.\n​JUST REAL SPORTS STORIES OF INSPIRATION. \nJerry Schemmel is a longtime Denver based broadcaster. He did radio play by play for the Colorado Rockies from 2010 to 2019.  Prior to that he spent 18 years as the Radio Voice of the Denver Nuggets and two with the Minnesota Timberwolves. He is a plane crash survivor\, author of two books\, an attorney and a record setting cyclist.
URL:https://theacesportsradio.com/show/amazing-americans/2030-05-11/
LOCATION:Amazing Americans Radio Network
ATTACH;FMTTYPE=image/jpeg:https://theacesportsradio.com/wp-content/uploads/2023/07/Amazing-Americans.jpg
END:VEVENT
BEGIN:VEVENT
DTSTART;TZID=America/Los_Angeles:20300518T110000
DTEND;TZID=America/Los_Angeles:20300518T120000
DTSTAMP:20260421T140303
CREATED:20230710T000437Z
LAST-MODIFIED:20230711T211952Z
UID:10046524-1905332400-1905336000@theacesportsradio.com
SUMMARY:Amazing Americans
DESCRIPTION:NO POLITICAL RHETORIC. NO ANGRY TALK SHOW HOSTS.\n​JUST REAL SPORTS STORIES OF INSPIRATION. \nJerry Schemmel is a longtime Denver based broadcaster. He did radio play by play for the Colorado Rockies from 2010 to 2019.  Prior to that he spent 18 years as the Radio Voice of the Denver Nuggets and two with the Minnesota Timberwolves. He is a plane crash survivor\, author of two books\, an attorney and a record setting cyclist.
URL:https://theacesportsradio.com/show/amazing-americans/2030-05-18/
LOCATION:Amazing Americans Radio Network
ATTACH;FMTTYPE=image/jpeg:https://theacesportsradio.com/wp-content/uploads/2023/07/Amazing-Americans.jpg
END:VEVENT
BEGIN:VEVENT
DTSTART;TZID=America/Los_Angeles:20300525T110000
DTEND;TZID=America/Los_Angeles:20300525T120000
DTSTAMP:20260421T140303
CREATED:20230710T000437Z
LAST-MODIFIED:20230711T211952Z
UID:10046810-1905937200-1905940800@theacesportsradio.com
SUMMARY:Amazing Americans
DESCRIPTION:NO POLITICAL RHETORIC. NO ANGRY TALK SHOW HOSTS.\n​JUST REAL SPORTS STORIES OF INSPIRATION. \nJerry Schemmel is a longtime Denver based broadcaster. He did radio play by play for the Colorado Rockies from 2010 to 2019.  Prior to that he spent 18 years as the Radio Voice of the Denver Nuggets and two with the Minnesota Timberwolves. He is a plane crash survivor\, author of two books\, an attorney and a record setting cyclist.
URL:https://theacesportsradio.com/show/amazing-americans/2030-05-25/
LOCATION:Amazing Americans Radio Network
ATTACH;FMTTYPE=image/jpeg:https://theacesportsradio.com/wp-content/uploads/2023/07/Amazing-Americans.jpg
END:VEVENT
BEGIN:VEVENT
DTSTART;TZID=America/Los_Angeles:20300601T110000
DTEND;TZID=America/Los_Angeles:20300601T120000
DTSTAMP:20260421T140303
CREATED:20230710T000437Z
LAST-MODIFIED:20230711T211952Z
UID:10046824-1906542000-1906545600@theacesportsradio.com
SUMMARY:Amazing Americans
DESCRIPTION:NO POLITICAL RHETORIC. NO ANGRY TALK SHOW HOSTS.\n​JUST REAL SPORTS STORIES OF INSPIRATION. \nJerry Schemmel is a longtime Denver based broadcaster. He did radio play by play for the Colorado Rockies from 2010 to 2019.  Prior to that he spent 18 years as the Radio Voice of the Denver Nuggets and two with the Minnesota Timberwolves. He is a plane crash survivor\, author of two books\, an attorney and a record setting cyclist.
URL:https://theacesportsradio.com/show/amazing-americans/2030-06-01/
LOCATION:Amazing Americans Radio Network
ATTACH;FMTTYPE=image/jpeg:https://theacesportsradio.com/wp-content/uploads/2023/07/Amazing-Americans.jpg
END:VEVENT
BEGIN:VEVENT
DTSTART;TZID=America/Los_Angeles:20300608T110000
DTEND;TZID=America/Los_Angeles:20300608T120000
DTSTAMP:20260421T140303
CREATED:20230710T000437Z
LAST-MODIFIED:20230711T211952Z
UID:10046896-1907146800-1907150400@theacesportsradio.com
SUMMARY:Amazing Americans
DESCRIPTION:NO POLITICAL RHETORIC. NO ANGRY TALK SHOW HOSTS.\n​JUST REAL SPORTS STORIES OF INSPIRATION. \nJerry Schemmel is a longtime Denver based broadcaster. He did radio play by play for the Colorado Rockies from 2010 to 2019.  Prior to that he spent 18 years as the Radio Voice of the Denver Nuggets and two with the Minnesota Timberwolves. He is a plane crash survivor\, author of two books\, an attorney and a record setting cyclist.
URL:https://theacesportsradio.com/show/amazing-americans/2030-06-08/
LOCATION:Amazing Americans Radio Network
ATTACH;FMTTYPE=image/jpeg:https://theacesportsradio.com/wp-content/uploads/2023/07/Amazing-Americans.jpg
END:VEVENT
BEGIN:VEVENT
DTSTART;TZID=America/Los_Angeles:20300615T110000
DTEND;TZID=America/Los_Angeles:20300615T120000
DTSTAMP:20260421T140303
CREATED:20230710T000437Z
LAST-MODIFIED:20230711T211952Z
UID:10046914-1907751600-1907755200@theacesportsradio.com
SUMMARY:Amazing Americans
DESCRIPTION:NO POLITICAL RHETORIC. NO ANGRY TALK SHOW HOSTS.\n​JUST REAL SPORTS STORIES OF INSPIRATION. \nJerry Schemmel is a longtime Denver based broadcaster. He did radio play by play for the Colorado Rockies from 2010 to 2019.  Prior to that he spent 18 years as the Radio Voice of the Denver Nuggets and two with the Minnesota Timberwolves. He is a plane crash survivor\, author of two books\, an attorney and a record setting cyclist.
URL:https://theacesportsradio.com/show/amazing-americans/2030-06-15/
LOCATION:Amazing Americans Radio Network
ATTACH;FMTTYPE=image/jpeg:https://theacesportsradio.com/wp-content/uploads/2023/07/Amazing-Americans.jpg
END:VEVENT
BEGIN:VEVENT
DTSTART;TZID=America/Los_Angeles:20300622T110000
DTEND;TZID=America/Los_Angeles:20300622T120000
DTSTAMP:20260421T140303
CREATED:20230710T000437Z
LAST-MODIFIED:20230711T211952Z
UID:10046932-1908356400-1908360000@theacesportsradio.com
SUMMARY:Amazing Americans
DESCRIPTION:NO POLITICAL RHETORIC. NO ANGRY TALK SHOW HOSTS.\n​JUST REAL SPORTS STORIES OF INSPIRATION. \nJerry Schemmel is a longtime Denver based broadcaster. He did radio play by play for the Colorado Rockies from 2010 to 2019.  Prior to that he spent 18 years as the Radio Voice of the Denver Nuggets and two with the Minnesota Timberwolves. He is a plane crash survivor\, author of two books\, an attorney and a record setting cyclist.
URL:https://theacesportsradio.com/show/amazing-americans/2030-06-22/
LOCATION:Amazing Americans Radio Network
ATTACH;FMTTYPE=image/jpeg:https://theacesportsradio.com/wp-content/uploads/2023/07/Amazing-Americans.jpg
END:VEVENT
BEGIN:VEVENT
DTSTART;TZID=America/Los_Angeles:20300629T110000
DTEND;TZID=America/Los_Angeles:20300629T120000
DTSTAMP:20260421T140303
CREATED:20230710T000437Z
LAST-MODIFIED:20230711T211952Z
UID:10046950-1908961200-1908964800@theacesportsradio.com
SUMMARY:Amazing Americans
DESCRIPTION:NO POLITICAL RHETORIC. NO ANGRY TALK SHOW HOSTS.\n​JUST REAL SPORTS STORIES OF INSPIRATION. \nJerry Schemmel is a longtime Denver based broadcaster. He did radio play by play for the Colorado Rockies from 2010 to 2019.  Prior to that he spent 18 years as the Radio Voice of the Denver Nuggets and two with the Minnesota Timberwolves. He is a plane crash survivor\, author of two books\, an attorney and a record setting cyclist.
URL:https://theacesportsradio.com/show/amazing-americans/2030-06-29/
LOCATION:Amazing Americans Radio Network
ATTACH;FMTTYPE=image/jpeg:https://theacesportsradio.com/wp-content/uploads/2023/07/Amazing-Americans.jpg
END:VEVENT
BEGIN:VEVENT
DTSTART;TZID=America/Los_Angeles:20300706T110000
DTEND;TZID=America/Los_Angeles:20300706T120000
DTSTAMP:20260421T140303
CREATED:20230710T000437Z
LAST-MODIFIED:20230711T211952Z
UID:10046970-1909566000-1909569600@theacesportsradio.com
SUMMARY:Amazing Americans
DESCRIPTION:NO POLITICAL RHETORIC. NO ANGRY TALK SHOW HOSTS.\n​JUST REAL SPORTS STORIES OF INSPIRATION. \nJerry Schemmel is a longtime Denver based broadcaster. He did radio play by play for the Colorado Rockies from 2010 to 2019.  Prior to that he spent 18 years as the Radio Voice of the Denver Nuggets and two with the Minnesota Timberwolves. He is a plane crash survivor\, author of two books\, an attorney and a record setting cyclist.
URL:https://theacesportsradio.com/show/amazing-americans/2030-07-06/
LOCATION:Amazing Americans Radio Network
ATTACH;FMTTYPE=image/jpeg:https://theacesportsradio.com/wp-content/uploads/2023/07/Amazing-Americans.jpg
END:VEVENT
BEGIN:VEVENT
DTSTART;TZID=America/Los_Angeles:20300713T110000
DTEND;TZID=America/Los_Angeles:20300713T120000
DTSTAMP:20260421T140303
CREATED:20230710T000437Z
LAST-MODIFIED:20230711T211952Z
UID:10046987-1910170800-1910174400@theacesportsradio.com
SUMMARY:Amazing Americans
DESCRIPTION:NO POLITICAL RHETORIC. NO ANGRY TALK SHOW HOSTS.\n​JUST REAL SPORTS STORIES OF INSPIRATION. \nJerry Schemmel is a longtime Denver based broadcaster. He did radio play by play for the Colorado Rockies from 2010 to 2019.  Prior to that he spent 18 years as the Radio Voice of the Denver Nuggets and two with the Minnesota Timberwolves. He is a plane crash survivor\, author of two books\, an attorney and a record setting cyclist.
URL:https://theacesportsradio.com/show/amazing-americans/2030-07-13/
LOCATION:Amazing Americans Radio Network
ATTACH;FMTTYPE=image/jpeg:https://theacesportsradio.com/wp-content/uploads/2023/07/Amazing-Americans.jpg
END:VEVENT
BEGIN:VEVENT
DTSTART;TZID=America/Los_Angeles:20300720T110000
DTEND;TZID=America/Los_Angeles:20300720T120000
DTSTAMP:20260421T140303
CREATED:20230710T000437Z
LAST-MODIFIED:20230711T211952Z
UID:10047006-1910775600-1910779200@theacesportsradio.com
SUMMARY:Amazing Americans
DESCRIPTION:NO POLITICAL RHETORIC. NO ANGRY TALK SHOW HOSTS.\n​JUST REAL SPORTS STORIES OF INSPIRATION. \nJerry Schemmel is a longtime Denver based broadcaster. He did radio play by play for the Colorado Rockies from 2010 to 2019.  Prior to that he spent 18 years as the Radio Voice of the Denver Nuggets and two with the Minnesota Timberwolves. He is a plane crash survivor\, author of two books\, an attorney and a record setting cyclist.
URL:https://theacesportsradio.com/show/amazing-americans/2030-07-20/
LOCATION:Amazing Americans Radio Network
ATTACH;FMTTYPE=image/jpeg:https://theacesportsradio.com/wp-content/uploads/2023/07/Amazing-Americans.jpg
END:VEVENT
END:VCALENDAR