BEGIN:VCALENDAR
VERSION:2.0
PRODID:-//The Ace Sports Radio - ECPv6.15.13//NONSGML v1.0//EN
CALSCALE:GREGORIAN
METHOD:PUBLISH
X-WR-CALNAME:The Ace Sports Radio
X-ORIGINAL-URL:https://theacesportsradio.com
X-WR-CALDESC:Events for The Ace Sports Radio
REFRESH-INTERVAL;VALUE=DURATION:PT1H
X-Robots-Tag:noindex
X-PUBLISHED-TTL:PT1H
BEGIN:VTIMEZONE
TZID:America/Los_Angeles
BEGIN:DAYLIGHT
TZOFFSETFROM:-0800
TZOFFSETTO:-0700
TZNAME:PDT
DTSTART:20270314T100000
END:DAYLIGHT
BEGIN:STANDARD
TZOFFSETFROM:-0700
TZOFFSETTO:-0800
TZNAME:PST
DTSTART:20271107T090000
END:STANDARD
BEGIN:DAYLIGHT
TZOFFSETFROM:-0800
TZOFFSETTO:-0700
TZNAME:PDT
DTSTART:20280312T100000
END:DAYLIGHT
BEGIN:STANDARD
TZOFFSETFROM:-0700
TZOFFSETTO:-0800
TZNAME:PST
DTSTART:20281105T090000
END:STANDARD
BEGIN:DAYLIGHT
TZOFFSETFROM:-0800
TZOFFSETTO:-0700
TZNAME:PDT
DTSTART:20290311T100000
END:DAYLIGHT
BEGIN:STANDARD
TZOFFSETFROM:-0700
TZOFFSETTO:-0800
TZNAME:PST
DTSTART:20291104T090000
END:STANDARD
BEGIN:DAYLIGHT
TZOFFSETFROM:-0800
TZOFFSETTO:-0700
TZNAME:PDT
DTSTART:20300310T100000
END:DAYLIGHT
BEGIN:STANDARD
TZOFFSETFROM:-0700
TZOFFSETTO:-0800
TZNAME:PST
DTSTART:20301103T090000
END:STANDARD
END:VTIMEZONE
BEGIN:VEVENT
DTSTART;TZID=America/Los_Angeles:20281104T110000
DTEND;TZID=America/Los_Angeles:20281104T120000
DTSTAMP:20260420T211804
CREATED:20230710T000437Z
LAST-MODIFIED:20230711T211952Z
UID:10032507-1856948400-1856952000@theacesportsradio.com
SUMMARY:Amazing Americans
DESCRIPTION:NO POLITICAL RHETORIC. NO ANGRY TALK SHOW HOSTS.\n​JUST REAL SPORTS STORIES OF INSPIRATION. \nJerry Schemmel is a longtime Denver based broadcaster. He did radio play by play for the Colorado Rockies from 2010 to 2019.  Prior to that he spent 18 years as the Radio Voice of the Denver Nuggets and two with the Minnesota Timberwolves. He is a plane crash survivor\, author of two books\, an attorney and a record setting cyclist.
URL:https://theacesportsradio.com/show/amazing-americans/2028-11-04/
LOCATION:Amazing Americans Radio Network
ATTACH;FMTTYPE=image/jpeg:https://theacesportsradio.com/wp-content/uploads/2023/07/Amazing-Americans.jpg
END:VEVENT
BEGIN:VEVENT
DTSTART;TZID=America/Los_Angeles:20281111T110000
DTEND;TZID=America/Los_Angeles:20281111T120000
DTSTAMP:20260420T211804
CREATED:20230710T000437Z
LAST-MODIFIED:20230711T211952Z
UID:10032568-1857553200-1857556800@theacesportsradio.com
SUMMARY:Amazing Americans
DESCRIPTION:NO POLITICAL RHETORIC. NO ANGRY TALK SHOW HOSTS.\n​JUST REAL SPORTS STORIES OF INSPIRATION. \nJerry Schemmel is a longtime Denver based broadcaster. He did radio play by play for the Colorado Rockies from 2010 to 2019.  Prior to that he spent 18 years as the Radio Voice of the Denver Nuggets and two with the Minnesota Timberwolves. He is a plane crash survivor\, author of two books\, an attorney and a record setting cyclist.
URL:https://theacesportsradio.com/show/amazing-americans/2028-11-11/
LOCATION:Amazing Americans Radio Network
ATTACH;FMTTYPE=image/jpeg:https://theacesportsradio.com/wp-content/uploads/2023/07/Amazing-Americans.jpg
END:VEVENT
BEGIN:VEVENT
DTSTART;TZID=America/Los_Angeles:20281118T110000
DTEND;TZID=America/Los_Angeles:20281118T120000
DTSTAMP:20260420T211804
CREATED:20230710T000437Z
LAST-MODIFIED:20230711T211952Z
UID:10032629-1858158000-1858161600@theacesportsradio.com
SUMMARY:Amazing Americans
DESCRIPTION:NO POLITICAL RHETORIC. NO ANGRY TALK SHOW HOSTS.\n​JUST REAL SPORTS STORIES OF INSPIRATION. \nJerry Schemmel is a longtime Denver based broadcaster. He did radio play by play for the Colorado Rockies from 2010 to 2019.  Prior to that he spent 18 years as the Radio Voice of the Denver Nuggets and two with the Minnesota Timberwolves. He is a plane crash survivor\, author of two books\, an attorney and a record setting cyclist.
URL:https://theacesportsradio.com/show/amazing-americans/2028-11-18/
LOCATION:Amazing Americans Radio Network
ATTACH;FMTTYPE=image/jpeg:https://theacesportsradio.com/wp-content/uploads/2023/07/Amazing-Americans.jpg
END:VEVENT
BEGIN:VEVENT
DTSTART;TZID=America/Los_Angeles:20281125T110000
DTEND;TZID=America/Los_Angeles:20281125T120000
DTSTAMP:20260420T211804
CREATED:20230710T000437Z
LAST-MODIFIED:20230711T211952Z
UID:10032690-1858762800-1858766400@theacesportsradio.com
SUMMARY:Amazing Americans
DESCRIPTION:NO POLITICAL RHETORIC. NO ANGRY TALK SHOW HOSTS.\n​JUST REAL SPORTS STORIES OF INSPIRATION. \nJerry Schemmel is a longtime Denver based broadcaster. He did radio play by play for the Colorado Rockies from 2010 to 2019.  Prior to that he spent 18 years as the Radio Voice of the Denver Nuggets and two with the Minnesota Timberwolves. He is a plane crash survivor\, author of two books\, an attorney and a record setting cyclist.
URL:https://theacesportsradio.com/show/amazing-americans/2028-11-25/
LOCATION:Amazing Americans Radio Network
ATTACH;FMTTYPE=image/jpeg:https://theacesportsradio.com/wp-content/uploads/2023/07/Amazing-Americans.jpg
END:VEVENT
BEGIN:VEVENT
DTSTART;TZID=America/Los_Angeles:20281202T110000
DTEND;TZID=America/Los_Angeles:20281202T120000
DTSTAMP:20260420T211804
CREATED:20230710T000437Z
LAST-MODIFIED:20230711T211952Z
UID:10034052-1859367600-1859371200@theacesportsradio.com
SUMMARY:Amazing Americans
DESCRIPTION:NO POLITICAL RHETORIC. NO ANGRY TALK SHOW HOSTS.\n​JUST REAL SPORTS STORIES OF INSPIRATION. \nJerry Schemmel is a longtime Denver based broadcaster. He did radio play by play for the Colorado Rockies from 2010 to 2019.  Prior to that he spent 18 years as the Radio Voice of the Denver Nuggets and two with the Minnesota Timberwolves. He is a plane crash survivor\, author of two books\, an attorney and a record setting cyclist.
URL:https://theacesportsradio.com/show/amazing-americans/2028-12-02/
LOCATION:Amazing Americans Radio Network
ATTACH;FMTTYPE=image/jpeg:https://theacesportsradio.com/wp-content/uploads/2023/07/Amazing-Americans.jpg
END:VEVENT
BEGIN:VEVENT
DTSTART;TZID=America/Los_Angeles:20281209T110000
DTEND;TZID=America/Los_Angeles:20281209T120000
DTSTAMP:20260420T211804
CREATED:20230710T000437Z
LAST-MODIFIED:20230711T211952Z
UID:10034111-1859972400-1859976000@theacesportsradio.com
SUMMARY:Amazing Americans
DESCRIPTION:NO POLITICAL RHETORIC. NO ANGRY TALK SHOW HOSTS.\n​JUST REAL SPORTS STORIES OF INSPIRATION. \nJerry Schemmel is a longtime Denver based broadcaster. He did radio play by play for the Colorado Rockies from 2010 to 2019.  Prior to that he spent 18 years as the Radio Voice of the Denver Nuggets and two with the Minnesota Timberwolves. He is a plane crash survivor\, author of two books\, an attorney and a record setting cyclist.
URL:https://theacesportsradio.com/show/amazing-americans/2028-12-09/
LOCATION:Amazing Americans Radio Network
ATTACH;FMTTYPE=image/jpeg:https://theacesportsradio.com/wp-content/uploads/2023/07/Amazing-Americans.jpg
END:VEVENT
BEGIN:VEVENT
DTSTART;TZID=America/Los_Angeles:20281216T110000
DTEND;TZID=America/Los_Angeles:20281216T120000
DTSTAMP:20260420T211804
CREATED:20230710T000437Z
LAST-MODIFIED:20230711T211952Z
UID:10034426-1860577200-1860580800@theacesportsradio.com
SUMMARY:Amazing Americans
DESCRIPTION:NO POLITICAL RHETORIC. NO ANGRY TALK SHOW HOSTS.\n​JUST REAL SPORTS STORIES OF INSPIRATION. \nJerry Schemmel is a longtime Denver based broadcaster. He did radio play by play for the Colorado Rockies from 2010 to 2019.  Prior to that he spent 18 years as the Radio Voice of the Denver Nuggets and two with the Minnesota Timberwolves. He is a plane crash survivor\, author of two books\, an attorney and a record setting cyclist.
URL:https://theacesportsradio.com/show/amazing-americans/2028-12-16/
LOCATION:Amazing Americans Radio Network
ATTACH;FMTTYPE=image/jpeg:https://theacesportsradio.com/wp-content/uploads/2023/07/Amazing-Americans.jpg
END:VEVENT
BEGIN:VEVENT
DTSTART;TZID=America/Los_Angeles:20281223T110000
DTEND;TZID=America/Los_Angeles:20281223T120000
DTSTAMP:20260420T211804
CREATED:20230710T000437Z
LAST-MODIFIED:20230711T211952Z
UID:10034427-1861182000-1861185600@theacesportsradio.com
SUMMARY:Amazing Americans
DESCRIPTION:NO POLITICAL RHETORIC. NO ANGRY TALK SHOW HOSTS.\n​JUST REAL SPORTS STORIES OF INSPIRATION. \nJerry Schemmel is a longtime Denver based broadcaster. He did radio play by play for the Colorado Rockies from 2010 to 2019.  Prior to that he spent 18 years as the Radio Voice of the Denver Nuggets and two with the Minnesota Timberwolves. He is a plane crash survivor\, author of two books\, an attorney and a record setting cyclist.
URL:https://theacesportsradio.com/show/amazing-americans/2028-12-23/
LOCATION:Amazing Americans Radio Network
ATTACH;FMTTYPE=image/jpeg:https://theacesportsradio.com/wp-content/uploads/2023/07/Amazing-Americans.jpg
END:VEVENT
BEGIN:VEVENT
DTSTART;TZID=America/Los_Angeles:20281230T110000
DTEND;TZID=America/Los_Angeles:20281230T120000
DTSTAMP:20260420T211804
CREATED:20230710T000437Z
LAST-MODIFIED:20230711T211952Z
UID:10034428-1861786800-1861790400@theacesportsradio.com
SUMMARY:Amazing Americans
DESCRIPTION:NO POLITICAL RHETORIC. NO ANGRY TALK SHOW HOSTS.\n​JUST REAL SPORTS STORIES OF INSPIRATION. \nJerry Schemmel is a longtime Denver based broadcaster. He did radio play by play for the Colorado Rockies from 2010 to 2019.  Prior to that he spent 18 years as the Radio Voice of the Denver Nuggets and two with the Minnesota Timberwolves. He is a plane crash survivor\, author of two books\, an attorney and a record setting cyclist.
URL:https://theacesportsradio.com/show/amazing-americans/2028-12-30/
LOCATION:Amazing Americans Radio Network
ATTACH;FMTTYPE=image/jpeg:https://theacesportsradio.com/wp-content/uploads/2023/07/Amazing-Americans.jpg
END:VEVENT
BEGIN:VEVENT
DTSTART;TZID=America/Los_Angeles:20290106T110000
DTEND;TZID=America/Los_Angeles:20290106T120000
DTSTAMP:20260420T211804
CREATED:20230710T000437Z
LAST-MODIFIED:20230711T211952Z
UID:10034429-1862391600-1862395200@theacesportsradio.com
SUMMARY:Amazing Americans
DESCRIPTION:NO POLITICAL RHETORIC. NO ANGRY TALK SHOW HOSTS.\n​JUST REAL SPORTS STORIES OF INSPIRATION. \nJerry Schemmel is a longtime Denver based broadcaster. He did radio play by play for the Colorado Rockies from 2010 to 2019.  Prior to that he spent 18 years as the Radio Voice of the Denver Nuggets and two with the Minnesota Timberwolves. He is a plane crash survivor\, author of two books\, an attorney and a record setting cyclist.
URL:https://theacesportsradio.com/show/amazing-americans/2029-01-06/
LOCATION:Amazing Americans Radio Network
ATTACH;FMTTYPE=image/jpeg:https://theacesportsradio.com/wp-content/uploads/2023/07/Amazing-Americans.jpg
END:VEVENT
BEGIN:VEVENT
DTSTART;TZID=America/Los_Angeles:20290113T110000
DTEND;TZID=America/Los_Angeles:20290113T120000
DTSTAMP:20260420T211804
CREATED:20230710T000437Z
LAST-MODIFIED:20230711T211952Z
UID:10034430-1862996400-1863000000@theacesportsradio.com
SUMMARY:Amazing Americans
DESCRIPTION:NO POLITICAL RHETORIC. NO ANGRY TALK SHOW HOSTS.\n​JUST REAL SPORTS STORIES OF INSPIRATION. \nJerry Schemmel is a longtime Denver based broadcaster. He did radio play by play for the Colorado Rockies from 2010 to 2019.  Prior to that he spent 18 years as the Radio Voice of the Denver Nuggets and two with the Minnesota Timberwolves. He is a plane crash survivor\, author of two books\, an attorney and a record setting cyclist.
URL:https://theacesportsradio.com/show/amazing-americans/2029-01-13/
LOCATION:Amazing Americans Radio Network
ATTACH;FMTTYPE=image/jpeg:https://theacesportsradio.com/wp-content/uploads/2023/07/Amazing-Americans.jpg
END:VEVENT
BEGIN:VEVENT
DTSTART;TZID=America/Los_Angeles:20290120T110000
DTEND;TZID=America/Los_Angeles:20290120T120000
DTSTAMP:20260420T211804
CREATED:20230710T000437Z
LAST-MODIFIED:20230711T211952Z
UID:10034431-1863601200-1863604800@theacesportsradio.com
SUMMARY:Amazing Americans
DESCRIPTION:NO POLITICAL RHETORIC. NO ANGRY TALK SHOW HOSTS.\n​JUST REAL SPORTS STORIES OF INSPIRATION. \nJerry Schemmel is a longtime Denver based broadcaster. He did radio play by play for the Colorado Rockies from 2010 to 2019.  Prior to that he spent 18 years as the Radio Voice of the Denver Nuggets and two with the Minnesota Timberwolves. He is a plane crash survivor\, author of two books\, an attorney and a record setting cyclist.
URL:https://theacesportsradio.com/show/amazing-americans/2029-01-20/
LOCATION:Amazing Americans Radio Network
ATTACH;FMTTYPE=image/jpeg:https://theacesportsradio.com/wp-content/uploads/2023/07/Amazing-Americans.jpg
END:VEVENT
BEGIN:VEVENT
DTSTART;TZID=America/Los_Angeles:20290127T110000
DTEND;TZID=America/Los_Angeles:20290127T120000
DTSTAMP:20260420T211804
CREATED:20230710T000437Z
LAST-MODIFIED:20230711T211952Z
UID:10034432-1864206000-1864209600@theacesportsradio.com
SUMMARY:Amazing Americans
DESCRIPTION:NO POLITICAL RHETORIC. NO ANGRY TALK SHOW HOSTS.\n​JUST REAL SPORTS STORIES OF INSPIRATION. \nJerry Schemmel is a longtime Denver based broadcaster. He did radio play by play for the Colorado Rockies from 2010 to 2019.  Prior to that he spent 18 years as the Radio Voice of the Denver Nuggets and two with the Minnesota Timberwolves. He is a plane crash survivor\, author of two books\, an attorney and a record setting cyclist.
URL:https://theacesportsradio.com/show/amazing-americans/2029-01-27/
LOCATION:Amazing Americans Radio Network
ATTACH;FMTTYPE=image/jpeg:https://theacesportsradio.com/wp-content/uploads/2023/07/Amazing-Americans.jpg
END:VEVENT
BEGIN:VEVENT
DTSTART;TZID=America/Los_Angeles:20290203T110000
DTEND;TZID=America/Los_Angeles:20290203T120000
DTSTAMP:20260420T211804
CREATED:20230710T000437Z
LAST-MODIFIED:20230711T211952Z
UID:10034617-1864810800-1864814400@theacesportsradio.com
SUMMARY:Amazing Americans
DESCRIPTION:NO POLITICAL RHETORIC. NO ANGRY TALK SHOW HOSTS.\n​JUST REAL SPORTS STORIES OF INSPIRATION. \nJerry Schemmel is a longtime Denver based broadcaster. He did radio play by play for the Colorado Rockies from 2010 to 2019.  Prior to that he spent 18 years as the Radio Voice of the Denver Nuggets and two with the Minnesota Timberwolves. He is a plane crash survivor\, author of two books\, an attorney and a record setting cyclist.
URL:https://theacesportsradio.com/show/amazing-americans/2029-02-03/
LOCATION:Amazing Americans Radio Network
ATTACH;FMTTYPE=image/jpeg:https://theacesportsradio.com/wp-content/uploads/2023/07/Amazing-Americans.jpg
END:VEVENT
BEGIN:VEVENT
DTSTART;TZID=America/Los_Angeles:20290210T110000
DTEND;TZID=America/Los_Angeles:20290210T120000
DTSTAMP:20260420T211804
CREATED:20230710T000437Z
LAST-MODIFIED:20230711T211952Z
UID:10034680-1865415600-1865419200@theacesportsradio.com
SUMMARY:Amazing Americans
DESCRIPTION:NO POLITICAL RHETORIC. NO ANGRY TALK SHOW HOSTS.\n​JUST REAL SPORTS STORIES OF INSPIRATION. \nJerry Schemmel is a longtime Denver based broadcaster. He did radio play by play for the Colorado Rockies from 2010 to 2019.  Prior to that he spent 18 years as the Radio Voice of the Denver Nuggets and two with the Minnesota Timberwolves. He is a plane crash survivor\, author of two books\, an attorney and a record setting cyclist.
URL:https://theacesportsradio.com/show/amazing-americans/2029-02-10/
LOCATION:Amazing Americans Radio Network
ATTACH;FMTTYPE=image/jpeg:https://theacesportsradio.com/wp-content/uploads/2023/07/Amazing-Americans.jpg
END:VEVENT
BEGIN:VEVENT
DTSTART;TZID=America/Los_Angeles:20290217T110000
DTEND;TZID=America/Los_Angeles:20290217T120000
DTSTAMP:20260420T211804
CREATED:20230710T000437Z
LAST-MODIFIED:20230711T211952Z
UID:10034751-1866020400-1866024000@theacesportsradio.com
SUMMARY:Amazing Americans
DESCRIPTION:NO POLITICAL RHETORIC. NO ANGRY TALK SHOW HOSTS.\n​JUST REAL SPORTS STORIES OF INSPIRATION. \nJerry Schemmel is a longtime Denver based broadcaster. He did radio play by play for the Colorado Rockies from 2010 to 2019.  Prior to that he spent 18 years as the Radio Voice of the Denver Nuggets and two with the Minnesota Timberwolves. He is a plane crash survivor\, author of two books\, an attorney and a record setting cyclist.
URL:https://theacesportsradio.com/show/amazing-americans/2029-02-17/
LOCATION:Amazing Americans Radio Network
ATTACH;FMTTYPE=image/jpeg:https://theacesportsradio.com/wp-content/uploads/2023/07/Amazing-Americans.jpg
END:VEVENT
BEGIN:VEVENT
DTSTART;TZID=America/Los_Angeles:20290224T110000
DTEND;TZID=America/Los_Angeles:20290224T120000
DTSTAMP:20260420T211804
CREATED:20230710T000437Z
LAST-MODIFIED:20230711T211952Z
UID:10034814-1866625200-1866628800@theacesportsradio.com
SUMMARY:Amazing Americans
DESCRIPTION:NO POLITICAL RHETORIC. NO ANGRY TALK SHOW HOSTS.\n​JUST REAL SPORTS STORIES OF INSPIRATION. \nJerry Schemmel is a longtime Denver based broadcaster. He did radio play by play for the Colorado Rockies from 2010 to 2019.  Prior to that he spent 18 years as the Radio Voice of the Denver Nuggets and two with the Minnesota Timberwolves. He is a plane crash survivor\, author of two books\, an attorney and a record setting cyclist.
URL:https://theacesportsradio.com/show/amazing-americans/2029-02-24/
LOCATION:Amazing Americans Radio Network
ATTACH;FMTTYPE=image/jpeg:https://theacesportsradio.com/wp-content/uploads/2023/07/Amazing-Americans.jpg
END:VEVENT
BEGIN:VEVENT
DTSTART;TZID=America/Los_Angeles:20290303T110000
DTEND;TZID=America/Los_Angeles:20290303T120000
DTSTAMP:20260420T211804
CREATED:20230710T000437Z
LAST-MODIFIED:20230711T211952Z
UID:10034888-1867230000-1867233600@theacesportsradio.com
SUMMARY:Amazing Americans
DESCRIPTION:NO POLITICAL RHETORIC. NO ANGRY TALK SHOW HOSTS.\n​JUST REAL SPORTS STORIES OF INSPIRATION. \nJerry Schemmel is a longtime Denver based broadcaster. He did radio play by play for the Colorado Rockies from 2010 to 2019.  Prior to that he spent 18 years as the Radio Voice of the Denver Nuggets and two with the Minnesota Timberwolves. He is a plane crash survivor\, author of two books\, an attorney and a record setting cyclist.
URL:https://theacesportsradio.com/show/amazing-americans/2029-03-03/
LOCATION:Amazing Americans Radio Network
ATTACH;FMTTYPE=image/jpeg:https://theacesportsradio.com/wp-content/uploads/2023/07/Amazing-Americans.jpg
END:VEVENT
BEGIN:VEVENT
DTSTART;TZID=America/Los_Angeles:20290310T110000
DTEND;TZID=America/Los_Angeles:20290310T120000
DTSTAMP:20260420T211804
CREATED:20230710T000437Z
LAST-MODIFIED:20230711T211952Z
UID:10034951-1867834800-1867838400@theacesportsradio.com
SUMMARY:Amazing Americans
DESCRIPTION:NO POLITICAL RHETORIC. NO ANGRY TALK SHOW HOSTS.\n​JUST REAL SPORTS STORIES OF INSPIRATION. \nJerry Schemmel is a longtime Denver based broadcaster. He did radio play by play for the Colorado Rockies from 2010 to 2019.  Prior to that he spent 18 years as the Radio Voice of the Denver Nuggets and two with the Minnesota Timberwolves. He is a plane crash survivor\, author of two books\, an attorney and a record setting cyclist.
URL:https://theacesportsradio.com/show/amazing-americans/2029-03-10/
LOCATION:Amazing Americans Radio Network
ATTACH;FMTTYPE=image/jpeg:https://theacesportsradio.com/wp-content/uploads/2023/07/Amazing-Americans.jpg
END:VEVENT
BEGIN:VEVENT
DTSTART;TZID=America/Los_Angeles:20290317T110000
DTEND;TZID=America/Los_Angeles:20290317T120000
DTSTAMP:20260420T211804
CREATED:20230710T000437Z
LAST-MODIFIED:20230711T211952Z
UID:10035018-1868439600-1868443200@theacesportsradio.com
SUMMARY:Amazing Americans
DESCRIPTION:NO POLITICAL RHETORIC. NO ANGRY TALK SHOW HOSTS.\n​JUST REAL SPORTS STORIES OF INSPIRATION. \nJerry Schemmel is a longtime Denver based broadcaster. He did radio play by play for the Colorado Rockies from 2010 to 2019.  Prior to that he spent 18 years as the Radio Voice of the Denver Nuggets and two with the Minnesota Timberwolves. He is a plane crash survivor\, author of two books\, an attorney and a record setting cyclist.
URL:https://theacesportsradio.com/show/amazing-americans/2029-03-17/
LOCATION:Amazing Americans Radio Network
ATTACH;FMTTYPE=image/jpeg:https://theacesportsradio.com/wp-content/uploads/2023/07/Amazing-Americans.jpg
END:VEVENT
BEGIN:VEVENT
DTSTART;TZID=America/Los_Angeles:20290324T110000
DTEND;TZID=America/Los_Angeles:20290324T120000
DTSTAMP:20260420T211804
CREATED:20230710T000437Z
LAST-MODIFIED:20230711T211952Z
UID:10035081-1869044400-1869048000@theacesportsradio.com
SUMMARY:Amazing Americans
DESCRIPTION:NO POLITICAL RHETORIC. NO ANGRY TALK SHOW HOSTS.\n​JUST REAL SPORTS STORIES OF INSPIRATION. \nJerry Schemmel is a longtime Denver based broadcaster. He did radio play by play for the Colorado Rockies from 2010 to 2019.  Prior to that he spent 18 years as the Radio Voice of the Denver Nuggets and two with the Minnesota Timberwolves. He is a plane crash survivor\, author of two books\, an attorney and a record setting cyclist.
URL:https://theacesportsradio.com/show/amazing-americans/2029-03-24/
LOCATION:Amazing Americans Radio Network
ATTACH;FMTTYPE=image/jpeg:https://theacesportsradio.com/wp-content/uploads/2023/07/Amazing-Americans.jpg
END:VEVENT
BEGIN:VEVENT
DTSTART;TZID=America/Los_Angeles:20290331T110000
DTEND;TZID=America/Los_Angeles:20290331T120000
DTSTAMP:20260420T211804
CREATED:20230710T000437Z
LAST-MODIFIED:20230711T211952Z
UID:10035144-1869649200-1869652800@theacesportsradio.com
SUMMARY:Amazing Americans
DESCRIPTION:NO POLITICAL RHETORIC. NO ANGRY TALK SHOW HOSTS.\n​JUST REAL SPORTS STORIES OF INSPIRATION. \nJerry Schemmel is a longtime Denver based broadcaster. He did radio play by play for the Colorado Rockies from 2010 to 2019.  Prior to that he spent 18 years as the Radio Voice of the Denver Nuggets and two with the Minnesota Timberwolves. He is a plane crash survivor\, author of two books\, an attorney and a record setting cyclist.
URL:https://theacesportsradio.com/show/amazing-americans/2029-03-31/
LOCATION:Amazing Americans Radio Network
ATTACH;FMTTYPE=image/jpeg:https://theacesportsradio.com/wp-content/uploads/2023/07/Amazing-Americans.jpg
END:VEVENT
BEGIN:VEVENT
DTSTART;TZID=America/Los_Angeles:20290407T110000
DTEND;TZID=America/Los_Angeles:20290407T120000
DTSTAMP:20260420T211804
CREATED:20230710T000437Z
LAST-MODIFIED:20230711T211952Z
UID:10035207-1870254000-1870257600@theacesportsradio.com
SUMMARY:Amazing Americans
DESCRIPTION:NO POLITICAL RHETORIC. NO ANGRY TALK SHOW HOSTS.\n​JUST REAL SPORTS STORIES OF INSPIRATION. \nJerry Schemmel is a longtime Denver based broadcaster. He did radio play by play for the Colorado Rockies from 2010 to 2019.  Prior to that he spent 18 years as the Radio Voice of the Denver Nuggets and two with the Minnesota Timberwolves. He is a plane crash survivor\, author of two books\, an attorney and a record setting cyclist.
URL:https://theacesportsradio.com/show/amazing-americans/2029-04-07/
LOCATION:Amazing Americans Radio Network
ATTACH;FMTTYPE=image/jpeg:https://theacesportsradio.com/wp-content/uploads/2023/07/Amazing-Americans.jpg
END:VEVENT
BEGIN:VEVENT
DTSTART;TZID=America/Los_Angeles:20290414T110000
DTEND;TZID=America/Los_Angeles:20290414T120000
DTSTAMP:20260420T211804
CREATED:20230710T000437Z
LAST-MODIFIED:20230711T211952Z
UID:10035270-1870858800-1870862400@theacesportsradio.com
SUMMARY:Amazing Americans
DESCRIPTION:NO POLITICAL RHETORIC. NO ANGRY TALK SHOW HOSTS.\n​JUST REAL SPORTS STORIES OF INSPIRATION. \nJerry Schemmel is a longtime Denver based broadcaster. He did radio play by play for the Colorado Rockies from 2010 to 2019.  Prior to that he spent 18 years as the Radio Voice of the Denver Nuggets and two with the Minnesota Timberwolves. He is a plane crash survivor\, author of two books\, an attorney and a record setting cyclist.
URL:https://theacesportsradio.com/show/amazing-americans/2029-04-14/
LOCATION:Amazing Americans Radio Network
ATTACH;FMTTYPE=image/jpeg:https://theacesportsradio.com/wp-content/uploads/2023/07/Amazing-Americans.jpg
END:VEVENT
BEGIN:VEVENT
DTSTART;TZID=America/Los_Angeles:20290421T110000
DTEND;TZID=America/Los_Angeles:20290421T120000
DTSTAMP:20260420T211804
CREATED:20230710T000437Z
LAST-MODIFIED:20230711T211952Z
UID:10035333-1871463600-1871467200@theacesportsradio.com
SUMMARY:Amazing Americans
DESCRIPTION:NO POLITICAL RHETORIC. NO ANGRY TALK SHOW HOSTS.\n​JUST REAL SPORTS STORIES OF INSPIRATION. \nJerry Schemmel is a longtime Denver based broadcaster. He did radio play by play for the Colorado Rockies from 2010 to 2019.  Prior to that he spent 18 years as the Radio Voice of the Denver Nuggets and two with the Minnesota Timberwolves. He is a plane crash survivor\, author of two books\, an attorney and a record setting cyclist.
URL:https://theacesportsradio.com/show/amazing-americans/2029-04-21/
LOCATION:Amazing Americans Radio Network
ATTACH;FMTTYPE=image/jpeg:https://theacesportsradio.com/wp-content/uploads/2023/07/Amazing-Americans.jpg
END:VEVENT
BEGIN:VEVENT
DTSTART;TZID=America/Los_Angeles:20290428T110000
DTEND;TZID=America/Los_Angeles:20290428T120000
DTSTAMP:20260420T211804
CREATED:20230710T000437Z
LAST-MODIFIED:20230711T211952Z
UID:10035396-1872068400-1872072000@theacesportsradio.com
SUMMARY:Amazing Americans
DESCRIPTION:NO POLITICAL RHETORIC. NO ANGRY TALK SHOW HOSTS.\n​JUST REAL SPORTS STORIES OF INSPIRATION. \nJerry Schemmel is a longtime Denver based broadcaster. He did radio play by play for the Colorado Rockies from 2010 to 2019.  Prior to that he spent 18 years as the Radio Voice of the Denver Nuggets and two with the Minnesota Timberwolves. He is a plane crash survivor\, author of two books\, an attorney and a record setting cyclist.
URL:https://theacesportsradio.com/show/amazing-americans/2029-04-28/
LOCATION:Amazing Americans Radio Network
ATTACH;FMTTYPE=image/jpeg:https://theacesportsradio.com/wp-content/uploads/2023/07/Amazing-Americans.jpg
END:VEVENT
BEGIN:VEVENT
DTSTART;TZID=America/Los_Angeles:20290505T110000
DTEND;TZID=America/Los_Angeles:20290505T120000
DTSTAMP:20260420T211804
CREATED:20230710T000437Z
LAST-MODIFIED:20230711T211952Z
UID:10035460-1872673200-1872676800@theacesportsradio.com
SUMMARY:Amazing Americans
DESCRIPTION:NO POLITICAL RHETORIC. NO ANGRY TALK SHOW HOSTS.\n​JUST REAL SPORTS STORIES OF INSPIRATION. \nJerry Schemmel is a longtime Denver based broadcaster. He did radio play by play for the Colorado Rockies from 2010 to 2019.  Prior to that he spent 18 years as the Radio Voice of the Denver Nuggets and two with the Minnesota Timberwolves. He is a plane crash survivor\, author of two books\, an attorney and a record setting cyclist.
URL:https://theacesportsradio.com/show/amazing-americans/2029-05-05/
LOCATION:Amazing Americans Radio Network
ATTACH;FMTTYPE=image/jpeg:https://theacesportsradio.com/wp-content/uploads/2023/07/Amazing-Americans.jpg
END:VEVENT
BEGIN:VEVENT
DTSTART;TZID=America/Los_Angeles:20290512T110000
DTEND;TZID=America/Los_Angeles:20290512T120000
DTSTAMP:20260420T211804
CREATED:20230710T000437Z
LAST-MODIFIED:20230711T211952Z
UID:10035522-1873278000-1873281600@theacesportsradio.com
SUMMARY:Amazing Americans
DESCRIPTION:NO POLITICAL RHETORIC. NO ANGRY TALK SHOW HOSTS.\n​JUST REAL SPORTS STORIES OF INSPIRATION. \nJerry Schemmel is a longtime Denver based broadcaster. He did radio play by play for the Colorado Rockies from 2010 to 2019.  Prior to that he spent 18 years as the Radio Voice of the Denver Nuggets and two with the Minnesota Timberwolves. He is a plane crash survivor\, author of two books\, an attorney and a record setting cyclist.
URL:https://theacesportsradio.com/show/amazing-americans/2029-05-12/
LOCATION:Amazing Americans Radio Network
ATTACH;FMTTYPE=image/jpeg:https://theacesportsradio.com/wp-content/uploads/2023/07/Amazing-Americans.jpg
END:VEVENT
BEGIN:VEVENT
DTSTART;TZID=America/Los_Angeles:20290519T110000
DTEND;TZID=America/Los_Angeles:20290519T120000
DTSTAMP:20260420T211804
CREATED:20230710T000437Z
LAST-MODIFIED:20230711T211952Z
UID:10036912-1873882800-1873886400@theacesportsradio.com
SUMMARY:Amazing Americans
DESCRIPTION:NO POLITICAL RHETORIC. NO ANGRY TALK SHOW HOSTS.\n​JUST REAL SPORTS STORIES OF INSPIRATION. \nJerry Schemmel is a longtime Denver based broadcaster. He did radio play by play for the Colorado Rockies from 2010 to 2019.  Prior to that he spent 18 years as the Radio Voice of the Denver Nuggets and two with the Minnesota Timberwolves. He is a plane crash survivor\, author of two books\, an attorney and a record setting cyclist.
URL:https://theacesportsradio.com/show/amazing-americans/2029-05-19/
LOCATION:Amazing Americans Radio Network
ATTACH;FMTTYPE=image/jpeg:https://theacesportsradio.com/wp-content/uploads/2023/07/Amazing-Americans.jpg
END:VEVENT
BEGIN:VEVENT
DTSTART;TZID=America/Los_Angeles:20290526T110000
DTEND;TZID=America/Los_Angeles:20290526T120000
DTSTAMP:20260420T211804
CREATED:20230710T000437Z
LAST-MODIFIED:20230711T211952Z
UID:10036975-1874487600-1874491200@theacesportsradio.com
SUMMARY:Amazing Americans
DESCRIPTION:NO POLITICAL RHETORIC. NO ANGRY TALK SHOW HOSTS.\n​JUST REAL SPORTS STORIES OF INSPIRATION. \nJerry Schemmel is a longtime Denver based broadcaster. He did radio play by play for the Colorado Rockies from 2010 to 2019.  Prior to that he spent 18 years as the Radio Voice of the Denver Nuggets and two with the Minnesota Timberwolves. He is a plane crash survivor\, author of two books\, an attorney and a record setting cyclist.
URL:https://theacesportsradio.com/show/amazing-americans/2029-05-26/
LOCATION:Amazing Americans Radio Network
ATTACH;FMTTYPE=image/jpeg:https://theacesportsradio.com/wp-content/uploads/2023/07/Amazing-Americans.jpg
END:VEVENT
END:VCALENDAR